Workbook
Name anggaran: #REF!
Name id_daerah: #REF!
Name kode_urusan: #REF!
Name nama_bidang_urusan: #REF!
Name nama_daerah: #REF!

Sheet Ringkasan
D1: RINGKASAN APBD
D2: PROVINSI, KABUPATEN DAN KOTA SELURUH INDONESIA TAHUN ANGGARAN 2025 | AE2: BELANJA PEGAWAI | BD2: PENGELUARAN PEMBIAYAAN | BF2: PENYERTAAN MODAL DAERAH
B4: NO | D4: DAERAH | E4: NOMOR PERDA | F4: TANGGAL PERDA | G4: Pendapatan | H4: PENDAPATAN ASLI DAERAH (PAD) | I4: Pajak Daerah | J4: Retribusi Daerah | K4: Hasil Pengelolaan Kekayaan Daerah yang Dipisahkan | L4: Lain-lain PAD yang Sah | M4: PENDAPATAN TRANSFER | N4: Pendapatan Transfer Pemerintah Pusat | O4: Dana Otonomi Khusus dan Dana Tambahann Infrastruktur | P4: Dana Keistimewaan | Q4: Dana Desa | R4: Insentif Fiskal | S4: Dana Bagi Hasil (DBH) | T4: Dana Alokasi Umum (DAU) | U4: Dana Alokasi Khusus (DAK) | V4: Pendapatan Transfer Antar Daerah | W4: Pendapatan Bagi Hasil | X4: Bantuan Keuangan | Y4: LAIN-LAIN PENDAPATAN DAERAH YANG SAH | Z4: HIBAH | AA4: Dana Darurat | AB4: Lain-lain Pendapatan Sesuai dengan Ketentuan Peraturan Perundang-Undangan | AC4: BELANJA DAERAH | AD4: BELANJA OPERASI | AE4: Belanja Pegawai | AF4: Belanja Barang dan Jasa | AG4: Belanja Bunga | AH4: Belanja Subsidi | AI4: Belanja Hibah | AJ4: Belanja Bantuan Sosial | AK4: BELANJA MODAL | AL4: Belanja Modal Tanah | AM4: Belanja Modal Peralatan dan Mesin | AN4: Belanja Modal Gedung dan Bangunan | AO4: Belanja Modal Jalan, Jaringan, dan Irigasi | AP4: Belanja Modal Aset Tetap Lainnya | AQ4: Belanja Modal Aset Lainnya | AR4: BELANJA TIDAK TERDUGA | AS4: Belanja Tidak Terduga | AT4: BELANJA TRANSFER | AU4: Belanja Bagi Hasil | AV4: Belanja Bantuan Keuangan | AW4: PENERIMAAN PEMBIAYAAN | AX4: Sisa Lebih Perhitungan Anggaran Tahun Sebelumnya | AY4: Pencairan Dana Cadangan | AZ4: Hasil Penjualan Kekayaan Daerah yang Dipisahkan | BA4: Penerimaan Pinjaman Daerah | BB4: Penerimaan Kembali Pemberian Pinjaman Daerah | BC4: Penerimaan Pembiayaan Lainnya Sesuai dengan Ketentuan Peraturan Perundang-Undangan | BD4: PENGELUARAN PEMBIAYAAN | BE4: Pembentukan Dana Cadangan | BF4: Penyertaan Modal Daerah | BG4: Pembayaran Cicilan Pokok Utang yang Jatuh Tempo | BH4: Pemberian Pinjaman Daerah | BI4: Pengeluaran Pembiayaan Lainnya sesuai dengan Ketentuan Peraturan Perundang-Undangan | BJ4: SURPLUS/ (DEFISIT) | BK4: Pembiayaan Netto | BL4: SILPA | BM4: Tepat Waktu | BN4: Tidak Tepat Waktu | BO4: Belum Terinformasi
G5: 4 | H5: 4.1 | I5: 4.1.01 | J5: 4.1.02 | K5: 4.1.03 | L5: 4.1.04 | M5: 4.2 | N5: 4.2.01 | O5: 4.2.01.03 | P5: 4.2.01.04 | Q5: 4.2.01.05 | R5: 4.2.01.06 | S5: 4.2.01.07 | T5: 4.2.01.08 | U5: 4.2.01.09 | V5: 4.2.02 | W5: 4.2.02.01 | X5: 4.2.02.02 | Y5: 4.3 | Z5: 4.3.01 | AA5: 4.3.02 | AB5: 4.3.03 | AC5: 5 | AD5: 5.1 | AE5: 5.1.01 | AF5: 5.1.02 | AG5: 5.1.03 | AH5: 5.1.04 | AI5: 5.1.05 | AJ5: 5.1.06 | AK5: 5.2 | AL5: 5.2.01 | AM5: 5.2.02 | AN5: 5.2.03 | AO5: 5.2.04 | AP5: 5.2.05 | AQ5: 5.2.06 | AR5: 5.3 | AS5: 5.3.01 | AT5: 5.4 | AU5: 5.4.01 | AV5: 5.4.02 | AW5: 6.1 | AX5: 6.1.01 | AY5: 6.1.02 | AZ5: 6.1.03 | BA5: 6.1.04 | BB5: 6.1.05 | BC5: 6.1.06 | BD5: 6.2 | BE5: 6.2.01 | BF5: 6.2.02 | BG5: 6.2.03 | BH5: 6.2.04 | BI5: 6.2.05
B6: 1 | D6: 2 | E6: 3 | F6: 4 | G6: 5 | H6: 6 | I6: 7 | J6: 8 | K6: 9 | L6: 10 | M6: 11 | N6: 12 | V6: 22 | W6: 23 | X6: 24 | Y6: 25 | Z6: 26 | AA6: 27 | AB6: 28 | AC6: 29 | AD6: 30 | AE6: 31 | AF6: 32 | AG6: 33 | AH6: 34 | AI6: 35 | AJ6: 36 | AK6: 37 | AL6: 38 | AM6: 39 | AN6: 40 | AO6: 41 | AP6: 42 | AQ6: 43 | AR6: 44 | AS6: 45 | AT6: 46 | AU6: 47 | AV6: 48 | AW6: 49 | AX6: 50 | AY6: 51 | AZ6: 52 | BA6: 53 | BB6: 54 | BC6: 55 | BD6: 56 | BE6: 57 | BF6: 58 | BG6: 59 | BH6: 60 | BI6: 61 | BJ6: 62 | BK6: 63 | BL6: 64
D7: 2025 | E7: 2025 | F7: 2025 | G7: 2025 | H7: 2025 | I7: 2025 | J7: 2025 | K7: 2025 | L7: 2025 | M7: 2025 | N7: 2025 | V7: 2025 | W7: 2025 | X7: 2025 | Y7: 2025 | Z7: 2025 | AA7: 2025 | AB7: 2025 | AC7: 2025 | AD7: 2025 | AE7: 2025 | AF7: 2025 | AG7: 2025 | AH7: 2025 | AI7: 2025 | AJ7: 2025 | AK7: 2025 | AL7: 2025 | AM7: 2025 | AN7: 2025 | AO7: 2025 | AP7: 2025 | AQ7: 2025 | AR7: 2025 | AS7: 2025 | AT7: 2025 | AU7: 2025 | AV7: 2025 | AW7: 2025 | AX7: 2025 | AY7: 2025 | AZ7: 2025 | BA7: 2025 | BB7: 2025 | BC7: 2025 | BD7: 2025 | BE7: 2025 | BF7: 2025 | BG7: 2025 | BH7: 2025 | BI7: 2025 | BJ7: 2025 | BK7: 2025 | BL7: 2025 | BM7: 2025 | BN7: 2025 | BO7: 2025 | BP7: 529
A8: Aceh | B8: I | C8: I | D8: Prov Aceh | E8: 1 Tahun 2025 | F8: 45698 | G8: 10796565460935 | H8: 2859122172935 | I8: 1722008235092 | J8: 700477633788 | K8: 265781801886 | L8: 170854502169 | M8: 7935475288000 | N8: 7935475288000 | O8: 4309582640000 | P8: 0 | Q8: 0 | R8: 0 | S8: 306356158000 | T8: 2208557679000 | U8: 1110978811000 | V8: 0 | W8: 0 | X8: 0 | Y8: 1968000000 | Z8: 1968000000 | AA8: 0 | AB8: 0 | AC8: 1.100644e+13 | AD8: 8.1943535e+12 | AE8: 3.6807062e+12 | AF8: 3.8771964e+12 | AG8: 0 | AH8: 4764000000 | AI8: 380328997012 | AJ8: 251357824071 | AK8: 1.0042344e+12 | AL8: 13871085046 | AM8: 4.2971992e+11 | AN8: 321133363064 | AO8: 1.383795e+11 | AP8: 100915554045 | AQ8: 215000000 | AR8: 4.54241e+10 | AS8: 4.54241e+10 | AT8: 1762427725532 | AU8: 657454350940 | AV8: 1104973374592 | AW8: 261874262395 | AX8: 261874262395 | AY8: 0 | AZ8: 0 | BA8: 0 | BB8: 0 | BC8: 0 | BD8: 52000000000 | BE8: 52000000000 | BF8: 0 | BG8: 0 | BH8: 0 | BI8: 0 | BJ8: -2.0987426e+11 | BK8: 209874262395 | BL8: 0.001953125 | BM8: 0 | BN8: 1 | BP8: 1
A9: Kab. Aceh Barat Daya | B9: 1 | C9: 1 | D9: Kab. Aceh Barat Daya | E9: 01 Tahun 2025 | F9: 45670.654 | G9: 974012752434 | H9: 131155143595 | I9: 30904567724 | J9: 1647161360 | K9: 2300000000 | L9: 96303414511 | M9: 823063545563 | N9: 799988817000 | O9: 39897586000 | P9: 0 | Q9: 113551230000 | R9: 6911270000 | S9: 20301344000 | T9: 469876032000 | U9: 149451355000 | V9: 23074728563 | W9: 23074728563 | X9: 0 | Y9: 19794063276 | Z9: 0 | AA9: 0 | AB9: 19794063276 | AC9: 1.0608648e+12 | AD9: 708369815977 | AE9: 4.0732801e+11 | AF9: 2.6563895e+11 | AG9: 0 | AH9: 0 | AI9: 29267363193 | AJ9: 6135484903 | AK9: 133367722248 | AL9: 0 | AM9: 44059684153 | AN9: 34185061866 | AO9: 52507303420 | AP9: 2415672809 | AQ9: 200000000 | AR9: 54543010882 | AS9: 54543010882 | AT9: 1.6458422e+11 | AU9: 2251718376 | AV9: 1.623325e+11 | AW9: 89852012149 | AX9: 89852012149 | AY9: 0 | AZ9: 0 | BA9: 0 | BB9: 0 | BC9: 0 | BD9: 3000000000 | BE9: 0 | BF9: 3000000000 | BG9: 0 | BH9: 0 | BI9: 0 | BJ9: -8.6852012e+10 | BK9: 86852012149 | BL9: 0.00012207031 | BM9: 0 | BN9: 1 | BP9: 1
A10: Kab. Aceh Barat | B10: 2 | C10: 2 | D10: Kab. Aceh Barat | E10: 04 Tahun 2024 | F10: 45657.635 | G10: 1428113548112 | H10: 190694318723 | I10: 49712540645 | J10: 14712302000 | K10: 4000000000 | L10: 122269476078 | M10: 1221428017133 | N10: 1192992870950 | O10: 45234436000 | P10: 0 | Q10: 226338041000 | R10: 0 | S10: 103612213000 | T10: 617451119000 | U10: 200357061950 | V10: 28435146183 | W10: 28435146183 | X10: 0 | Y10: 15991212256 | Z10: 0 | AA10: 0 | AB10: 15991212256 | AC10: 1566167116074 | AD10: 9.6636021e+11 | AE10: 6.1835983e+11 | AF10: 3.1469821e+11 | AG10: 0 | AH10: 1043429800 | AI10: 20938436521 | AJ10: 11320305700 | AK10: 2.7118735e+11 | AL10: 0 | AM10: 4.9067608e+10 | AN10: 60157445656 | AO10: 161062698222 | AP10: 899600000 | AQ10: 0 | AR10: 11208200064 | AS10: 11208200064 | AT10: 317411358376 | AU10: 6442484265 | AV10: 310968874111 | AW10: 138053567962 | AX10: 138053567962 | AY10: 0 | AZ10: 0 | BA10: 0 | BB10: 0 | BC10: 0 | BD10: 0 | BE10: 0 | BF10: 0 | BG10: 0 | BH10: 0 | BI10: 0 | BJ10: -138053567962 | BK10: 138053567962 | BL10: 0 | BM10: 1 | BN10: 0 | BP10: 1
A11: Kab. Aceh Besar | B11: 3 | C11: 3 | D11: Kab. Aceh Besar | E11: 03 Tahun 2024 | F11: 45657.904 | G11: 1830294196100 | H11: 197677700000 | I11: 126547602550 | J11: 28399200000 | K11: 6500000000 | L11: 36230897450 | M11: 1604716496100 | N11: 1571652854000 | O11: 50890645000 | P11: 0 | Q11: 422529527000 | R11: 0 | S11: 22883896000 | T11: 821340165000 | U11: 254008621000 | V11: 33063642100 | W11: 33063642100 | X11: 0 | Y11: 27900000000 | Z11: 0 | AA11: 0 | AB11: 27900000000 | AC11: 1854294196100 | AD11: 1172106079576 | AE11: 658134950816 | AF11: 438710968340 | AG11: 0 | AH11: 445000000 | AI11: 50713378714 | AJ11: 24101781706 | AK11: 123510001956 | AL11: 0 | AM11: 47461873015 | AN11: 42968123538 | AO11: 32474913403 | AP11: 605092000 | AQ11: 0 | AR11: 7500000000 | AS11: 7500000000 | AT11: 551178114568 | AU11: 15562393233 | AV11: 535615721335 | AW11: 25000000000 | AX11: 25000000000 | AY11: 0 | AZ11: 0 | BA11: 0 | BB11: 0 | BC11: 0 | BD11: 1000000000 | BE11: 0 | BF11: 1000000000 | BG11: 0 | BH11: 0 | BI11: 0 | BJ11: -24000000000 | BK11: 24000000000 | BL11: 0 | BM11: 1 | BN11: 0 | BP11: 1
A12: Kab. Aceh Jaya | B12: 4 | C12: 4 | D12: Kab. Aceh Jaya | E12: 06 Tahun 2024 | F12: 45657 | G12: 914535686831 | H12: 92272663078 | I12: 21223528670 | J12: 6081573000 | K12: 6836161273 | L12: 58131400135 | M12: 813697012753 | N12: 793539182000 | O12: 42710023000 | P12: 0 | Q12: 121697824000 | R12: 0 | S12: 19369506000 | T12: 450574384000 | U12: 159187445000 | V12: 20157830753 | W12: 20157830753 | X12: 0 | Y12: 8566011000 | Z12: 0 | AA12: 0 | AB12: 8566011000 | AC12: 920285039493 | AD12: 586681447719 | AE12: 375416424016 | AF12: 180271053395 | AG12: 0 | AH12: 503249000 | AI12: 18797019554 | AJ12: 11693701754 | AK12: 159790747307 | AL12: 1377600000 | AM12: 12754838354 | AN12: 52113994708 | AO12: 92340563445 | AP12: 1201750800 | AQ12: 2000000 | AR12: 2500000000 | AS12: 2500000000 | AT12: 171312844467 | AU12: 2380510167 | AV12: 168932334300 | AW12: 7249352662 | AX12: 7249352662 | AY12: 0 | AZ12: 0 | BA12: 0 | BB12: 0 | BC12: 0 | BD12: 1500000000 | BE12: 0 | BF12: 1500000000 | BG12: 0 | BH12: 0 | BI12: 0 | BJ12: -5749352662 | BK12: 5749352662 | BL12: 0 | BM12: 1 | BN12: 0 | BP12: 1
A13: Kab. Aceh Selatan | B13: 5 | C13: 5 | D13: Kab. Aceh Selatan | E13: 1 Tahun 2025 | F13: 45692 | G13: 1463636968352 | H13: 231414664463 | I13: 48510125963 | J13: 20740538500 | K13: 4200000000 | L13: 157964000000 | M13: 1213422303889 | N13: 1179314906000 | O13: 46178272000 | P13: 0 | Q13: 198440845000 | R13: 0 | S13: 15720236000 | T13: 661320354000 | U13: 257655199000 | V13: 34107397889 | W13: 34107397889 | X13: 0 | Y13: 18800000000 | Z13: 0 | AA13: 0 | AB13: 18800000000 | AC13: 1479904364638 | AD13: 1037721194683 | AE13: 570327682852 | AF13: 392879564444 | AG13: 0 | AH13: 633120000 | AI13: 66670618387 | AJ13: 7210209000 | AK13: 158169754884 | AL13: 0 | AM13: 14334193545 | AN13: 37463551460 | AO13: 105837009879 | AP13: 210000000 | AQ13: 325000000 | AR13: 10250310871 | AS13: 10250310871 | AT13: 273763104200 | AU13: 7899347600 | AV13: 265863756600 | AW13: 18267396286 | AX13: 18267396286 | AY13: 0 | AZ13: 0 | BA13: 0 | BB13: 0 | BC13: 0 | BD13: 2000000000 | BE13: 0 | BF13: 2000000000 | BG13: 0 | BH13: 0 | BI13: 0 | BJ13: -16267396286 | BK13: 16267396286 | BL13: 0 | BM13: 0 | BN13: 1 | BP13: 1
A14: Kab. Aceh Singkil | B14: 6 | C14: 6 | D14: Kab. Aceh Singkil | G14: 0 | H14: 0 | I14: 0 | J14: 0 | K14: 0 | L14: 0 | M14: 0 | N14: 0 | O14: 0 | P14: 0 | Q14: 0 | R14: 0 | S14: 0 | T14: 0 | U14: 0 | V14: 0 | W14: 0 | X14: 0 | Y14: 0 | Z14: 0 | AA14: 0 | AB14: 0 | AC14: 0 | AD14: 0 | AE14: 0 | AF14: 0 | AG14: 0 | AH14: 0 | AI14: 0 | AJ14: 0 | AK14: 0 | AL14: 0 | AM14: 0 | AN14: 0 | AO14: 0 | AP14: 0 | AQ14: 0 | AR14: 0 | AS14: 0 | AT14: 0 | AU14: 0 | AV14: 0 | AW14: 0 | AX14: 0 | AY14: 0 | AZ14: 0 | BA14: 0 | BB14: 0 | BC14: 0 | BD14: 0 | BE14: 0 | BF14: 0 | BG14: 0 | BH14: 0 | BI14: 0 | BJ14: 0 | BK14: 0 | BL14: 0 | BM14: 0 | BN14: 0 | BP14: 0
A15: Kab. Aceh Tamiang | B15: 7 | C15: 7 | D15: Kab. Aceh Tamiang | G15: 0 | H15: 0 | I15: 0 | J15: 0 | K15: 0 | L15: 0 | M15: 0 | N15: 0 | O15: 0 | P15: 0 | Q15: 0 | R15: 0 | S15: 0 | T15: 0 | U15: 0 | V15: 0 | W15: 0 | X15: 0 | Y15: 0 | Z15: 0 | AA15: 0 | AB15: 0 | AC15: 0 | AD15: 0 | AE15: 0 | AF15: 0 | AG15: 0 | AH15: 0 | AI15: 0 | AJ15: 0 | AK15: 0 | AL15: 0 | AM15: 0 | AN15: 0 | AO15: 0 | AP15: 0 | AQ15: 0 | AR15: 0 | AS15: 0 | AT15: 0 | AU15: 0 | AV15: 0 | AW15: 0 | AX15: 0 | AY15: 0 | AZ15: 0 | BA15: 0 | BB15: 0 | BC15: 0 | BD15: 0 | BE15: 0 | BF15: 0 | BG15: 0 | BH15: 0 | BI15: 0 | BJ15: 0 | BK15: 0 | BL15: 0 | BM15: 0 | BN15: 0 | BP15: 0
A16: Kab. Aceh Tengah | B16: 8 | C16: 8 | D16: Kab. Aceh Tengah | E16: 01 Tahun 2025 | F16: 45672.699 | G16: 1386890145894 | H16: 181170459722 | I16: 34556456962 | J16: 10306440760 | K16: 6600000000 | L16: 129707562000 | M16: 1188719686172 | N16: 1161526635731 | O16: 47855883000 | P16: 0 | Q16: 215434104000 | R16: 7198697000 | S16: 26584919000 | T16: 646509665000 | U16: 217943367731 | V16: 27193050441 | W16: 27193050441 | X16: 0 | Y16: 17000000000 | Z16: 1000000000 | AA16: 0 | AB16: 16000000000 | AC16: 1427439692114 | AD16: 9.8817883e+11 | AE16: 6.6874754e+11 | AF16: 2.5990465e+11 | AG16: 0 | AH16: 455000000 | AI16: 34730884493 | AJ16: 24340751601 | AK16: 1.491877e+11 | AL16: 0 | AM16: 2.8356275e+10 | AN16: 17468934880 | AO16: 98897475609 | AP16: 4095019300 | AQ16: 370000000 | AR16: 5000000000 | AS16: 5000000000 | AT16: 285073161567 | AU16: 2625337500 | AV16: 282447824067 | AW16: 40549546220 | AX16: 40549546220 | AY16: 0 | AZ16: 0 | BA16: 0 | BB16: 0 | BC16: 0 | BD16: 0 | BE16: 0 | BF16: 0 | BG16: 0 | BH16: 0 | BI16: 0 | BJ16: -40549546220 | BK16: 40549546220 | BL16: 0 | BM16: 0 | BN16: 1 | BP16: 1
A17: Kab. Aceh Tenggara | B17: 9 | C17: 9 | D17: Kab. Aceh Tenggara | G17: 0 | H17: 0 | I17: 0 | J17: 0 | K17: 0 | L17: 0 | M17: 0 | N17: 0 | O17: 0 | P17: 0 | Q17: 0 | R17: 0 | S17: 0 | T17: 0 | U17: 0 | V17: 0 | W17: 0 | X17: 0 | Y17: 0 | Z17: 0 | AA17: 0 | AB17: 0 | AC17: 0 | AD17: 0 | AE17: 0 | AF17: 0 | AG17: 0 | AH17: 0 | AI17: 0 | AJ17: 0 | AK17: 0 | AL17: 0 | AM17: 0 | AN17: 0 | AO17: 0 | AP17: 0 | AQ17: 0 | AR17: 0 | AS17: 0 | AT17: 0 | AU17: 0 | AV17: 0 | AW17: 0 | AX17: 0 | AY17: 0 | AZ17: 0 | BA17: 0 | BB17: 0 | BC17: 0 | BD17: 0 | BE17: 0 | BF17: 0 | BG17: 0 | BH17: 0 | BI17: 0 | BJ17: 0 | BK17: 0 | BL17: 0 | BM17: 0 | BN17: 0 | BP17: 0
A18: Kab. Aceh Timur | B18: 10 | C18: 10 | D18: Kab. Aceh Timur | E18: 5 Tahun 2024 | F18: 45657.042 | G18: 2028488347538 | H18: 174297378336 | I18: 47208162810 | J18: 1423000000 | K18: 2000000000 | L18: 123666215526 | M18: 1806769255161 | N18: 1758771804000 | O18: 58432686000 | P18: 0 | Q18: 378883238000 | R18: 0 | S18: 67051330000 | T18: 904320199000 | U18: 350084351000 | V18: 47997451161 | W18: 47997451161 | X18: 0 | Y18: 47421714041 | Z18: 0 | AA18: 0 | AB18: 47421714041 | AC18: 2011924686338 | AD18: 1365566134145 | AE18: 907854628014 | AF18: 376828925264 | AG18: 0 | AH18: 960000000 | AI18: 63997231867 | AJ18: 15925349000 | AK18: 149762893051 | AL18: 6713300000 | AM18: 47266214098 | AN18: 14152163174 | AO18: 81067174779 | AP18: 564041000 | AQ18: 0 | AR18: 2205000000 | AS18: 2205000000 | AT18: 494390659142 | AU18: 4425127375 | AV18: 489965531767 | AW18: 0 | AX18: 0 | AY18: 0 | AZ18: 0 | BA18: 0 | BB18: 0 | BC18: 0 | BD18: 16563661200 | BE18: 0 | BF18: 0 | BG18: 16563661200 | BH18: 0 | BI18: 0 | BJ18: 16563661200 | BK18: -16563661200 | BL18: 0 | BM18: 1 | BN18: 0 | BP18: 1
A19: Kab. Aceh Utara | B19: 11 | C19: 11 | D19: Kab. Aceh Utara | E19: 10 Tahun 2024 | F19: 45657.697 | G19: 2633081333709 | H19: 236793813091 | I19: 66808788328 | J19: 3872051342 | K19: 15790901421 | L19: 150322072000 | M19: 2335075851256 | N19: 2286070982948 | O19: 57578885000 | P19: 0 | Q19: 614130396000 | R19: 0 | S19: 62286321948 | T19: 1042991734000 | U19: 509083646000 | V19: 49004868308 | W19: 48548868308 | X19: 456000000 | Y19: 61211669362 | Z19: 0 | AA19: 0 | AB19: 61211669362 | AC19: 2686025388669 | AD19: 1.6211368e+12 | AE19: 1.0565954e+12 | AF19: 4.9602326e+11 | AG19: 0 | AH19: 1080000000 | AI19: 4.5916121e+10 | AJ19: 21522051135 | AK19: 3.3191714e+11 | AL19: 0 | AM19: 1.517976e+11 | AN19: 4.2557442e+10 | AO19: 1.3576385e+11 | AP19: 1668237500 | AQ19: 130000000 | AR19: 3000000000 | AS19: 3000000000 | AT19: 729971401903 | AU19: 4930252143 | AV19: 725041149760 | AW19: 52944054960 | AX19: 52944054960 | AY19: 0 | AZ19: 0 | BA19: 0 | BB19: 0 | BC19: 0 | BD19: 0 | BE19: 0 | BF19: 0 | BG19: 0 | BH19: 0 | BI19: 0 | BJ19: -52944054960 | BK19: 52944054960 | BL19: 0 | BM19: 1 | BN19: 0 | BP19: 1
A20: Kab. Bener Meriah | B20: 12 | C20: 12 | D20: Kab. Bener Meriah | E20: 04 Tahun 2024 | F20: 45657 | G20: 1.0567441e+12 | H20: 86139785402 | I20: 7036360000 | J20: 5864011000 | K20: 3770585510 | L20: 69468828892 | M20: 9.535967e+11 | N20: 916638909000 | O20: 39919827000 | P20: 0 | Q20: 166731553000 | R20: 6995436000 | S20: 12705865000 | T20: 498122244000 | U20: 192163984000 | V20: 3.695779e+10 | W20: 3.695779e+10 | X20: 0 | Y20: 17007582747 | Z20: 57970000 | AA20: 0 | AB20: 16949612747 | AC20: 1.1217477e+12 | AD20: 7.2700165e+11 | AE20: 5.0647376e+11 | AF20: 198147561347 | AG20: 0 | AH20: 0 | AI20: 7918329300 | AJ20: 14462000000 | AK20: 137534528449 | AL20: 512000000 | AM20: 13751860851 | AN20: 30835008228 | AO20: 86317530900 | AP20: 3221128470 | AQ20: 2897000000 | AR20: 35600000000 | AS20: 35600000000 | AT20: 221611553000 | AU20: 450000000 | AV20: 221161553000 | AW20: 6.5003667e+10 | AX20: 6.5003667e+10 | AY20: 0 | AZ20: 0 | BA20: 0 | BB20: 0 | BC20: 0 | BD20: 0 | BE20: 0 | BF20: 0 | BG20: 0 | BH20: 0 | BI20: 0 | BJ20: -6.5003667e+10 | BK20: 6.5003667e+10 | BL20: 0 | BM20: 1 | BN20: 0 | BP20: 1
A21: Kab. Bireuen | B21: 13 | C21: 13 | D21: Kab. Bireun | E21: 1 TAHUN 2025 | F21: 45679 | G21: 2.0261437e+12 | H21: 236818905428 | I21: 73947532994 | J21: 12574660000 | K21: 5000000000 | L21: 145296712434 | M21: 1.7578248e+12 | N21: 1718533527000 | O21: 47263711000 | P21: 0 | Q21: 434655377000 | R21: 0 | S21: 15578597000 | T21: 913084526000 | U21: 307951316000 | V21: 3.9291307e+10 | W21: 3.9291307e+10 | X21: 0 | Y21: 31500000000 | Z21: 0 | AA21: 0 | AB21: 31500000000 | AC21: 2.0603843e+12 | AD21: 1.3511655e+12 | AE21: 8.478708e+11 | AF21: 397181137616 | AG21: 0 | AH21: 442850000 | AI21: 79385990869 | AJ21: 26284754980 | AK21: 170385555194 | AL21: 0 | AM21: 33781576880 | AN21: 66806572437 | AO21: 52791229477 | AP21: 17006176400 | AQ21: 0 | AR21: 2881174292 | AS21: 2881174292 | AT21: 535952008599 | AU21: 8392319299 | AV21: 527559689300 | AW21: 34240528881 | AX21: 34240528881 | AY21: 0 | AZ21: 0 | BA21: 0 | BB21: 0 | BC21: 0 | BD21: 0 | BE21: 0 | BF21: 0 | BG21: 0 | BH21: 0 | BI21: 0 | BJ21: -34240528881 | BK21: 34240528881 | BL21: 0 | BM21: 0 | BN21: 1 | BP21: 1
A22: Kab. Gayo Lues | B22: 14 | C22: 14 | D22: Kab. Gayo Lues | E22: 01 Tahun 2025 | F22: 45677 | G22: 872115827565 | H22: 84267214201 | I22: 26823029699 | J22: 44227129591 | K22: 4563729067 | L22: 8653325844 | M22: 787848613364 | N22: 760716815000 | O22: 45117551000 | P22: 0 | Q22: 105476181000 | R22: 0 | S22: 18493823000 | T22: 472988687000 | U22: 118640573000 | V22: 27131798364 | W22: 27131798364 | X22: 0 | Y22: 0 | Z22: 0 | AA22: 0 | AB22: 0 | AC22: 872115827565 | AD22: 586153880312 | AE22: 3.2865974e+11 | AF22: 2.2552357e+11 | AG22: 0 | AH22: 657332000 | AI22: 27576708200 | AJ22: 3736525844 | AK22: 119097306783 | AL22: 25000000 | AM22: 14228852132 | AN22: 6581987000 | AO22: 96760920931 | AP22: 1500546720 | AQ22: 0 | AR22: 7513848000 | AS22: 7513848000 | AT22: 159350792470 | AU22: 2763092970 | AV22: 156587699500 | AW22: 0 | AX22: 0 | AY22: 0 | AZ22: 0 | BA22: 0 | BB22: 0 | BC22: 0 | BD22: 0 | BE22: 0 | BF22: 0 | BG22: 0 | BH22: 0 | BI22: 0 | BJ22: 0 | BK22: 0 | BL22: 0 | BM22: 0 | BN22: 1 | BP22: 1
A23: Kab. Nagan Raya | B23: 15 | C23: 15 | D23: Kab. Nagan Raya | E23: 6 Tahun 2024 | F23: 45649 | G23: 1176189094426 | H23: 117637122558 | I23: 27785358369 | J23: 923257475 | K23: 2037246764 | L23: 86891259950 | M23: 1058551971868 | N23: 1020515989133 | O23: 42403402000 | P23: 0 | Q23: 163530670000 | R23: 0 | S23: 78331762133 | T23: 560446726000 | U23: 175803429000 | V23: 38035982735 | W23: 38035982735 | X23: 0 | Y23: 0 | Z23: 0 | AA23: 0 | AB23: 0 | AC23: 1238412307583 | AD23: 8.562266e+11 | AE23: 517196216304 | AF23: 3.2671426e+11 | AG23: 0 | AH23: 922500000 | AI23: 902627685 | AJ23: 10491000000 | AK23: 123159367796 | AL23: 0 | AM23: 18757540938 | AN23: 31200958474 | AO23: 72497203384 | AP23: 617565000 | AQ23: 86100000 | AR23: 14100000000 | AS23: 14100000000 | AT23: 244926336641 | AU23: 2436193366 | AV23: 242490143275 | AW23: 62223213157 | AX23: 62223213157 | AY23: 0 | AZ23: 0 | BA23: 0 | BB23: 0 | BC23: 0 | BD23: 0 | BE23: 0 | BF23: 0 | BG23: 0 | BH23: 0 | BI23: 0 | BJ23: -62223213157 | BK23: 62223213157 | BL23: 0 | BM23: 1 | BN23: 0 | BP23: 1
A24: Kab. Pidie Jaya | B24: 16 | C24: 16 | D24: Kab. Pidie Jaya | E24: 6 Tahun 2024 | F24: 45657.499 | G24: 961017279820 | H24: 136743500000 | I24: 9843000000 | J24: 4950500000 | K24: 2550000000 | L24: 119400000000 | M24: 812014050865 | N24: 789178595000 | O24: 37066109000 | P24: 0 | Q24: 159206462000 | R24: 0 | S24: 12081318000 | T24: 447774800000 | U24: 133049906000 | V24: 22835455865 | W24: 22835455865 | X24: 0 | Y24: 12259728955 | Z24: 0 | AA24: 0 | AB24: 12259728955 | AC24: 974917279820 | AD24: 658300641149 | AE24: 349501803740 | AF24: 287213257543 | AG24: 0 | AH24: 0 | AI24: 11471779866 | AJ24: 10113800000 | AK24: 112015952831 | AL24: 7506000000 | AM24: 17566196240 | AN24: 33487704933 | AO24: 51078763708 | AP24: 2377287950 | AQ24: 0 | AR24: 1250000000 | AS24: 1250000000 | AT24: 203350685840 | AU24: 0 | AV24: 203350685840 | AW24: 15000000000 | AX24: 15000000000 | AY24: 0 | AZ24: 0 | BA24: 0 | BB24: 0 | BC24: 0 | BD24: 1100000000 | BE24: 0 | BF24: 1100000000 | BG24: 0 | BH24: 0 | BI24: 0 | BJ24: -13900000000 | BK24: 13900000000 | BL24: 0 | BM24: 1 | BN24: 0 | BP24: 1
A25: Kab. Pidie | B25: 17 | C25: 17 | D25: Kab. Pidie | E25: 05 Tahun 2024 | F25: 45657.526 | G25: 2120314631939 | H25: 240995426702 | I25: 39170516899 | J25: 4197248080 | K25: 2429620214 | L25: 195198041509 | M25: 1845171073237 | N25: 1815338271000 | O25: 52322599000 | P25: 0 | Q25: 502708798000 | R25: 0 | S25: 21426448000 | T25: 915932549000 | U25: 322947877000 | V25: 29832802237 | W25: 29832802237 | X25: 0 | Y25: 34148132000 | Z25: 0 | AA25: 0 | AB25: 34148132000 | AC25: 2137280020659 | AD25: 1.3624309e+12 | AE25: 8.8626319e+11 | AF25: 3.8207561e+11 | AG25: 0 | AH25: 487500000 | AI25: 8.452737e+10 | AJ25: 9077256848 | AK25: 1.6818984e+11 | AL25: 1250000000 | AM25: 3.0062303e+10 | AN25: 4.9406328e+10 | AO25: 86211770251 | AP25: 1259443000 | AQ25: 0 | AR25: 8000000000 | AS25: 8000000000 | AT25: 598659251863 | AU25: 2899453863 | AV25: 595759798000 | AW25: 16965388720 | AX25: 16965388720 | AY25: 0 | AZ25: 0 | BA25: 0 | BB25: 0 | BC25: 0 | BD25: 0 | BE25: 0 | BF25: 0 | BG25: 0 | BH25: 0 | BI25: 0 | BJ25: -16965388720 | BK25: 16965388720 | BL25: 0 | BM25: 1 | BN25: 0 | BP25: 1
A26: Kab. Simeulue | B26: 18 | C26: 18 | D26: Kab. Simeulue | E26: 4 Tahun 2024 | F26: 45657 | G26: 8.9383842e+11 | H26: 8.7855351e+10 | I26: 5765000000 | J26: 9442260400 | K26: 5000000000 | L26: 6.7648091e+10 | M26: 795554516288 | N26: 766638754000 | O26: 38154584000 | P26: 0 | Q26: 102841865000 | R26: 0 | S26: 14072005000 | T26: 467355461000 | U26: 144214839000 | V26: 28915762288 | W26: 28741762288 | X26: 174000000 | Y26: 10428548227 | Z26: 0 | AA26: 0 | AB26: 10428548227 | AC26: 9.2631568e+11 | AD26: 6.2689546e+11 | AE26: 3.834437e+11 | AF26: 2.2379718e+11 | AG26: 0 | AH26: 1000000000 | AI26: 4157985069 | AJ26: 14496586534 | AK26: 9.7756816e+10 | AL26: 0 | AM26: 1.49674e+10 | AN26: 1621901500 | AO26: 74217185036 | AP26: 6950328793 | AQ26: 0 | AR26: 4.8118345e+10 | AS26: 4.8118345e+10 | AT26: 153545061904 | AU26: 2871709804 | AV26: 150673352100 | AW26: 3.2977264e+10 | AX26: 3.2977264e+10 | AY26: 0 | AZ26: 0 | BA26: 0 | BB26: 0 | BC26: 0 | BD26: 500000000 | BE26: 0 | BF26: 500000000 | BG26: 0 | BH26: 0 | BI26: 0 | BJ26: -3.2477264e+10 | BK26: 3.2477264e+10 | BL26: 7.2479248e-05 | BM26: 1 | BN26: 0 | BP26: 1
A27: Kota Langsa | B27: 19 | C27: 19 | D27: Kota Langsa | G27: 0 | H27: 0 | I27: 0 | J27: 0 | K27: 0 | L27: 0 | M27: 0 | N27: 0 | O27: 0 | P27: 0 | Q27: 0 | R27: 0 | S27: 0 | T27: 0 | U27: 0 | V27: 0 | W27: 0 | X27: 0 | Y27: 0 | Z27: 0 | AA27: 0 | AB27: 0 | AC27: 0 | AD27: 0 | AE27: 0 | AF27: 0 | AG27: 0 | AH27: 0 | AI27: 0 | AJ27: 0 | AK27: 0 | AL27: 0 | AM27: 0 | AN27: 0 | AO27: 0 | AP27: 0 | AQ27: 0 | AR27: 0 | AS27: 0 | AT27: 0 | AU27: 0 | AV27: 0 | AW27: 0 | AX27: 0 | AY27: 0 | AZ27: 0 | BA27: 0 | BB27: 0 | BC27: 0 | BD27: 0 | BE27: 0 | BF27: 0 | BG27: 0 | BH27: 0 | BI27: 0 | BJ27: 0 | BK27: 0 | BL27: 0 | BM27: 0 | BN27: 0 | BP27: 0
A28: Kota Banda Aceh | B28: 20 | C28: 20 | D28: Kota Banda Aceh | E28: 07 Tahun 2024 | F28: 45657.412 | G28: 1469160993273 | H28: 403774206214 | I28: 200599971256 | J28: 29638361674 | K28: 4213009121 | L28: 169322864163 | M28: 1049125296779 | N28: 1022179369100 | O28: 55719859100 | P28: 0 | Q28: 78956127000 | R28: 15527812000 | S28: 42516738000 | T28: 603765164000 | U28: 225693669000 | V28: 26945927679 | W28: 26945927679 | X28: 0 | Y28: 16261490280 | Z28: 0 | AA28: 0 | AB28: 16261490280 | AC28: 1476360993273 | AD28: 1173900119279 | AE28: 568374003483 | AF28: 559092799816 | AG28: 1600000000 | AH28: 1460000000 | AI28: 39656505980 | AJ28: 3716810000 | AK28: 155146206009 | AL28: 1731000000 | AM28: 66387819417 | AN28: 61244462442 | AO28: 21867330350 | AP28: 3915593800 | AQ28: 0 | AR28: 500000000 | AS28: 500000000 | AT28: 146814667985 | AU28: 3145350785 | AV28: 143669317200 | AW28: 10000000000 | AX28: 10000000000 | AY28: 0 | AZ28: 0 | BA28: 0 | BB28: 0 | BC28: 0 | BD28: 2800000000 | BE28: 0 | BF28: 0 | BG28: 2800000000 | BH28: 0 | BI28: 0 | BJ28: -7200000000 | BK28: 7200000000 | BL28: 0 | BM28: 1 | BN28: 0 | BP28: 1
A29: Kota Lhokseumawe | B29: 21 | C29: 21 | D29: Kota Lhokseumawe | E29: 01 Tahun 2025 | F29: 45671.276 | G29: 822149476344 | H29: 80895025543 | I29: 50871365493 | J29: 3451500000 | K29: 15500000000 | L29: 11072160050 | M29: 727907832958 | N29: 697608856000 | O29: 35636650000 | P29: 0 | Q29: 60814139000 | R29: 7385226000 | S29: 20977415000 | T29: 468844911000 | U29: 103950515000 | V29: 30298976958 | W29: 30298976958 | X29: 0 | Y29: 13346617843 | Z29: 0 | AA29: 0 | AB29: 13346617843 | AC29: 833801374315 | AD29: 630482353960 | AE29: 404519983386 | AF29: 187294160840 | AG29: 0 | AH29: 1005000000 | AI29: 16282039744 | AJ29: 21381169990 | AK29: 76604262935 | AL29: 0 | AM29: 24253740216 | AN29: 21805390829 | AO29: 23335973890 | AP29: 7209158000 | AQ29: 0 | AR29: 2000000000 | AS29: 2000000000 | AT29: 124714757420 | AU29: 7673581619 | AV29: 117041175801 | AW29: 12651897971 | AX29: 12651897971 | AY29: 0 | AZ29: 0 | BA29: 0 | BB29: 0 | BC29: 0 | BD29: 1000000000 | BE29: 0 | BF29: 1000000000 | BG29: 0 | BH29: 0 | BI29: 0 | BJ29: -11651897971 | BK29: 11651897971 | BL29: 0 | BM29: 0 | BN29: 1 | BP29: 1
A30: Kota Sabang | B30: 22 | C30: 22 | D30: Kota Sabang | E30: 06 Tahun 2024 | F30: 45657.675 | G30: 580746670626 | H30: 62677684772 | I30: 12968107998 | J30: 26898020000 | K30: 1452242234 | L30: 21359314540 | M30: 515482380211 | N30: 497675340000 | O30: 30667402000 | P30: 0 | Q30: 15258298000 | R30: 13677689000 | S30: 9747377000 | T30: 373726120000 | U30: 54598454000 | V30: 17807040211 | W30: 17807040211 | X30: 0 | Y30: 2586605643 | Z30: 0 | AA30: 0 | AB30: 2586605643 | AC30: 598246670626 | AD30: 489091576115 | AE30: 274339109845 | AF30: 197183413546 | AG30: 0 | AH30: 1630012000 | AI30: 8508787724 | AJ30: 7430253000 | AK30: 51467379861 | AL30: 0 | AM30: 14322983763 | AN30: 28239239098 | AO30: 8662157000 | AP30: 243000000 | AQ30: 0 | AR30: 2100000000 | AS30: 2100000000 | AT30: 55587714650 | AU30: 989802750 | AV30: 54597911900 | AW30: 18000000000 | AX30: 18000000000 | AY30: 0 | AZ30: 0 | BA30: 0 | BB30: 0 | BC30: 0 | BD30: 500000000 | BE30: 0 | BF30: 500000000 | BG30: 0 | BH30: 0 | BI30: 0 | BJ30: -17500000000 | BK30: 17500000000 | BL30: 0 | BM30: 1 | BN30: 0 | BP30: 1
A31: Kota Subulussalam | B31: 23 | C31: 23 | D31: Kota Subulussalam | G31: 0 | H31: 0 | I31: 0 | J31: 0 | K31: 0 | L31: 0 | M31: 0 | N31: 0 | O31: 0 | P31: 0 | Q31: 0 | R31: 0 | S31: 0 | T31: 0 | U31: 0 | V31: 0 | W31: 0 | X31: 0 | Y31: 0 | Z31: 0 | AA31: 0 | AB31: 0 | AC31: 0 | AD31: 0 | AE31: 0 | AF31: 0 | AG31: 0 | AH31: 0 | AI31: 0 | AJ31: 0 | AK31: 0 | AL31: 0 | AM31: 0 | AN31: 0 | AO31: 0 | AP31: 0 | AQ31: 0 | AR31: 0 | AS31: 0 | AT31: 0 | AU31: 0 | AV31: 0 | AW31: 0 | AX31: 0 | AY31: 0 | AZ31: 0 | BA31: 0 | BB31: 0 | BC31: 0 | BD31: 0 | BE31: 0 | BF31: 0 | BG31: 0 | BH31: 0 | BI31: 0 | BJ31: 0 | BK31: 0 | BL31: 0 | BM31: 0 | BN31: 0 | BP31: 0
B32: Kab | C32: Kab | D32: Total Kabupaten | G32: 2.1765416e+13 | H32: 2.4259334e+12 | I32: 615842571613 | J32: 169361333508 | K32: 73578244249 | L32: 1.5671513e+12 | M32: 1.9017454e+13 | N32: 18531418912762 | O32: 691026199000 | P32: 0 | Q32: 3926156111000 | R32: 21105403000 | S32: 510499584081 | T32: 9890088645000 | U32: 3492542970681 | V32: 4.8603501e+11 | W32: 4.8540501e+11 | X32: 630000000 | Y32: 322028661864 | Z32: 1057970000 | AA32: 0 | AB32: 320970691864 | AC32: 2.2338078e+13 | AD32: 1.4614295e+13 | AE32: 9.0821737e+12 | AF32: 4.7656082e+12 | AG32: 0 | AH32: 8629980800 | AI32: 5.4697184e+11 | AJ32: 210911559005 | AK32: 2.4050327e+12 | AL32: 17383900000 | AM32: 5.3821402e+11 | AN32: 5.2100718e+11 | AO32: 1.2798256e+12 | AP32: 44591889742 | AQ32: 4010100000 | AR32: 2.1366989e+11 | AS32: 2.1366989e+11 | AT32: 5105080550016 | AU32: 66329939961 | AV32: 5038750610055 | AW32: 5.9832599e+11 | AX32: 5.9832599e+11 | AY32: 0 | AZ32: 0 | BA32: 0 | BB32: 0 | BC32: 0 | BD32: 25663661200 | BE32: 0 | BF32: 9100000000 | BG32: 16563661200 | BH32: 0 | BI32: 0 | BJ32: -5.7266233e+11 | BK32: 5.7266233e+11 | BL32: 0.00019454956 | BM32: 10 | BN32: 5
B33: Kota | C33: Kota | D33: Total Kota | G33: 2872057140243 | H33: 547346916529 | I33: 264439444747 | J33: 59987881674 | K33: 21165251355 | L33: 201754338753 | M33: 2292515509948 | N33: 2217463565100 | O33: 122023911100 | P33: 0 | Q33: 155028564000 | R33: 36590727000 | S33: 73241530000 | T33: 1446336195000 | U33: 384242638000 | V33: 75051944848 | W33: 75051944848 | X33: 0 | Y33: 32194713766 | Z33: 0 | AA33: 0 | AB33: 32194713766 | AC33: 2908409038214 | AD33: 2293474049354 | AE33: 1247233096714 | AF33: 943570374202 | AG33: 1600000000 | AH33: 4095012000 | AI33: 64447333448 | AJ33: 32528232990 | AK33: 283217848805 | AL33: 1731000000 | AM33: 104964543396 | AN33: 111289092369 | AO33: 53865461240 | AP33: 11367751800 | AQ33: 0 | AR33: 4600000000 | AS33: 4600000000 | AT33: 327117140055 | AU33: 11808735154 | AV33: 315308404901 | AW33: 40651897971 | AX33: 40651897971 | AY33: 0 | AZ33: 0 | BA33: 0 | BB33: 0 | BC33: 0 | BD33: 4300000000 | BE33: 0 | BF33: 1500000000 | BG33: 2800000000 | BH33: 0 | BI33: 0 | BJ33: -36351897971 | BK33: 36351897971 | BL33: 0 | BM33: 2 | BN33: 1
B34: KK | C34: KK | D34: Total Kabupaten/Kota Se-Aceh | G34: 2.4637473e+13 | H34: 2.9732804e+12 | I34: 880282016360 | J34: 229349215182 | K34: 94743495604 | L34: 1.7689056e+12 | M34: 2.1309969e+13 | N34: 20748882477862 | O34: 813050110100 | P34: 0 | Q34: 4081184675000 | R34: 57696130000 | S34: 583741114081 | T34: 11336424840000 | U34: 3876785608681 | V34: 5.6108696e+11 | W34: 5.6045696e+11 | X34: 630000000 | Y34: 354223375630 | Z34: 1057970000 | AA34: 0 | AB34: 353165405630 | AC34: 2.5246487e+13 | AD34: 1.6907769e+13 | AE34: 1.0329407e+13 | AF34: 5.7091785e+12 | AG34: 1600000000 | AH34: 12724992800 | AI34: 6.1141918e+11 | AJ34: 243439791995 | AK34: 2.6882505e+12 | AL34: 19114900000 | AM34: 6.4317856e+11 | AN34: 6.3229627e+11 | AO34: 1.3336911e+12 | AP34: 55959641542 | AQ34: 4010100000 | AR34: 2.1826989e+11 | AS34: 2.1826989e+11 | AT34: 5432197690071 | AU34: 78138675115 | AV34: 5354059014956 | AW34: 6.3897789e+11 | AX34: 6.3897789e+11 | AY34: 0 | AZ34: 0 | BA34: 0 | BB34: 0 | BC34: 0 | BD34: 29963661200 | BE34: 0 | BF34: 10600000000 | BG34: 19363661200 | BH34: 0 | BI34: 0 | BJ34: -6.0901423e+11 | BK34: 6.0901423e+11 | BL34: 0.00019454956 | BM34: 12 | BN34: 6
B35: N | C35: N | D35: Total Provinsi/Kab/Kota Se-Aceh | G35: 3.5434039e+13 | H35: 5.8324025e+12 | I35: 2602290251452 | J35: 929826848970 | K35: 360525297490 | L35: 1.9397601e+12 | M35: 2.9245445e+13 | N35: 28684357765862 | O35: 5122632750100 | P35: 0 | Q35: 4081184675000 | R35: 57696130000 | S35: 890097272081 | T35: 13544982519000 | U35: 4987764419681 | V35: 5.6108696e+11 | W35: 5.6045696e+11 | X35: 630000000 | Y35: 356191375630 | Z35: 3025970000 | AA35: 0 | AB35: 353165405630 | AC35: 3.6252927e+13 | AD35: 2.5102123e+13 | AE35: 1.4010113e+13 | AF35: 9.586375e+12 | AG35: 1600000000 | AH35: 17488992800 | AI35: 9.9174817e+11 | AJ35: 494797616066 | AK35: 3.692485e+12 | AL35: 32985985046 | AM35: 1.0728985e+12 | AN35: 9.5342963e+11 | AO35: 1.4720706e+12 | AP35: 156875195587 | AQ35: 4225100000 | AR35: 2.6369399e+11 | AS35: 2.6369399e+11 | AT35: 7194625415603 | AU35: 735593026055 | AV35: 6459032389548 | AW35: 9.0085215e+11 | AX35: 9.0085215e+11 | AY35: 0 | AZ35: 0 | BA35: 0 | BB35: 0 | BC35: 0 | BD35: 81963661200 | BE35: 52000000000 | BF35: 10600000000 | BG35: 19363661200 | BH35: 0 | BI35: 0 | BJ35: -8.1888849e+11 | BK35: 8.1888849e+11 | BL35: 0.0021476746 | BM35: 12 | BN35: 7
A36: Provinsi Sumatera Utara | B36: II | C36: 2 | D36: Prov. Sumatera Utara | E36: 7 Tahun 2024 | F36: 45653.667 | G36: 13242816095775 | H36: 7249501329775 | I36: 6366179295640 | J36: 173331559568 | K36: 343014445649 | L36: 366976028918 | M36: 5927014766000 | N36: 5927014766000 | O36: 0 | P36: 0 | Q36: 0 | R36: 0 | S36: 627857417000 | T36: 3195463210000 | U36: 2103694139000 | V36: 0 | W36: 0 | X36: 0 | Y36: 66300000000 | Z36: 6300000000 | AA36: 0 | AB36: 60000000000 | AC36: 13296266095775 | AD36: 7.3235436e+12 | AE36: 3608323861231 | AF36: 3.2804705e+12 | AG36: 0 | AH36: 0 | AI36: 415729254339 | AJ36: 19020000000 | AK36: 2.2949656e+12 | AL36: 7.6186016e+09 | AM36: 7.5028559e+11 | AN36: 281917627049 | AO36: 1250408305333 | AP36: 2328899724 | AQ36: 2406531800 | AR36: 123500000000 | AS36: 123500000000 | AT36: 3554256970681 | AU36: 3554256970681 | AV36: 0 | AW36: 103450000000 | AX36: 103450000000 | AY36: 0 | AZ36: 0 | BA36: 0 | BB36: 0 | BC36: 0 | BD36: 50000000000 | BE36: 0 | BF36: 50000000000 | BG36: 0 | BH36: 0 | BI36: 0 | BJ36: -53450000000 | BK36: 53450000000 | BL36: 0 | BM36: 1 | BN36: 0 | BP36: 1
A37: Kab. Asahan | B37: 24 | C37: 1 | D37: Kab. Asahan | E37: 10 TAHUN 2024 | F37: 45653.689 | G37: 1873449149765 | H37: 240828818606 | I37: 157610712717 | J37: 13709770200 | K37: 8174888129 | L37: 61333447560 | M37: 1602698750862 | N37: 1540919027000 | O37: 0 | P37: 0 | Q37: 173849005000 | R37: 14521739000 | S37: 80191543000 | T37: 981199628000 | U37: 291157112000 | V37: 61779723862 | W37: 61779723862 | X37: 0 | Y37: 29921580297 | Z37: 0 | AA37: 0 | AB37: 29921580297 | AC37: 1873449149765 | AD37: 1359276413442 | AE37: 741869212983 | AF37: 557882655459 | AG37: 0 | AH37: 0 | AI37: 58394345000 | AJ37: 1130200000 | AK37: 205474576723 | AL37: 0 | AM37: 37520572675 | AN37: 69305427758 | AO37: 87712790840 | AP37: 10935785450 | AQ37: 0 | AR37: 2000000000 | AS37: 2000000000 | AT37: 306698159600 | AU37: 19525384525 | AV37: 287172775075 | AW37: 0 | AX37: 0 | AY37: 0 | AZ37: 0 | BA37: 0 | BB37: 0 | BC37: 0 | BD37: 0 | BE37: 0 | BF37: 0 | BG37: 0 | BH37: 0 | BI37: 0 | BJ37: 0 | BK37: 0 | BL37: 0 | BM37: 1 | BN37: 0 | BP37: 1
A38: Kab. Batu Bara | B38: 25 | C38: 2 | D38: Kab. Batubara | E38: 7 Tahun 2024 | F38: 45657.993 | G38: 1299094854000 | H38: 203291371644 | I38: 174608858370 | J38: 6313000000 | K38: 4869513274 | L38: 17500000000 | M38: 1078258375356 | N38: 1025065432000 | O38: 0 | P38: 0 | Q38: 130627176000 | R38: 0 | S38: 39177204000 | T38: 628659798000 | U38: 226601254000 | V38: 53192943356 | W38: 53192943356 | X38: 0 | Y38: 17545107000 | Z38: 0 | AA38: 0 | AB38: 17545107000 | AC38: 1286182569528 | AD38: 955097368401 | AE38: 542257115100 | AF38: 391515106901 | AG38: 98000000 | AH38: 0 | AI38: 18687146400 | AJ38: 2540000000 | AK38: 116382344937 | AL38: 150000000 | AM38: 24227320846 | AN38: 19472032952 | AO38: 60199141139 | AP38: 12206050000 | AQ38: 127800000 | AR38: 4000000000 | AS38: 4000000000 | AT38: 210702856190 | AU38: 13891800690 | AV38: 196811055500 | AW38: 0 | AX38: 0 | AY38: 0 | AZ38: 0 | BA38: 0 | BB38: 0 | BC38: 0 | BD38: 12912284472 | BE38: 0 | BF38: 0 | BG38: 12912284472 | BH38: 0 | BI38: 0 | BJ38: 12912284472 | BK38: -12912284472 | BL38: 0 | BM38: 1 | BN38: 0 | BP38: 1
A39: Kab. Dairi | B39: 26 | C39: 3 | D39: Kab. Dairi | E39: 4 Tahun 2024 | F39: 45644.389 | G39: 1197015499604 | H39: 93022694604 | I39: 36017694604 | J39: 41930000000 | K39: 12000000000 | L39: 3075000000 | M39: 1088992805000 | N39: 1055225311000 | O39: 0 | P39: 0 | Q39: 130570255000 | R39: 0 | S39: 20083066000 | T39: 676567908000 | U39: 228004082000 | V39: 33767494000 | W39: 33767494000 | X39: 0 | Y39: 15000000000 | Z39: 0 | AA39: 0 | AB39: 15000000000 | AC39: 1227015499604 | AD39: 890698496466 | AE39: 625456353306 | AF39: 260193169260 | AG39: 0 | AH39: 0 | AI39: 5048973900 | AJ39: 0 | AK39: 128972255138 | AL39: 0 | AM39: 23612889178 | AN39: 32547729170 | AO39: 63114186150 | AP39: 9694950640 | AQ39: 2500000 | AR39: 5000000000 | AS39: 5000000000 | AT39: 202344748000 | AU39: 2381148000 | AV39: 199963600000 | AW39: 30000000000 | AX39: 30000000000 | AY39: 0 | AZ39: 0 | BA39: 0 | BB39: 0 | BC39: 0 | BD39: 0 | BE39: 0 | BF39: 0 | BG39: 0 | BH39: 0 | BI39: 0 | BJ39: -30000000000 | BK39: 30000000000 | BL39: 0 | BM39: 1 | BN39: 0 | BP39: 1
A40: Kab. Deli Serdang | B40: 27 | C40: 4 | D40: Kab. Deli Serdang | E40: 5 TAHUN 2024 | F40: 45576 | G40: 4804372365278 | H40: 1590489582469 | I40: 1264273303335 | J40: 94927225504 | K40: 20435467088 | L40: 210853586542 | M40: 3213882782809 | N40: 3009287483000 | O40: 0 | P40: 0 | Q40: 373382667000 | R40: 14072525000 | S40: 85948439000 | T40: 1870081114000 | U40: 665802738000 | V40: 204595299809 | W40: 181528963809 | X40: 23066336000 | Y40: 0 | Z40: 0 | AA40: 0 | AB40: 0 | AC40: 4831372365278 | AD40: 3329033954355 | AE40: 1657962312392 | AF40: 1460590636288 | AG40: 0 | AH40: 0 | AI40: 209881305675 | AJ40: 599700000 | AK40: 8.042664e+11 | AL40: 8010998292 | AM40: 102536283731 | AN40: 115648298843 | AO40: 5.5877731e+11 | AP40: 19143509803 | AQ40: 150000000 | AR40: 45000000000 | AS40: 45000000000 | AT40: 653072012069 | AU40: 84086389769 | AV40: 568985622300 | AW40: 45000000000 | AX40: 45000000000 | AY40: 0 | AZ40: 0 | BA40: 0 | BB40: 0 | BC40: 0 | BD40: 18000000000 | BE40: 0 | BF40: 18000000000 | BG40: 0 | BH40: 0 | BI40: 0 | BJ40: -27000000000 | BK40: 27000000000 | BL40: 0 | BM40: 1 | BN40: 0 | BP40: 1
A41: Kab. Humbang Hasundutan | B41: 28 | C41: 5 | D41: Kab. Humbang Hasundutan | E41: - | F41: 45656.456 | G41: 1010565805740 | H41: 87742336898 | I41: 25936468398 | J41: 7921368500 | K41: 5000000000 | L41: 48884500000 | M41: 912703428842 | N41: 884005304025 | O41: 0 | P41: 0 | Q41: 123976416000 | R41: 6546805000 | S41: 18386821025 | T41: 537107286000 | U41: 197987976000 | V41: 28698124817 | W41: 28698124817 | X41: 0 | Y41: 10120040000 | Z41: 0 | AA41: 0 | AB41: 10120040000 | AC41: 1013047092008 | AD41: 713789459377 | AE41: 470597447166 | AF41: 234114590483 | AG41: 0 | AH41: 0 | AI41: 8024421728 | AJ41: 1053000000 | AK41: 114396776578 | AL41: 330000000 | AM41: 23016455957 | AN41: 16064641187 | AO41: 69096735091 | AP41: 5688944343 | AQ41: 200000000 | AR41: 3000000000 | AS41: 3000000000 | AT41: 181860856053 | AU41: 2335029350 | AV41: 179525826703 | AW41: 2481286268 | AX41: 2481286268 | AY41: 0 | AZ41: 0 | BA41: 0 | BB41: 0 | BC41: 0 | BD41: 0 | BE41: 0 | BF41: 0 | BG41: 0 | BH41: 0 | BI41: 0 | BJ41: -2481286268 | BK41: 2481286268 | BL41: 0 | BM41: 0 | BN41: 0 | BP41: 1
...

Sheet Ringkasan (milyar)
D1: RINGKASAN APBD
D2: PROVINSI, KABUPATEN DAN KOTA SELURUH INDONESIA TAHUN ANGGARAN 2025 | AE2: =UPPER(AE4) -> BELANJA PEGAWAI | BD2: PENGELUARAN PEMBIAYAAN | BF2: =UPPER(BF4) -> PENYERTAAN MODAL DAERAH
B4: NO | D4: DAERAH | E4: NOMOR PERDA | F4: TANGGAL PERDA | G4: Pendapatan | H4: PENDAPATAN ASLI DAERAH (PAD) | I4: Pajak Daerah | J4: Retribusi Daerah | K4: Hasil Pengelolaan Kekayaan Daerah yang Dipisahkan | L4: Lain-lain PAD yang Sah | M4: PENDAPATAN TRANSFER | N4: Pendapatan Transfer Pemerintah Pusat | O4: Dana Otonomi Khusus dan Dana Tambahann Infrastruktur | P4: Dana Keistimewaan | Q4: Dana Desa | R4: Insentif Fiskal | S4: Dana Bagi Hasil (DBH) | T4: Dana Alokasi Umum (DAU) | U4: Dana Alokasi Khusus (DAK) | V4: Pendapatan Transfer Antar Daerah | W4: Pendapatan Bagi Hasil | X4: Bantuan Keuangan | Y4: LAIN-LAIN PENDAPATAN DAERAH YANG SAH | Z4: HIBAH | AA4: Dana Darurat | AB4: Lain-lain Pendapatan Sesuai dengan Ketentuan Peraturan Perundang-Undangan | AC4: BELANJA DAERAH | AD4: BELANJA OPERASI | AE4: Belanja Pegawai | AF4: Belanja Barang dan Jasa | AG4: Belanja Bunga | AH4: Belanja Subsidi | AI4: Belanja Hibah | AJ4: Belanja Bantuan Sosial | AK4: BELANJA MODAL | AL4: Belanja Modal Tanah | AM4: Belanja Modal Peralatan dan Mesin | AN4: Belanja Modal Gedung dan Bangunan | AO4: Belanja Modal Jalan, Jaringan, dan Irigasi | AP4: Belanja Modal Aset Tetap Lainnya | AQ4: Belanja Modal Aset Lainnya | AR4: BELANJA TIDAK TERDUGA | AS4: Belanja Tidak Terduga | AT4: BELANJA TRANSFER | AU4: Belanja Bagi Hasil | AV4: Belanja Bantuan Keuangan | AW4: PENERIMAAN PEMBIAYAAN | AX4: Sisa Lebih Perhitungan Anggaran Tahun Sebelumnya | AY4: Pencairan Dana Cadangan | AZ4: Hasil Penjualan Kekayaan Daerah yang Dipisahkan | BA4: Penerimaan Pinjaman Daerah | BB4: Penerimaan Kembali Pemberian Pinjaman Daerah | BC4: Penerimaan Pembiayaan Lainnya Sesuai dengan Ketentuan Peraturan Perundang-Undangan | BD4: PENGELUARAN PEMBIAYAAN | BE4: Pembentukan Dana Cadangan | BF4: Penyertaan Modal Daerah | BG4: Pembayaran Cicilan Pokok Utang yang Jatuh Tempo | BH4: Pemberian Pinjaman Daerah | BI4: Pengeluaran Pembiayaan Lainnya sesuai dengan Ketentuan Peraturan Perundang-Undangan | BJ4: SURPLUS/ (DEFISIT) | BK4: Pembiayaan Netto | BL4: SILPA | BM4: Tepat Waktu | BN4: Tidak Tepat Waktu | BO4: Belum Terinformasi | BR4: PENDAPATAN DAERAH | BS4: selisih | BT4: ket | BV4: BELANJA DAERAH | BW4: selisih | BX4: ket
G5: 4 | H5: 4.1 | I5: 4.1.01 | J5: 4.1.02 | K5: 4.1.03 | L5: 4.1.04 | M5: 4.2 | N5: 4.2.01 | O5: 4.2.01.03 | P5: 4.2.01.04 | Q5: 4.2.01.05 | R5: 4.2.01.06 | S5: 4.2.01.07 | T5: 4.2.01.08 | U5: 4.2.01.09 | V5: 4.2.02 | W5: 4.2.02.01 | X5: 4.2.02.02 | Y5: 4.3 | Z5: 4.3.01 | AA5: 4.3.02 | AB5: 4.3.03 | AC5: 5 | AD5: 5.1 | AE5: 5.1.01 | AF5: 5.1.02 | AG5: 5.1.03 | AH5: 5.1.04 | AI5: 5.1.05 | AJ5: 5.1.06 | AK5: 5.2 | AL5: 5.2.01 | AM5: 5.2.02 | AN5: 5.2.03 | AO5: 5.2.04 | AP5: 5.2.05 | AQ5: 5.2.06 | AR5: 5.3 | AS5: 5.3.01 | AT5: 5.4 | AU5: 5.4.01 | AV5: 5.4.02 | AW5: 6.1 | AX5: 6.1.01 | AY5: 6.1.02 | AZ5: 6.1.03 | BA5: 6.1.04 | BB5: 6.1.05 | BC5: 6.1.06 | BD5: 6.2 | BE5: 6.2.01 | BF5: 6.2.02 | BG5: 6.2.03 | BH5: 6.2.04 | BI5: 6.2.05 | BR5: 4 | BV5: 5
B6: 1 | D6: 2 | E6: 3 | F6: 4 | G6: 5 | H6: 6 | I6: 7 | J6: 8 | K6: 9 | L6: 10 | M6: 11 | N6: 12 | V6: 22 | W6: 23 | X6: 24 | Y6: 25 | Z6: 26 | AA6: 27 | AB6: 28 | AC6: 29 | AD6: 30 | AE6: 31 | AF6: 32 | AG6: 33 | AH6: 34 | AI6: 35 | AJ6: 36 | AK6: 37 | AL6: 38 | AM6: 39 | AN6: 40 | AO6: 41 | AP6: 42 | AQ6: 43 | AR6: 44 | AS6: 45 | AT6: 46 | AU6: 47 | AV6: 48 | AW6: 49 | AX6: 50 | AY6: 51 | AZ6: 52 | BA6: 53 | BB6: 54 | BC6: 55 | BD6: 56 | BE6: 57 | BF6: 58 | BG6: 59 | BH6: 60 | BI6: 61 | BJ6: 62 | BK6: 63 | BL6: 64 | BR6: 1 | BV6: 1
D7: 2025 | E7: 2025 | F7: 2025 | G7: 2025 | H7: 2025 | I7: 2025 | J7: 2025 | K7: 2025 | L7: 2025 | M7: 2025 | N7: 2025 | V7: 2025 | W7: 2025 | X7: 2025 | Y7: 2025 | Z7: 2025 | AA7: 2025 | AB7: 2025 | AC7: 2025 | AD7: 2025 | AE7: 2025 | AF7: 2025 | AG7: 2025 | AH7: 2025 | AI7: 2025 | AJ7: 2025 | AK7: 2025 | AL7: 2025 | AM7: 2025 | AN7: 2025 | AO7: 2025 | AP7: 2025 | AQ7: 2025 | AR7: 2025 | AS7: 2025 | AT7: 2025 | AU7: 2025 | AV7: 2025 | AW7: 2025 | AX7: 2025 | AY7: 2025 | AZ7: 2025 | BA7: 2025 | BB7: 2025 | BC7: 2025 | BD7: 2025 | BE7: 2025 | BF7: 2025 | BG7: 2025 | BH7: 2025 | BI7: 2025 | BJ7: 2025 | BK7: 2025 | BL7: 2025 | BM7: 2025 | BN7: 2025 | BO7: 2025 | BP7: =SUM(BP8:BP697) -> 529 | BR7: 2025 | BV7: 2024
A8: Aceh | B8: I | C8: I | D8: Prov Aceh | E8: =[1]Pendapatan!D8 -> 1 Tahun 2025 | F8: =[1]Pendapatan!E8 -> 45698 | G8: =Ringkasan!G8/1000000000 -> 10796.565 | H8: =Ringkasan!H8/1000000000 -> 2859.1222 | I8: =Ringkasan!I8/1000000000 -> 1722.0082 | J8: =Ringkasan!J8/1000000000 -> 700.47763 | K8: =Ringkasan!K8/1000000000 -> 265.7818 | L8: =Ringkasan!L8/1000000000 -> 170.8545 | M8: =Ringkasan!M8/1000000000 -> 7935.4753 | N8: =Ringkasan!N8/1000000000 -> 7935.4753 | ... BL8: =Ringkasan!BL8/1000000000 -> 1.953125e-12 | BM8: =IF(RIGHT(E8,4)="2024",1,0) -> 0 | BN8: =IF(RIGHT(E8,4)="2025",1,0) -> 1 | BP8: =IF(G8>0,1,0) -> 1 | BR8: =Ringkasan!#REF!/1000000000 -> #REF! | BS8: =G8-BR8 -> #REF! | BT8: =IF(BS8=0,"Benar","Salah") -> #REF! | BV8: =Ringkasan!#REF!/1000000000 -> #REF! | BW8: =AC8-BV8 -> #REF! | BX8: =IF(BW8=0,"Benar","Salah") -> #REF!
A9: Kab. Aceh Barat Daya | B9: 1 | C9: 1 | D9: Kab. Aceh Barat Daya | E9: =[1]Pendapatan!D9 -> 01 Tahun 2025 | F9: =[1]Pendapatan!E9 -> 45670.654 | G9: =Ringkasan!G9/1000000000 -> 974.01275 | H9: =Ringkasan!H9/1000000000 -> 131.15514 | I9: =Ringkasan!I9/1000000000 -> 30.904568 | J9: =Ringkasan!J9/1000000000 -> 1.6471614 | K9: =Ringkasan!K9/1000000000 -> 2.3 | L9: =Ringkasan!L9/1000000000 -> 96.303415 | M9: =Ringkasan!M9/1000000000 -> 823.06355 | N9: =Ringkasan!N9/1000000000 -> 799.98882 | ... BL9: =Ringkasan!BL9/1000000000 -> 1.2207031e-13 | BM9: =IF(RIGHT(E9,4)="2024",1,0) -> 0 | BN9: =IF(RIGHT(E9,4)="2025",1,0) -> 1 | BP9: =IF(G9>0,1,0) -> 1 | BR9: =Ringkasan!#REF!/1000000000 -> #REF! | BS9: =G9-BR9 -> #REF! | BT9: =IF(BS9=0,"Benar","Salah") -> #REF! | BV9: =Ringkasan!#REF!/1000000000 -> #REF! | BW9: =AC9-BV9 -> #REF! | BX9: =IF(BW9=0,"Benar","Salah") -> #REF!
A10: Kab. Aceh Barat | B10: =B9+1 -> 2 | C10: =C9+1 -> 2 | D10: Kab. Aceh Barat | E10: =[1]Pendapatan!D10 -> 04 Tahun 2024 | F10: =[1]Pendapatan!E10 -> 45657.635 | G10: =Ringkasan!G10/1000000000 -> 1428.1135 | H10: =Ringkasan!H10/1000000000 -> 190.69432 | I10: =Ringkasan!I10/1000000000 -> 49.712541 | J10: =Ringkasan!J10/1000000000 -> 14.712302 | K10: =Ringkasan!K10/1000000000 -> 4 | L10: =Ringkasan!L10/1000000000 -> 122.26948 | M10: =Ringkasan!M10/1000000000 -> 1221.428 | N10: =Ringkasan!N10/1000000000 -> 1192.9929 | ... BL10: =Ringkasan!BL10/1000000000 -> 0 | BM10: =IF(RIGHT(E10,4)="2024",1,0) -> 1 | BN10: =IF(RIGHT(E10,4)="2025",1,0) -> 0 | BP10: =IF(G10>0,1,0) -> 1 | BR10: =Ringkasan!#REF!/1000000000 -> #REF! | BS10: =G10-BR10 -> #REF! | BT10: =IF(BS10=0,"Benar","Salah") -> #REF! | BV10: =Ringkasan!#REF!/1000000000 -> #REF! | BW10: =AC10-BV10 -> #REF! | BX10: =IF(BW10=0,"Benar","Salah") -> #REF!
A11: Kab. Aceh Besar | B11: =B10+1 -> 3 | C11: =C10+1 -> 3 | D11: Kab. Aceh Besar | E11: =[1]Pendapatan!D11 -> 03 Tahun 2024 | F11: =[1]Pendapatan!E11 -> 45657.904 | G11: =Ringkasan!G11/1000000000 -> 1830.2942 | H11: =Ringkasan!H11/1000000000 -> 197.6777 | I11: =Ringkasan!I11/1000000000 -> 126.5476 | J11: =Ringkasan!J11/1000000000 -> 28.3992 | K11: =Ringkasan!K11/1000000000 -> 6.5 | L11: =Ringkasan!L11/1000000000 -> 36.230897 | M11: =Ringkasan!M11/1000000000 -> 1604.7165 | N11: =Ringkasan!N11/1000000000 -> 1571.6529 | ... BL11: =Ringkasan!BL11/1000000000 -> 0 | BM11: =IF(RIGHT(E11,4)="2024",1,0) -> 1 | BN11: =IF(RIGHT(E11,4)="2025",1,0) -> 0 | BP11: =IF(G11>0,1,0) -> 1 | BR11: =Ringkasan!#REF!/1000000000 -> #REF! | BS11: =G11-BR11 -> #REF! | BT11: =IF(BS11=0,"Benar","Salah") -> #REF! | BV11: =Ringkasan!#REF!/1000000000 -> #REF! | BW11: =AC11-BV11 -> #REF! | BX11: =IF(BW11=0,"Benar","Salah") -> #REF!
A12: Kab. Aceh Jaya | B12: =B11+1 -> 4 | C12: =C11+1 -> 4 | D12: Kab. Aceh Jaya | E12: =[1]Pendapatan!D12 -> 06 Tahun 2024 | F12: =[1]Pendapatan!E12 -> 45657 | G12: =Ringkasan!G12/1000000000 -> 914.53569 | H12: =Ringkasan!H12/1000000000 -> 92.272663 | I12: =Ringkasan!I12/1000000000 -> 21.223529 | J12: =Ringkasan!J12/1000000000 -> 6.081573 | K12: =Ringkasan!K12/1000000000 -> 6.8361613 | L12: =Ringkasan!L12/1000000000 -> 58.1314 | M12: =Ringkasan!M12/1000000000 -> 813.69701 | N12: =Ringkasan!N12/1000000000 -> 793.53918 | ... BL12: =Ringkasan!BL12/1000000000 -> 0 | BM12: =IF(RIGHT(E12,4)="2024",1,0) -> 1 | BN12: =IF(RIGHT(E12,4)="2025",1,0) -> 0 | BP12: =IF(G12>0,1,0) -> 1 | BR12: =Ringkasan!#REF!/1000000000 -> #REF! | BS12: =G12-BR12 -> #REF! | BT12: =IF(BS12=0,"Benar","Salah") -> #REF! | BV12: =Ringkasan!#REF!/1000000000 -> #REF! | BW12: =AC12-BV12 -> #REF! | BX12: =IF(BW12=0,"Benar","Salah") -> #REF!
A13: Kab. Aceh Selatan | B13: =B12+1 -> 5 | C13: =C12+1 -> 5 | D13: Kab. Aceh Selatan | E13: =[1]Pendapatan!D13 -> 1 Tahun 2025 | F13: =[1]Pendapatan!E13 -> 45692 | G13: =Ringkasan!G13/1000000000 -> 1463.637 | H13: =Ringkasan!H13/1000000000 -> 231.41466 | I13: =Ringkasan!I13/1000000000 -> 48.510126 | J13: =Ringkasan!J13/1000000000 -> 20.740538 | K13: =Ringkasan!K13/1000000000 -> 4.2 | L13: =Ringkasan!L13/1000000000 -> 157.964 | M13: =Ringkasan!M13/1000000000 -> 1213.4223 | N13: =Ringkasan!N13/1000000000 -> 1179.3149 | ... BL13: =Ringkasan!BL13/1000000000 -> 0 | BM13: =IF(RIGHT(E13,4)="2024",1,0) -> 0 | BN13: =IF(RIGHT(E13,4)="2025",1,0) -> 1 | BP13: =IF(G13>0,1,0) -> 1 | BR13: =Ringkasan!#REF!/1000000000 -> #REF! | BS13: =G13-BR13 -> #REF! | BT13: =IF(BS13=0,"Benar","Salah") -> #REF! | BV13: =Ringkasan!#REF!/1000000000 -> #REF! | BW13: =AC13-BV13 -> #REF! | BX13: =IF(BW13=0,"Benar","Salah") -> #REF!
A14: Kab. Aceh Singkil | B14: =B13+1 -> 6 | C14: =C13+1 -> 6 | D14: Kab. Aceh Singkil | E14: =[1]Pendapatan!D14 | F14: =[1]Pendapatan!E14 | G14: =Ringkasan!G14/1000000000 -> 0 | H14: =Ringkasan!H14/1000000000 -> 0 | I14: =Ringkasan!I14/1000000000 -> 0 | J14: =Ringkasan!J14/1000000000 -> 0 | K14: =Ringkasan!K14/1000000000 -> 0 | L14: =Ringkasan!L14/1000000000 -> 0 | M14: =Ringkasan!M14/1000000000 -> 0 | N14: =Ringkasan!N14/1000000000 -> 0 | ... BL14: =Ringkasan!BL14/1000000000 -> 0 | BM14: =IF(RIGHT(E14,4)="2024",1,0) -> 0 | BN14: =IF(RIGHT(E14,4)="2025",1,0) -> 0 | BP14: =IF(G14>0,1,0) -> 0 | BR14: =Ringkasan!#REF!/1000000000 -> #REF! | BS14: =G14-BR14 -> #REF! | BT14: =IF(BS14=0,"Benar","Salah") -> #REF! | BV14: =Ringkasan!#REF!/1000000000 -> #REF! | BW14: =AC14-BV14 -> #REF! | BX14: =IF(BW14=0,"Benar","Salah") -> #REF!
A15: Kab. Aceh Tamiang | B15: =B14+1 -> 7 | C15: =C14+1 -> 7 | D15: Kab. Aceh Tamiang | E15: =[1]Pendapatan!D15 | F15: =[1]Pendapatan!E15 | G15: =Ringkasan!G15/1000000000 -> 0 | H15: =Ringkasan!H15/1000000000 -> 0 | I15: =Ringkasan!I15/1000000000 -> 0 | J15: =Ringkasan!J15/1000000000 -> 0 | K15: =Ringkasan!K15/1000000000 -> 0 | L15: =Ringkasan!L15/1000000000 -> 0 | M15: =Ringkasan!M15/1000000000 -> 0 | N15: =Ringkasan!N15/1000000000 -> 0 | ... BL15: =Ringkasan!BL15/1000000000 -> 0 | BM15: =IF(RIGHT(E15,4)="2024",1,0) -> 0 | BN15: =IF(RIGHT(E15,4)="2025",1,0) -> 0 | BP15: =IF(G15>0,1,0) -> 0 | BR15: =Ringkasan!#REF!/1000000000 -> #REF! | BS15: =G15-BR15 -> #REF! | BT15: =IF(BS15=0,"Benar","Salah") -> #REF! | BV15: =Ringkasan!#REF!/1000000000 -> #REF! | BW15: =AC15-BV15 -> #REF! | BX15: =IF(BW15=0,"Benar","Salah") -> #REF!
A16: Kab. Aceh Tengah | B16: =B15+1 -> 8 | C16: =C15+1 -> 8 | D16: Kab. Aceh Tengah | E16: =[1]Pendapatan!D16 -> 01 Tahun 2025 | F16: =[1]Pendapatan!E16 -> 45672.699 | G16: =Ringkasan!G16/1000000000 -> 1386.8901 | H16: =Ringkasan!H16/1000000000 -> 181.17046 | I16: =Ringkasan!I16/1000000000 -> 34.556457 | J16: =Ringkasan!J16/1000000000 -> 10.306441 | K16: =Ringkasan!K16/1000000000 -> 6.6 | L16: =Ringkasan!L16/1000000000 -> 129.70756 | M16: =Ringkasan!M16/1000000000 -> 1188.7197 | N16: =Ringkasan!N16/1000000000 -> 1161.5266 | ... BL16: =Ringkasan!BL16/1000000000 -> 0 | BM16: =IF(RIGHT(E16,4)="2024",1,0) -> 0 | BN16: =IF(RIGHT(E16,4)="2025",1,0) -> 1 | BP16: =IF(G16>0,1,0) -> 1 | BR16: =Ringkasan!#REF!/1000000000 -> #REF! | BS16: =G16-BR16 -> #REF! | BT16: =IF(BS16=0,"Benar","Salah") -> #REF! | BV16: =Ringkasan!#REF!/1000000000 -> #REF! | BW16: =AC16-BV16 -> #REF! | BX16: =IF(BW16=0,"Benar","Salah") -> #REF!
A17: Kab. Aceh Tenggara | B17: =B16+1 -> 9 | C17: =C16+1 -> 9 | D17: Kab. Aceh Tenggara | E17: =[1]Pendapatan!D17 | F17: =[1]Pendapatan!E17 | G17: =Ringkasan!G17/1000000000 -> 0 | H17: =Ringkasan!H17/1000000000 -> 0 | I17: =Ringkasan!I17/1000000000 -> 0 | J17: =Ringkasan!J17/1000000000 -> 0 | K17: =Ringkasan!K17/1000000000 -> 0 | L17: =Ringkasan!L17/1000000000 -> 0 | M17: =Ringkasan!M17/1000000000 -> 0 | N17: =Ringkasan!N17/1000000000 -> 0 | ... BL17: =Ringkasan!BL17/1000000000 -> 0 | BM17: =IF(RIGHT(E17,4)="2024",1,0) -> 0 | BN17: =IF(RIGHT(E17,4)="2025",1,0) -> 0 | BP17: =IF(G17>0,1,0) -> 0 | BR17: =Ringkasan!#REF!/1000000000 -> #REF! | BS17: =G17-BR17 -> #REF! | BT17: =IF(BS17=0,"Benar","Salah") -> #REF! | BV17: =Ringkasan!#REF!/1000000000 -> #REF! | BW17: =AC17-BV17 -> #REF! | BX17: =IF(BW17=0,"Benar","Salah") -> #REF!
A18: Kab. Aceh Timur | B18: =B17+1 -> 10 | C18: =C17+1 -> 10 | D18: Kab. Aceh Timur | E18: =[1]Pendapatan!D18 -> 5 Tahun 2024 | F18: =[1]Pendapatan!E18 -> 45657.042 | G18: =Ringkasan!G18/1000000000 -> 2028.4883 | H18: =Ringkasan!H18/1000000000 -> 174.29738 | I18: =Ringkasan!I18/1000000000 -> 47.208163 | J18: =Ringkasan!J18/1000000000 -> 1.423 | K18: =Ringkasan!K18/1000000000 -> 2 | L18: =Ringkasan!L18/1000000000 -> 123.66622 | M18: =Ringkasan!M18/1000000000 -> 1806.7693 | N18: =Ringkasan!N18/1000000000 -> 1758.7718 | ... BL18: =Ringkasan!BL18/1000000000 -> 0 | BM18: =IF(RIGHT(E18,4)="2024",1,0) -> 1 | BN18: =IF(RIGHT(E18,4)="2025",1,0) -> 0 | BP18: =IF(G18>0,1,0) -> 1 | BR18: =Ringkasan!#REF!/1000000000 -> #REF! | BS18: =G18-BR18 -> #REF! | BT18: =IF(BS18=0,"Benar","Salah") -> #REF! | BV18: =Ringkasan!#REF!/1000000000 -> #REF! | BW18: =AC18-BV18 -> #REF! | BX18: =IF(BW18=0,"Benar","Salah") -> #REF!
A19: Kab. Aceh Utara | B19: =B18+1 -> 11 | C19: =C18+1 -> 11 | D19: Kab. Aceh Utara | E19: =[1]Pendapatan!D19 -> 10 Tahun 2024 | F19: =[1]Pendapatan!E19 -> 45657.697 | G19: =Ringkasan!G19/1000000000 -> 2633.0813 | H19: =Ringkasan!H19/1000000000 -> 236.79381 | I19: =Ringkasan!I19/1000000000 -> 66.808788 | J19: =Ringkasan!J19/1000000000 -> 3.8720513 | K19: =Ringkasan!K19/1000000000 -> 15.790901 | L19: =Ringkasan!L19/1000000000 -> 150.32207 | M19: =Ringkasan!M19/1000000000 -> 2335.0759 | N19: =Ringkasan!N19/1000000000 -> 2286.071 | ... BL19: =Ringkasan!BL19/1000000000 -> 0 | BM19: =IF(RIGHT(E19,4)="2024",1,0) -> 1 | BN19: =IF(RIGHT(E19,4)="2025",1,0) -> 0 | BP19: =IF(G19>0,1,0) -> 1 | BR19: =Ringkasan!#REF!/1000000000 -> #REF! | BS19: =G19-BR19 -> #REF! | BT19: =IF(BS19=0,"Benar","Salah") -> #REF! | BV19: =Ringkasan!#REF!/1000000000 -> #REF! | BW19: =AC19-BV19 -> #REF! | BX19: =IF(BW19=0,"Benar","Salah") -> #REF!
A20: Kab. Bener Meriah | B20: =B19+1 -> 12 | C20: =C19+1 -> 12 | D20: Kab. Bener Meriah | E20: =[1]Pendapatan!D20 -> 04 Tahun 2024 | F20: =[1]Pendapatan!E20 -> 45657 | G20: =Ringkasan!G20/1000000000 -> 1056.7441 | H20: =Ringkasan!H20/1000000000 -> 86.139785 | I20: =Ringkasan!I20/1000000000 -> 7.03636 | J20: =Ringkasan!J20/1000000000 -> 5.864011 | K20: =Ringkasan!K20/1000000000 -> 3.7705855 | L20: =Ringkasan!L20/1000000000 -> 69.468829 | M20: =Ringkasan!M20/1000000000 -> 953.5967 | N20: =Ringkasan!N20/1000000000 -> 916.63891 | ... BL20: =Ringkasan!BL20/1000000000 -> 0 | BM20: =IF(RIGHT(E20,4)="2024",1,0) -> 1 | BN20: =IF(RIGHT(E20,4)="2025",1,0) -> 0 | BP20: =IF(G20>0,1,0) -> 1 | BR20: =Ringkasan!#REF!/1000000000 -> #REF! | BS20: =G20-BR20 -> #REF! | BT20: =IF(BS20=0,"Benar","Salah") -> #REF! | BV20: =Ringkasan!#REF!/1000000000 -> #REF! | BW20: =AC20-BV20 -> #REF! | BX20: =IF(BW20=0,"Benar","Salah") -> #REF!
A21: Kab. Bireuen | B21: =B20+1 -> 13 | C21: =C20+1 -> 13 | D21: Kab. Bireun | E21: =[1]Pendapatan!D21 -> 1 TAHUN 2025 | F21: =[1]Pendapatan!E21 -> 45679 | G21: =Ringkasan!G21/1000000000 -> 2026.1437 | H21: =Ringkasan!H21/1000000000 -> 236.81891 | I21: =Ringkasan!I21/1000000000 -> 73.947533 | J21: =Ringkasan!J21/1000000000 -> 12.57466 | K21: =Ringkasan!K21/1000000000 -> 5 | L21: =Ringkasan!L21/1000000000 -> 145.29671 | M21: =Ringkasan!M21/1000000000 -> 1757.8248 | N21: =Ringkasan!N21/1000000000 -> 1718.5335 | ... BL21: =Ringkasan!BL21/1000000000 -> 0 | BM21: =IF(RIGHT(E21,4)="2024",1,0) -> 0 | BN21: =IF(RIGHT(E21,4)="2025",1,0) -> 1 | BP21: =IF(G21>0,1,0) -> 1 | BR21: =Ringkasan!#REF!/1000000000 -> #REF! | BS21: =G21-BR21 -> #REF! | BT21: =IF(BS21=0,"Benar","Salah") -> #REF! | BV21: =Ringkasan!#REF!/1000000000 -> #REF! | BW21: =AC21-BV21 -> #REF! | BX21: =IF(BW21=0,"Benar","Salah") -> #REF!
... A31: Kota Subulussalam | B31: =B30+1 -> 23 | C31: =C30+1 -> 23 | D31: Kota Subulussalam | E31: =[1]Pendapatan!D31 | F31: =[1]Pendapatan!E31 | G31: =Ringkasan!G31/1000000000 -> 0 | H31: =Ringkasan!H31/1000000000 -> 0 | I31: =Ringkasan!I31/1000000000 -> 0 | J31: =Ringkasan!J31/1000000000 -> 0 | K31: =Ringkasan!K31/1000000000 -> 0 | L31: =Ringkasan!L31/1000000000 -> 0 | M31: =Ringkasan!M31/1000000000 -> 0 | N31: =Ringkasan!N31/1000000000 -> 0 | ... BL31: =Ringkasan!BL31/1000000000 -> 0 | BM31: =IF(RIGHT(E31,4)="2024",1,0) -> 0 | BN31: =IF(RIGHT(E31,4)="2025",1,0) -> 0 | BP31: =IF(G31>0,1,0) -> 0 | BR31: =Ringkasan!#REF!/1000000000 -> #REF! | BS31: =G31-BR31 -> #REF! | BT31: =IF(BS31=0,"Benar","Salah") -> #REF! | BV31: =Ringkasan!#REF!/1000000000 -> #REF! | BW31: =AC31-BV31 -> #REF! | BX31: =IF(BW31=0,"Benar","Salah") -> #REF!
B32: Kab | C32: Kab | D32: Total Kabupaten | G32: =Ringkasan!G32/1000000000 -> 21765.416 | H32: =Ringkasan!H32/1000000000 -> 2425.9334 | I32: =Ringkasan!I32/1000000000 -> 615.84257 | J32: =Ringkasan!J32/1000000000 -> 169.36133 | K32: =Ringkasan!K32/1000000000 -> 73.578244 | L32: =Ringkasan!L32/1000000000 -> 1567.1513 | M32: =Ringkasan!M32/1000000000 -> 19017.454 | N32: =Ringkasan!N32/1000000000 -> 18531.419 | ... BL32: =Ringkasan!BL32/1000000000 -> 1.9454956e-13 | BM32: =SUM(BM9:BM26) -> 10 | BN32: =SUM(BN9:BN26) -> 5 | BR32: =Ringkasan!#REF!/1000000000 -> #REF! | BS32: =G32-BR32 -> #REF! | BT32: =IF(BS32=0,"Benar","Salah") -> #REF! | BV32: =Ringkasan!#REF!/1000000000 -> #REF! | BW32: =AC32-BV32 -> #REF! | BX32: =IF(BW32=0,"Benar","Salah") -> #REF!
B33: Kota | C33: Kota | D33: Total Kota | G33: =Ringkasan!G33/1000000000 -> 2872.0571 | H33: =Ringkasan!H33/1000000000 -> 547.34692 | I33: =Ringkasan!I33/1000000000 -> 264.43944 | J33: =Ringkasan!J33/1000000000 -> 59.987882 | K33: =Ringkasan!K33/1000000000 -> 21.165251 | L33: =Ringkasan!L33/1000000000 -> 201.75434 | M33: =Ringkasan!M33/1000000000 -> 2292.5155 | N33: =Ringkasan!N33/1000000000 -> 2217.4636 | ... BL33: =Ringkasan!BL33/1000000000 -> 0 | BM33: =SUM(BM27:BM31) -> 2 | BN33: =SUM(BN27:BN31) -> 1 | BR33: =Ringkasan!#REF!/1000000000 -> #REF! | BS33: =G33-BR33 -> #REF! | BT33: =IF(BS33=0,"Benar","Salah") -> #REF! | BV33: =Ringkasan!#REF!/1000000000 -> #REF! | BW33: =AC33-BV33 -> #REF! | BX33: =IF(BW33=0,"Benar","Salah") -> #REF!
B34: KK | C34: KK | D34: Total Kabupaten/Kota Se-Aceh | G34: =Ringkasan!G34/1000000000 -> 24637.473 | H34: =Ringkasan!H34/1000000000 -> 2973.2804 | I34: =Ringkasan!I34/1000000000 -> 880.28202 | J34: =Ringkasan!J34/1000000000 -> 229.34922 | K34: =Ringkasan!K34/1000000000 -> 94.743496 | L34: =Ringkasan!L34/1000000000 -> 1768.9056 | M34: =Ringkasan!M34/1000000000 -> 21309.969 | N34: =Ringkasan!N34/1000000000 -> 20748.882 | ... BL34: =Ringkasan!BL34/1000000000 -> 1.9454956e-13 | BM34: =BM32+BM33 -> 12 | BN34: =BN32+BN33 -> 6 | BR34: =Ringkasan!#REF!/1000000000 -> #REF! | BS34: =G34-BR34 -> #REF! | BT34: =IF(BS34=0,"Benar","Salah") -> #REF! | BV34: =Ringkasan!#REF!/1000000000 -> #REF! | BW34: =AC34-BV34 -> #REF! | BX34: =IF(BW34=0,"Benar","Salah") -> #REF!
