Workbook
Name anggaran: #REF!
Name id_daerah: #REF!
Name kode_urusan: #REF!
Name nama_bidang_urusan: #REF!
Name nama_daerah: #REF!

Sheet Ringkasan
D1: RINGKASAN APBD
D2: PROVINSI, KABUPATEN DAN KOTA SELURUH INDONESIA TAHUN ANGGARAN 2025 | AE2: BELANJA PEGAWAI | BD2: PENGELUARAN PEMBIAYAAN | BF2: PENYERTAAN MODAL DAERAH
B4: NO | D4: DAERAH | E4: NOMOR PERDA | F4: TANGGAL PERDA | G4: Pendapatan | H4: PENDAPATAN ASLI DAERAH (PAD) | I4: Pajak Daerah | J4: Retribusi Daerah | K4: Hasil Pengelolaan Kekayaan Daerah yang Dipisahkan | L4: Lain-lain PAD yang Sah | M4: PENDAPATAN TRANSFER | N4: Pendapatan Transfer Pemerintah Pusat | O4: Dana Otonomi Khusus dan Dana Tambahann Infrastruktur | P4: Dana Keistimewaan | Q4: Dana Desa | R4: Insentif Fiskal | S4: Dana Bagi Hasil (DBH) | T4: Dana Alokasi Umum (DAU) | U4: Dana Alokasi Khusus (DAK) | V4: Pendapatan Transfer Antar Daerah | W4: Pendapatan Bagi Hasil | X4: Bantuan Keuangan | Y4: LAIN-LAIN PENDAPATAN DAERAH YANG SAH | Z4: HIBAH | AA4: Dana Darurat | AB4: Lain-lain Pendapatan Sesuai dengan Ketentuan Peraturan Perundang-Undangan | AC4: BELANJA DAERAH | AD4: BELANJA OPERASI | AE4: Belanja Pegawai | AF4: Belanja Barang dan Jasa | AG4: Belanja Bunga | AH4: Belanja Subsidi | AI4: Belanja Hibah | AJ4: Belanja Bantuan Sosial | AK4: BELANJA MODAL | AL4: Belanja Modal Tanah | AM4: Belanja Modal Peralatan dan Mesin | AN4: Belanja Modal Gedung dan Bangunan | AO4: Belanja Modal Jalan, Jaringan, dan Irigasi | AP4: Belanja Modal Aset Tetap Lainnya | AQ4: Belanja Modal Aset Lainnya | AR4: BELANJA TIDAK TERDUGA | AS4: Belanja Tidak Terduga | AT4: BELANJA TRANSFER | AU4: Belanja Bagi Hasil | AV4: Belanja Bantuan Keuangan | AW4: PENERIMAAN PEMBIAYAAN | AX4: Sisa Lebih Perhitungan Anggaran Tahun Sebelumnya | AY4: Pencairan Dana Cadangan | AZ4: Hasil Penjualan Kekayaan Daerah yang Dipisahkan | BA4: Penerimaan Pinjaman Daerah | BB4: Penerimaan Kembali Pemberian Pinjaman Daerah | BC4: Penerimaan Pembiayaan Lainnya Sesuai dengan Ketentuan Peraturan Perundang-Undangan | BD4: PENGELUARAN PEMBIAYAAN | BE4: Pembentukan Dana Cadangan | BF4: Penyertaan Modal Daerah | BG4: Pembayaran Cicilan Pokok Utang yang Jatuh Tempo | BH4: Pemberian Pinjaman Daerah | BI4: Pengeluaran Pembiayaan Lainnya sesuai dengan Ketentuan Peraturan Perundang-Undangan | BJ4: SURPLUS/ (DEFISIT) | BK4: Pembiayaan Netto | BL4: SILPA | BM4: Tepat Waktu | BN4: Tidak Tepat Waktu | BO4: Belum Terinformasi
G5: 4 | H5: 4.1 | I5: 4.1.01 | J5: 4.1.02 | K5: 4.1.03 | L5: 4.1.04 | M5: 4.2 | N5: 4.2.01 | O5: 4.2.01.03 | P5: 4.2.01.04 | Q5: 4.2.01.05 | R5: 4.2.01.06 | S5: 4.2.01.07 | T5: 4.2.01.08 | U5: 4.2.01.09 | V5: 4.2.02 | W5: 4.2.02.01 | X5: 4.2.02.02 | Y5: 4.3 | Z5: 4.3.01 | AA5: 4.3.02 | AB5: 4.3.03 | AC5: 5 | AD5: 5.1 | AE5: 5.1.01 | AF5: 5.1.02 | AG5: 5.1.03 | AH5: 5.1.04 | AI5: 5.1.05 | AJ5: 5.1.06 | AK5: 5.2 | AL5: 5.2.01 | AM5: 5.2.02 | AN5: 5.2.03 | AO5: 5.2.04 | AP5: 5.2.05 | AQ5: 5.2.06 | AR5: 5.3 | AS5: 5.3.01 | AT5: 5.4 | AU5: 5.4.01 | AV5: 5.4.02 | AW5: 6.1 | AX5: 6.1.01 | AY5: 6.1.02 | AZ5: 6.1.03 | BA5: 6.1.04 | BB5: 6.1.05 | BC5: 6.1.06 | BD5: 6.2 | BE5: 6.2.01 | BF5: 6.2.02 | BG5: 6.2.03 | BH5: 6.2.04 | BI5: 6.2.05
B6: 1 | D6: 2 | E6: 3 | F6: 4 | G6: 5 | H6: 6 | I6: 7 | J6: 8 | K6: 9 | L6: 10 | M6: 11 | N6: 12 | V6: 22 | W6: 23 | X6: 24 | Y6: 25 | Z6: 26 | AA6: 27 | AB6: 28 | AC6: 29 | AD6: 30 | AE6: 31 | AF6: 32 | AG6: 33 | AH6: 34 | AI6: 35 | AJ6: 36 | AK6: 37 | AL6: 38 | AM6: 39 | AN6: 40 | AO6: 41 | AP6: 42 | AQ6: 43 | AR6: 44 | AS6: 45 | AT6: 46 | AU6: 47 | AV6: 48 | AW6: 49 | AX6: 50 | AY6: 51 | AZ6: 52 | BA6: 53 | BB6: 54 | BC6: 55 | BD6: 56 | BE6: 57 | BF6: 58 | BG6: 59 | BH6: 60 | BI6: 61 | BJ6: 62 | BK6: 63 | BL6: 64
D7: 2025 | E7: 2025 | F7: 2025 | G7: 2025 | H7: 2025 | I7: 2025 | J7: 2025 | K7: 2025 | L7: 2025 | M7: 2025 | N7: 2025 | V7: 2025 | W7: 2025 | X7: 2025 | Y7: 2025 | Z7: 2025 | AA7: 2025 | AB7: 2025 | AC7: 2025 | AD7: 2025 | AE7: 2025 | AF7: 2025 | AG7: 2025 | AH7: 2025 | AI7: 2025 | AJ7: 2025 | AK7: 2025 | AL7: 2025 | AM7: 2025 | AN7: 2025 | AO7: 2025 | AP7: 2025 | AQ7: 2025 | AR7: 2025 | AS7: 2025 | AT7: 2025 | AU7: 2025 | AV7: 2025 | AW7: 2025 | AX7: 2025 | AY7: 2025 | AZ7: 2025 | BA7: 2025 | BB7: 2025 | BC7: 2025 | BD7: 2025 | BE7: 2025 | BF7: 2025 | BG7: 2025 | BH7: 2025 | BI7: 2025 | BJ7: 2025 | BK7: 2025 | BL7: 2025 | BM7: 2025 | BN7: 2025 | BO7: 2025 | BP7: 529
A8: Aceh | B8: I | C8: I | D8: Prov Aceh | E8: 1 Tahun 2025 | F8: 45698 | G8: 10796565460935 | H8: 2859122172935 | I8: 1722008235092 | J8: 700477633788 | K8: 265781801886 | L8: 170854502169 | M8: 7935475288000 | N8: 7935475288000 | O8: 4309582640000 | P8: 0 | Q8: 0 | R8: 0 | S8: 306356158000 | T8: 2208557679000 | U8: 1110978811000 | V8: 0 | W8: 0 | X8: 0 | Y8: 1968000000 | Z8: 1968000000 | AA8: 0 | AB8: 0 | AC8: 1.100644e+13 | AD8: 8.1943535e+12 | AE8: 3.6807062e+12 | AF8: 3.8771964e+12 | AG8: 0 | AH8: 4764000000 | AI8: 380328997012 | AJ8: 251357824071 | AK8: 1.0042344e+12 | AL8: 13871085046 | AM8: 4.2971992e+11 | AN8: 321133363064 | AO8: 1.383795e+11 | AP8: 100915554045 | AQ8: 215000000 | AR8: 4.54241e+10 | AS8: 4.54241e+10 | AT8: 1762427725532 | AU8: 657454350940 | AV8: 1104973374592 | AW8: 261874262395 | AX8: 261874262395 | AY8: 0 | AZ8: 0 | BA8: 0 | BB8: 0 | BC8: 0 | BD8: 52000000000 | BE8: 52000000000 | BF8: 0 | BG8: 0 | BH8: 0 | BI8: 0 | BJ8: -2.0987426e+11 | BK8: 209874262395 | BL8: 0.001953125 | BM8: 0 | BN8: 1 | BP8: 1
A9: Kab. Aceh Barat Daya | B9: 1 | C9: 1 | D9: Kab. Aceh Barat Daya | E9: 01 Tahun 2025 | F9: 45670.654 | G9: 974012752434 | H9: 131155143595 | I9: 30904567724 | J9: 1647161360 | K9: 2300000000 | L9: 96303414511 | M9: 823063545563 | N9: 799988817000 | O9: 39897586000 | P9: 0 | Q9: 113551230000 | R9: 6911270000 | S9: 20301344000 | T9: 469876032000 | U9: 149451355000 | V9: 23074728563 | W9: 23074728563 | X9: 0 | Y9: 19794063276 | Z9: 0 | AA9: 0 | AB9: 19794063276 | AC9: 1.0608648e+12 | AD9: 708369815977 | AE9: 4.0732801e+11 | AF9: 2.6563895e+11 | AG9: 0 | AH9: 0 | AI9: 29267363193 | AJ9: 6135484903 | AK9: 133367722248 | AL9: 0 | AM9: 44059684153 | AN9: 34185061866 | AO9: 52507303420 | AP9: 2415672809 | AQ9: 200000000 | AR9: 54543010882 | AS9: 54543010882 | AT9: 1.6458422e+11 | AU9: 2251718376 | AV9: 1.623325e+11 | AW9: 89852012149 | AX9: 89852012149 | AY9: 0 | AZ9: 0 | BA9: 0 | BB9: 0 | BC9: 0 | BD9: 3000000000 | BE9: 0 | BF9: 3000000000 | BG9: 0 | BH9: 0 | BI9: 0 | BJ9: -8.6852012e+10 | BK9: 86852012149 | BL9: 0.00012207031 | BM9: 0 | BN9: 1 | BP9: 1
A10: Kab. Aceh Barat | B10: 2 | C10: 2 | D10: Kab. Aceh Barat | E10: 04 Tahun 2024 | F10: 45657.635 | G10: 1428113548112 | H10: 190694318723 | I10: 49712540645 | J10: 14712302000 | K10: 4000000000 | L10: 122269476078 | M10: 1221428017133 | N10: 1192992870950 | O10: 45234436000 | P10: 0 | Q10: 226338041000 | R10: 0 | S10: 103612213000 | T10: 617451119000 | U10: 200357061950 | V10: 28435146183 | W10: 28435146183 | X10: 0 | Y10: 15991212256 | Z10: 0 | AA10: 0 | AB10: 15991212256 | AC10: 1566167116074 | AD10: 9.6636021e+11 | AE10: 6.1835983e+11 | AF10: 3.1469821e+11 | AG10: 0 | AH10: 1043429800 | AI10: 20938436521 | AJ10: 11320305700 | AK10: 2.7118735e+11 | AL10: 0 | AM10: 4.9067608e+10 | AN10: 60157445656 | AO10: 161062698222 | AP10: 899600000 | AQ10: 0 | AR10: 11208200064 | AS10: 11208200064 | AT10: 317411358376 | AU10: 6442484265 | AV10: 310968874111 | AW10: 138053567962 | AX10: 138053567962 | AY10: 0 | AZ10: 0 | BA10: 0 | BB10: 0 | BC10: 0 | BD10: 0 | BE10: 0 | BF10: 0 | BG10: 0 | BH10: 0 | BI10: 0 | BJ10: -138053567962 | BK10: 138053567962 | BL10: 0 | BM10: 1 | BN10: 0 | BP10: 1
A11: Kab. Aceh Besar | B11: 3 | C11: 3 | D11: Kab. Aceh Besar | E11: 03 Tahun 2024 | F11: 45657.904 | G11: 1830294196100 | H11: 197677700000 | I11: 126547602550 | J11: 28399200000 | K11: 6500000000 | L11: 36230897450 | M11: 1604716496100 | N11: 1571652854000 | O11: 50890645000 | P11: 0 | Q11: 422529527000 | R11: 0 | S11: 22883896000 | T11: 821340165000 | U11: 254008621000 | V11: 33063642100 | W11: 33063642100 | X11: 0 | Y11: 27900000000 | Z11: 0 | AA11: 0 | AB11: 27900000000 | AC11: 1854294196100 | AD11: 1172106079576 | AE11: 658134950816 | AF11: 438710968340 | AG11: 0 | AH11: 445000000 | AI11: 50713378714 | AJ11: 24101781706 | AK11: 123510001956 | AL11: 0 | AM11: 47461873015 | AN11: 42968123538 | AO11: 32474913403 | AP11: 605092000 | AQ11: 0 | AR11: 7500000000 | AS11: 7500000000 | AT11: 551178114568 | AU11: 15562393233 | AV11: 535615721335 | AW11: 25000000000 | AX11: 25000000000 | AY11: 0 | AZ11: 0 | BA11: 0 | BB11: 0 | BC11: 0 | BD11: 1000000000 | BE11: 0 | BF11: 1000000000 | BG11: 0 | BH11: 0 | BI11: 0 | BJ11: -24000000000 | BK11: 24000000000 | BL11: 0 | BM11: 1 | BN11: 0 | BP11: 1
A12: Kab. Aceh Jaya | B12: 4 | C12: 4 | D12: Kab. Aceh Jaya | E12: 06 Tahun 2024 | F12: 45657 | G12: 914535686831 | H12: 92272663078 | I12: 21223528670 | J12: 6081573000 | K12: 6836161273 | L12: 58131400135 | M12: 813697012753 | N12: 793539182000 | O12: 42710023000 | P12: 0 | Q12: 121697824000 | R12: 0 | S12: 19369506000 | T12: 450574384000 | U12: 159187445000 | V12: 20157830753 | W12: 20157830753 | X12: 0 | Y12: 8566011000 | Z12: 0 | AA12: 0 | AB12: 8566011000 | AC12: 920285039493 | AD12: 586681447719 | AE12: 375416424016 | AF12: 180271053395 | AG12: 0 | AH12: 503249000 | AI12: 18797019554 | AJ12: 11693701754 | AK12: 159790747307 | AL12: 1377600000 | AM12: 12754838354 | AN12: 52113994708 | AO12: 92340563445 | AP12: 1201750800 | AQ12: 2000000 | AR12: 2500000000 | AS12: 2500000000 | AT12: 171312844467 | AU12: 2380510167 | AV12: 168932334300 | AW12: 7249352662 | AX12: 7249352662 | AY12: 0 | AZ12: 0 | BA12: 0 | BB12: 0 | BC12: 0 | BD12: 1500000000 | BE12: 0 | BF12: 1500000000 | BG12: 0 | BH12: 0 | BI12: 0 | BJ12: -5749352662 | BK12: 5749352662 | BL12: 0 | BM12: 1 | BN12: 0 | BP12: 1
A13: Kab. Aceh Selatan | B13: 5 | C13: 5 | D13: Kab. Aceh Selatan | E13: 1 Tahun 2025 | F13: 45692 | G13: 1463636968352 | H13: 231414664463 | I13: 48510125963 | J13: 20740538500 | K13: 4200000000 | L13: 157964000000 | M13: 1213422303889 | N13: 1179314906000 | O13: 46178272000 | P13: 0 | Q13: 198440845000 | R13: 0 | S13: 15720236000 | T13: 661320354000 | U13: 257655199000 | V13: 34107397889 | W13: 34107397889 | X13: 0 | Y13: 18800000000 | Z13: 0 | AA13: 0 | AB13: 18800000000 | AC13: 1479904364638 | AD13: 1037721194683 | AE13: 570327682852 | AF13: 392879564444 | AG13: 0 | AH13: 633120000 | AI13: 66670618387 | AJ13: 7210209000 | AK13: 158169754884 | AL13: 0 | AM13: 14334193545 | AN13: 37463551460 | AO13: 105837009879 | AP13: 210000000 | AQ13: 325000000 | AR13: 10250310871 | AS13: 10250310871 | AT13: 273763104200 | AU13: 7899347600 | AV13: 265863756600 | AW13: 18267396286 | AX13: 18267396286 | AY13: 0 | AZ13: 0 | BA13: 0 | BB13: 0 | BC13: 0 | BD13: 2000000000 | BE13: 0 | BF13: 2000000000 | BG13: 0 | BH13: 0 | BI13: 0 | BJ13: -16267396286 | BK13: 16267396286 | BL13: 0 | BM13: 0 | BN13: 1 | BP13: 1
A14: Kab. Aceh Singkil | B14: 6 | C14: 6 | D14: Kab. Aceh Singkil | G14: 0 | H14: 0 | I14: 0 | J14: 0 | K14: 0 | L14: 0 | M14: 0 | N14: 0 | O14: 0 | P14: 0 | Q14: 0 | R14: 0 | S14: 0 | T14: 0 | U14: 0 | V14: 0 | W14: 0 | X14: 0 | Y14: 0 | Z14: 0 | AA14: 0 | AB14: 0 | AC14: 0 | AD14: 0 | AE14: 0 | AF14: 0 | AG14: 0 | AH14: 0 | AI14: 0 | AJ14: 0 | AK14: 0 | AL14: 0 | AM14: 0 | AN14: 0 | AO14: 0 | AP14: 0 | AQ14: 0 | AR14: 0 | AS14: 0 | AT14: 0 | AU14: 0 | AV14: 0 | AW14: 0 | AX14: 0 | AY14: 0 | AZ14: 0 | BA14: 0 | BB14: 0 | BC14: 0 | BD14: 0 | BE14: 0 | BF14: 0 | BG14: 0 | BH14: 0 | BI14: 0 | BJ14: 0 | BK14: 0 | BL14: 0 | BM14: 0 | BN14: 0 | BP14: 0
A15: Kab. Aceh Tamiang | B15: 7 | C15: 7 | D15: Kab. Aceh Tamiang | G15: 0 | H15: 0 | I15: 0 | J15: 0 | K15: 0 | L15: 0 | M15: 0 | N15: 0 | O15: 0 | P15: 0 | Q15: 0 | R15: 0 | S15: 0 | T15: 0 | U15: 0 | V15: 0 | W15: 0 | X15: 0 | Y15: 0 | Z15: 0 | AA15: 0 | AB15: 0 | AC15: 0 | AD15: 0 | AE15: 0 | AF15: 0 | AG15: 0 | AH15: 0 | AI15: 0 | AJ15: 0 | AK15: 0 | AL15: 0 | AM15: 0 | AN15: 0 | AO15: 0 | AP15: 0 | AQ15: 0 | AR15: 0 | AS15: 0 | AT15: 0 | AU15: 0 | AV15: 0 | AW15: 0 | AX15: 0 | AY15: 0 | AZ15: 0 | BA15: 0 | BB15: 0 | BC15: 0 | BD15: 0 | BE15: 0 | BF15: 0 | BG15: 0 | BH15: 0 | BI15: 0 | BJ15: 0 | BK15: 0 | BL15: 0 | BM15: 0 | BN15: 0 | BP15: 0
A16: Kab. Aceh Tengah | B16: 8 | C16: 8 | D16: Kab. Aceh Tengah | E16: 01 Tahun 2025 | F16: 45672.699 | G16: 1386890145894 | H16: 181170459722 | I16: 34556456962 | J16: 10306440760 | K16: 6600000000 | L16: 129707562000 | M16: 1188719686172 | N16: 1161526635731 | O16: 47855883000 | P16: 0 | Q16: 215434104000 | R16: 7198697000 | S16: 26584919000 | T16: 646509665000 | U16: 217943367731 | V16: 27193050441 | W16: 27193050441 | X16: 0 | Y16: 17000000000 | Z16: 1000000000 | AA16: 0 | AB16: 16000000000 | AC16: 1427439692114 | AD16: 9.8817883e+11 | AE16: 6.6874754e+11 | AF16: 2.5990465e+11 | AG16: 0 | AH16: 455000000 | AI16: 34730884493 | AJ16: 24340751601 | AK16: 1.491877e+11 | AL16: 0 | AM16: 2.8356275e+10 | AN16: 17468934880 | AO16: 98897475609 | AP16: 4095019300 | AQ16: 370000000 | AR16: 5000000000 | AS16: 5000000000 | AT16: 285073161567 | AU16: 2625337500 | AV16: 282447824067 | AW16: 40549546220 | AX16: 40549546220 | AY16: 0 | AZ16: 0 | BA16: 0 | BB16: 0 | BC16: 0 | BD16: 0 | BE16: 0 | BF16: 0 | BG16: 0 | BH16: 0 | BI16: 0 | BJ16: -40549546220 | BK16: 40549546220 | BL16: 0 | BM16: 0 | BN16: 1 | BP16: 1
A17: Kab. Aceh Tenggara | B17: 9 | C17: 9 | D17: Kab. Aceh Tenggara | G17: 0 | H17: 0 | I17: 0 | J17: 0 | K17: 0 | L17: 0 | M17: 0 | N17: 0 | O17: 0 | P17: 0 | Q17: 0 | R17: 0 | S17: 0 | T17: 0 | U17: 0 | V17: 0 | W17: 0 | X17: 0 | Y17: 0 | Z17: 0 | AA17: 0 | AB17: 0 | AC17: 0 | AD17: 0 | AE17: 0 | AF17: 0 | AG17: 0 | AH17: 0 | AI17: 0 | AJ17: 0 | AK17: 0 | AL17: 0 | AM17: 0 | AN17: 0 | AO17: 0 | AP17: 0 | AQ17: 0 | AR17: 0 | AS17: 0 | AT17: 0 | AU17: 0 | AV17: 0 | AW17: 0 | AX17: 0 | AY17: 0 | AZ17: 0 | BA17: 0 | BB17: 0 | BC17: 0 | BD17: 0 | BE17: 0 | BF17: 0 | BG17: 0 | BH17: 0 | BI17: 0 | BJ17: 0 | BK17: 0 | BL17: 0 | BM17: 0 | BN17: 0 | BP17: 0
A18: Kab. Aceh Timur | B18: 10 | C18: 10 | D18: Kab. Aceh Timur | E18: 5 Tahun 2024 | F18: 45657.042 | G18: 2028488347538 | H18: 174297378336 | I18: 47208162810 | J18: 1423000000 | K18: 2000000000 | L18: 123666215526 | M18: 1806769255161 | N18: 1758771804000 | O18: 58432686000 | P18: 0 | Q18: 378883238000 | R18: 0 | S18: 67051330000 | T18: 904320199000 | U18: 350084351000 | V18: 47997451161 | W18: 47997451161 | X18: 0 | Y18: 47421714041 | Z18: 0 | AA18: 0 | AB18: 47421714041 | AC18: 2011924686338 | AD18: 1365566134145 | AE18: 907854628014 | AF18: 376828925264 | AG18: 0 | AH18: 960000000 | AI18: 63997231867 | AJ18: 15925349000 | AK18: 149762893051 | AL18: 6713300000 | AM18: 47266214098 | AN18: 14152163174 | AO18: 81067174779 | AP18: 564041000 | AQ18: 0 | AR18: 2205000000 | AS18: 2205000000 | AT18: 494390659142 | AU18: 4425127375 | AV18: 489965531767 | AW18: 0 | AX18: 0 | AY18: 0 | AZ18: 0 | BA18: 0 | BB18: 0 | BC18: 0 | BD18: 16563661200 | BE18: 0 | BF18: 0 | BG18: 16563661200 | BH18: 0 | BI18: 0 | BJ18: 16563661200 | BK18: -16563661200 | BL18: 0 | BM18: 1 | BN18: 0 | BP18: 1
A19: Kab. Aceh Utara | B19: 11 | C19: 11 | D19: Kab. Aceh Utara | E19: 10 Tahun 2024 | F19: 45657.697 | G19: 2633081333709 | H19: 236793813091 | I19: 66808788328 | J19: 3872051342 | K19: 15790901421 | L19: 150322072000 | M19: 2335075851256 | N19: 2286070982948 | O19: 57578885000 | P19: 0 | Q19: 614130396000 | R19: 0 | S19: 62286321948 | T19: 1042991734000 | U19: 509083646000 | V19: 49004868308 | W19: 48548868308 | X19: 456000000 | Y19: 61211669362 | Z19: 0 | AA19: 0 | AB19: 61211669362 | AC19: 2686025388669 | AD19: 1.6211368e+12 | AE19: 1.0565954e+12 | AF19: 4.9602326e+11 | AG19: 0 | AH19: 1080000000 | AI19: 4.5916121e+10 | AJ19: 21522051135 | AK19: 3.3191714e+11 | AL19: 0 | AM19: 1.517976e+11 | AN19: 4.2557442e+10 | AO19: 1.3576385e+11 | AP19: 1668237500 | AQ19: 130000000 | AR19: 3000000000 | AS19: 3000000000 | AT19: 729971401903 | AU19: 4930252143 | AV19: 725041149760 | AW19: 52944054960 | AX19: 52944054960 | AY19: 0 | AZ19: 0 | BA19: 0 | BB19: 0 | BC19: 0 | BD19: 0 | BE19: 0 | BF19: 0 | BG19: 0 | BH19: 0 | BI19: 0 | BJ19: -52944054960 | BK19: 52944054960 | BL19: 0 | BM19: 1 | BN19: 0 | BP19: 1
A20: Kab. Bener Meriah | B20: 12 | C20: 12 | D20: Kab. Bener Meriah | E20: 04 Tahun 2024 | F20: 45657 | G20: 1.0567441e+12 | H20: 86139785402 | I20: 7036360000 | J20: 5864011000 | K20: 3770585510 | L20: 69468828892 | M20: 9.535967e+11 | N20: 916638909000 | O20: 39919827000 | P20: 0 | Q20: 166731553000 | R20: 6995436000 | S20: 12705865000 | T20: 498122244000 | U20: 192163984000 | V20: 3.695779e+10 | W20: 3.695779e+10 | X20: 0 | Y20: 17007582747 | Z20: 57970000 | AA20: 0 | AB20: 16949612747 | AC20: 1.1217477e+12 | AD20: 7.2700165e+11 | AE20: 5.0647376e+11 | AF20: 198147561347 | AG20: 0 | AH20: 0 | AI20: 7918329300 | AJ20: 14462000000 | AK20: 137534528449 | AL20: 512000000 | AM20: 13751860851 | AN20: 30835008228 | AO20: 86317530900 | AP20: 3221128470 | AQ20: 2897000000 | AR20: 35600000000 | AS20: 35600000000 | AT20: 221611553000 | AU20: 450000000 | AV20: 221161553000 | AW20: 6.5003667e+10 | AX20: 6.5003667e+10 | AY20: 0 | AZ20: 0 | BA20: 0 | BB20: 0 | BC20: 0 | BD20: 0 | BE20: 0 | BF20: 0 | BG20: 0 | BH20: 0 | BI20: 0 | BJ20: -6.5003667e+10 | BK20: 6.5003667e+10 | BL20: 0 | BM20: 1 | BN20: 0 | BP20: 1
A21: Kab. Bireuen | B21: 13 | C21: 13 | D21: Kab. Bireun | E21: 1 TAHUN 2025 | F21: 45679 | G21: 2.0261437e+12 | H21: 236818905428 | I21: 73947532994 | J21: 12574660000 | K21: 5000000000 | L21: 145296712434 | M21: 1.7578248e+12 | N21: 1718533527000 | O21: 47263711000 | P21: 0 | Q21: 434655377000 | R21: 0 | S21: 15578597000 | T21: 913084526000 | U21: 307951316000 | V21: 3.9291307e+10 | W21: 3.9291307e+10 | X21: 0 | Y21: 31500000000 | Z21: 0 | AA21: 0 | AB21: 31500000000 | AC21: 2.0603843e+12 | AD21: 1.3511655e+12 | AE21: 8.478708e+11 | AF21: 397181137616 | AG21: 0 | AH21: 442850000 | AI21: 79385990869 | AJ21: 26284754980 | AK21: 170385555194 | AL21: 0 | AM21: 33781576880 | AN21: 66806572437 | AO21: 52791229477 | AP21: 17006176400 | AQ21: 0 | AR21: 2881174292 | AS21: 2881174292 | AT21: 535952008599 | AU21: 8392319299 | AV21: 527559689300 | AW21: 34240528881 | AX21: 34240528881 | AY21: 0 | AZ21: 0 | BA21: 0 | BB21: 0 | BC21: 0 | BD21: 0 | BE21: 0 | BF21: 0 | BG21: 0 | BH21: 0 | BI21: 0 | BJ21: -34240528881 | BK21: 34240528881 | BL21: 0 | BM21: 0 | BN21: 1 | BP21: 1
A22: Kab. Gayo Lues | B22: 14 | C22: 14 | D22: Kab. Gayo Lues | E22: 01 Tahun 2025 | F22: 45677 | G22: 872115827565 | H22: 84267214201 | I22: 26823029699 | J22: 44227129591 | K22: 4563729067 | L22: 8653325844 | M22: 787848613364 | N22: 760716815000 | O22: 45117551000 | P22: 0 | Q22: 105476181000 | R22: 0 | S22: 18493823000 | T22: 472988687000 | U22: 118640573000 | V22: 27131798364 | W22: 27131798364 | X22: 0 | Y22: 0 | Z22: 0 | AA22: 0 | AB22: 0 | AC22: 872115827565 | AD22: 586153880312 | AE22: 3.2865974e+11 | AF22: 2.2552357e+11 | AG22: 0 | AH22: 657332000 | AI22: 27576708200 | AJ22: 3736525844 | AK22: 119097306783 | AL22: 25000000 | AM22: 14228852132 | AN22: 6581987000 | AO22: 96760920931 | AP22: 1500546720 | AQ22: 0 | AR22: 7513848000 | AS22: 7513848000 | AT22: 159350792470 | AU22: 2763092970 | AV22: 156587699500 | AW22: 0 | AX22: 0 | AY22: 0 | AZ22: 0 | BA22: 0 | BB22: 0 | BC22: 0 | BD22: 0 | BE22: 0 | BF22: 0 | BG22: 0 | BH22: 0 | BI22: 0 | BJ22: 0 | BK22: 0 | BL22: 0 | BM22: 0 | BN22: 1 | BP22: 1
A23: Kab. Nagan Raya | B23: 15 | C23: 15 | D23: Kab. Nagan Raya | E23: 6 Tahun 2024 | F23: 45649 | G23: 1176189094426 | H23: 117637122558 | I23: 27785358369 | J23: 923257475 | K23: 2037246764 | L23: 86891259950 | M23: 1058551971868 | N23: 1020515989133 | O23: 42403402000 | P23: 0 | Q23: 163530670000 | R23: 0 | S23: 78331762133 | T23: 560446726000 | U23: 175803429000 | V23: 38035982735 | W23: 38035982735 | X23: 0 | Y23: 0 | Z23: 0 | AA23: 0 | AB23: 0 | AC23: 1238412307583 | AD23: 8.562266e+11 | AE23: 517196216304 | AF23: 3.2671426e+11 | AG23: 0 | AH23: 922500000 | AI23: 902627685 | AJ23: 10491000000 | AK23: 123159367796 | AL23: 0 | AM23: 18757540938 | AN23: 31200958474 | AO23: 72497203384 | AP23: 617565000 | AQ23: 86100000 | AR23: 14100000000 | AS23: 14100000000 | AT23: 244926336641 | AU23: 2436193366 | AV23: 242490143275 | AW23: 62223213157 | AX23: 62223213157 | AY23: 0 | AZ23: 0 | BA23: 0 | BB23: 0 | BC23: 0 | BD23: 0 | BE23: 0 | BF23: 0 | BG23: 0 | BH23: 0 | BI23: 0 | BJ23: -62223213157 | BK23: 62223213157 | BL23: 0 | BM23: 1 | BN23: 0 | BP23: 1
A24: Kab. Pidie Jaya | B24: 16 | C24: 16 | D24: Kab. Pidie Jaya | E24: 6 Tahun 2024 | F24: 45657.499 | G24: 961017279820 | H24: 136743500000 | I24: 9843000000 | J24: 4950500000 | K24: 2550000000 | L24: 119400000000 | M24: 812014050865 | N24: 789178595000 | O24: 37066109000 | P24: 0 | Q24: 159206462000 | R24: 0 | S24: 12081318000 | T24: 447774800000 | U24: 133049906000 | V24: 22835455865 | W24: 22835455865 | X24: 0 | Y24: 12259728955 | Z24: 0 | AA24: 0 | AB24: 12259728955 | AC24: 974917279820 | AD24: 658300641149 | AE24: 349501803740 | AF24: 287213257543 | AG24: 0 | AH24: 0 | AI24: 11471779866 | AJ24: 10113800000 | AK24: 112015952831 | AL24: 7506000000 | AM24: 17566196240 | AN24: 33487704933 | AO24: 51078763708 | AP24: 2377287950 | AQ24: 0 | AR24: 1250000000 | AS24: 1250000000 | AT24: 203350685840 | AU24: 0 | AV24: 203350685840 | AW24: 15000000000 | AX24: 15000000000 | AY24: 0 | AZ24: 0 | BA24: 0 | BB24: 0 | BC24: 0 | BD24: 1100000000 | BE24: 0 | BF24: 1100000000 | BG24: 0 | BH24: 0 | BI24: 0 | BJ24: -13900000000 | BK24: 13900000000 | BL24: 0 | BM24: 1 | BN24: 0 | BP24: 1
A25: Kab. Pidie | B25: 17 | C25: 17 | D25: Kab. Pidie | E25: 05 Tahun 2024 | F25: 45657.526 | G25: 2120314631939 | H25: 240995426702 | I25: 39170516899 | J25: 4197248080 | K25: 2429620214 | L25: 195198041509 | M25: 1845171073237 | N25: 1815338271000 | O25: 52322599000 | P25: 0 | Q25: 502708798000 | R25: 0 | S25: 21426448000 | T25: 915932549000 | U25: 322947877000 | V25: 29832802237 | W25: 29832802237 | X25: 0 | Y25: 34148132000 | Z25: 0 | AA25: 0 | AB25: 34148132000 | AC25: 2137280020659 | AD25: 1.3624309e+12 | AE25: 8.8626319e+11 | AF25: 3.8207561e+11 | AG25: 0 | AH25: 487500000 | AI25: 8.452737e+10 | AJ25: 9077256848 | AK25: 1.6818984e+11 | AL25: 1250000000 | AM25: 3.0062303e+10 | AN25: 4.9406328e+10 | AO25: 86211770251 | AP25: 1259443000 | AQ25: 0 | AR25: 8000000000 | AS25: 8000000000 | AT25: 598659251863 | AU25: 2899453863 | AV25: 595759798000 | AW25: 16965388720 | AX25: 16965388720 | AY25: 0 | AZ25: 0 | BA25: 0 | BB25: 0 | BC25: 0 | BD25: 0 | BE25: 0 | BF25: 0 | BG25: 0 | BH25: 0 | BI25: 0 | BJ25: -16965388720 | BK25: 16965388720 | BL25: 0 | BM25: 1 | BN25: 0 | BP25: 1
A26: Kab. Simeulue | B26: 18 | C26: 18 | D26: Kab. Simeulue | E26: 4 Tahun 2024 | F26: 45657 | G26: 8.9383842e+11 | H26: 8.7855351e+10 | I26: 5765000000 | J26: 9442260400 | K26: 5000000000 | L26: 6.7648091e+10 | M26: 795554516288 | N26: 766638754000 | O26: 38154584000 | P26: 0 | Q26: 102841865000 | R26: 0 | S26: 14072005000 | T26: 467355461000 | U26: 144214839000 | V26: 28915762288 | W26: 28741762288 | X26: 174000000 | Y26: 10428548227 | Z26: 0 | AA26: 0 | AB26: 10428548227 | AC26: 9.2631568e+11 | AD26: 6.2689546e+11 | AE26: 3.834437e+11 | AF26: 2.2379718e+11 | AG26: 0 | AH26: 1000000000 | AI26: 4157985069 | AJ26: 14496586534 | AK26: 9.7756816e+10 | AL26: 0 | AM26: 1.49674e+10 | AN26: 1621901500 | AO26: 74217185036 | AP26: 6950328793 | AQ26: 0 | AR26: 4.8118345e+10 | AS26: 4.8118345e+10 | AT26: 153545061904 | AU26: 2871709804 | AV26: 150673352100 | AW26: 3.2977264e+10 | AX26: 3.2977264e+10 | AY26: 0 | AZ26: 0 | BA26: 0 | BB26: 0 | BC26: 0 | BD26: 500000000 | BE26: 0 | BF26: 500000000 | BG26: 0 | BH26: 0 | BI26: 0 | BJ26: -3.2477264e+10 | BK26: 3.2477264e+10 | BL26: 7.2479248e-05 | BM26: 1 | BN26: 0 | BP26: 1
A27: Kota Langsa | B27: 19 | C27: 19 | D27: Kota Langsa | G27: 0 | H27: 0 | I27: 0 | J27: 0 | K27: 0 | L27: 0 | M27: 0 | N27: 0 | O27: 0 | P27: 0 | Q27: 0 | R27: 0 | S27: 0 | T27: 0 | U27: 0 | V27: 0 | W27: 0 | X27: 0 | Y27: 0 | Z27: 0 | AA27: 0 | AB27: 0 | AC27: 0 | AD27: 0 | AE27: 0 | AF27: 0 | AG27: 0 | AH27: 0 | AI27: 0 | AJ27: 0 | AK27: 0 | AL27: 0 | AM27: 0 | AN27: 0 | AO27: 0 | AP27: 0 | AQ27: 0 | AR27: 0 | AS27: 0 | AT27: 0 | AU27: 0 | AV27: 0 | AW27: 0 | AX27: 0 | AY27: 0 | AZ27: 0 | BA27: 0 | BB27: 0 | BC27: 0 | BD27: 0 | BE27: 0 | BF27: 0 | BG27: 0 | BH27: 0 | BI27: 0 | BJ27: 0 | BK27: 0 | BL27: 0 | BM27: 0 | BN27: 0 | BP27: 0
A28: Kota Banda Aceh | B28: 20 | C28: 20 | D28: Kota Banda Aceh | E28: 07 Tahun 2024 | F28: 45657.412 | G28: 1469160993273 | H28: 403774206214 | I28: 200599971256 | J28: 29638361674 | K28: 4213009121 | L28: 169322864163 | M28: 1049125296779 | N28: 1022179369100 | O28: 55719859100 | P28: 0 | Q28: 78956127000 | R28: 15527812000 | S28: 42516738000 | T28: 603765164000 | U28: 225693669000 | V28: 26945927679 | W28: 26945927679 | X28: 0 | Y28: 16261490280 | Z28: 0 | AA28: 0 | AB28: 16261490280 | AC28: 1476360993273 | AD28: 1173900119279 | AE28: 568374003483 | AF28: 559092799816 | AG28: 1600000000 | AH28: 1460000000 | AI28: 39656505980 | AJ28: 3716810000 | AK28: 155146206009 | AL28: 1731000000 | AM28: 66387819417 | AN28: 61244462442 | AO28: 21867330350 | AP28: 3915593800 | AQ28: 0 | AR28: 500000000 | AS28: 500000000 | AT28: 146814667985 | AU28: 3145350785 | AV28: 143669317200 | AW28: 10000000000 | AX28: 10000000000 | AY28: 0 | AZ28: 0 | BA28: 0 | BB28: 0 | BC28: 0 | BD28: 2800000000 | BE28: 0 | BF28: 0 | BG28: 2800000000 | BH28: 0 | BI28: 0 | BJ28: -7200000000 | BK28: 7200000000 | BL28: 0 | BM28: 1 | BN28: 0 | BP28: 1
A29: Kota Lhokseumawe | B29: 21 | C29: 21 | D29: Kota Lhokseumawe | E29: 01 Tahun 2025 | F29: 45671.276 | G29: 822149476344 | H29: 80895025543 | I29: 50871365493 | J29: 3451500000 | K29: 15500000000 | L29: 11072160050 | M29: 727907832958 | N29: 697608856000 | O29: 35636650000 | P29: 0 | Q29: 60814139000 | R29: 7385226000 | S29: 20977415000 | T29: 468844911000 | U29: 103950515000 | V29: 30298976958 | W29: 30298976958 | X29: 0 | Y29: 13346617843 | Z29: 0 | AA29: 0 | AB29: 13346617843 | AC29: 833801374315 | AD29: 630482353960 | AE29: 404519983386 | AF29: 187294160840 | AG29: 0 | AH29: 1005000000 | AI29: 16282039744 | AJ29: 21381169990 | AK29: 76604262935 | AL29: 0 | AM29: 24253740216 | AN29: 21805390829 | AO29: 23335973890 | AP29: 7209158000 | AQ29: 0 | AR29: 2000000000 | AS29: 2000000000 | AT29: 124714757420 | AU29: 7673581619 | AV29: 117041175801 | AW29: 12651897971 | AX29: 12651897971 | AY29: 0 | AZ29: 0 | BA29: 0 | BB29: 0 | BC29: 0 | BD29: 1000000000 | BE29: 0 | BF29: 1000000000 | BG29: 0 | BH29: 0 | BI29: 0 | BJ29: -11651897971 | BK29: 11651897971 | BL29: 0 | BM29: 0 | BN29: 1 | BP29: 1
A30: Kota Sabang | B30: 22 | C30: 22 | D30: Kota Sabang | E30: 06 Tahun 2024 | F30: 45657.675 | G30: 580746670626 | H30: 62677684772 | I30: 12968107998 | J30: 26898020000 | K30: 1452242234 | L30: 21359314540 | M30: 515482380211 | N30: 497675340000 | O30: 30667402000 | P30: 0 | Q30: 15258298000 | R30: 13677689000 | S30: 9747377000 | T30: 373726120000 | U30: 54598454000 | V30: 17807040211 | W30: 17807040211 | X30: 0 | Y30: 2586605643 | Z30: 0 | AA30: 0 | AB30: 2586605643 | AC30: 598246670626 | AD30: 489091576115 | AE30: 274339109845 | AF30: 197183413546 | AG30: 0 | AH30: 1630012000 | AI30: 8508787724 | AJ30: 7430253000 | AK30: 51467379861 | AL30: 0 | AM30: 14322983763 | AN30: 28239239098 | AO30: 8662157000 | AP30: 243000000 | AQ30: 0 | AR30: 2100000000 | AS30: 2100000000 | AT30: 55587714650 | AU30: 989802750 | AV30: 54597911900 | AW30: 18000000000 | AX30: 18000000000 | AY30: 0 | AZ30: 0 | BA30: 0 | BB30: 0 | BC30: 0 | BD30: 500000000 | BE30: 0 | BF30: 500000000 | BG30: 0 | BH30: 0 | BI30: 0 | BJ30: -17500000000 | BK30: 17500000000 | BL30: 0 | BM30: 1 | BN30: 0 | BP30: 1
A31: Kota Subulussalam | B31: 23 | C31: 23 | D31: Kota Subulussalam | G31: 0 | H31: 0 | I31: 0 | J31: 0 | K31: 0 | L31: 0 | M31: 0 | N31: 0 | O31: 0 | P31: 0 | Q31: 0 | R31: 0 | S31: 0 | T31: 0 | U31: 0 | V31: 0 | W31: 0 | X31: 0 | Y31: 0 | Z31: 0 | AA31: 0 | AB31: 0 | AC31: 0 | AD31: 0 | AE31: 0 | AF31: 0 | AG31: 0 | AH31: 0 | AI31: 0 | AJ31: 0 | AK31: 0 | AL31: 0 | AM31: 0 | AN31: 0 | AO31: 0 | AP31: 0 | AQ31: 0 | AR31: 0 | AS31: 0 | AT31: 0 | AU31: 0 | AV31: 0 | AW31: 0 | AX31: 0 | AY31: 0 | AZ31: 0 | BA31: 0 | BB31: 0 | BC31: 0 | BD31: 0 | BE31: 0 | BF31: 0 | BG31: 0 | BH31: 0 | BI31: 0 | BJ31: 0 | BK31: 0 | BL31: 0 | BM31: 0 | BN31: 0 | BP31: 0
B32: Kab | C32: Kab | D32: Total Kabupaten | G32: 2.1765416e+13 | H32: 2.4259334e+12 | I32: 615842571613 | J32: 169361333508 | K32: 73578244249 | L32: 1.5671513e+12 | M32: 1.9017454e+13 | N32: 18531418912762 | O32: 691026199000 | P32: 0 | Q32: 3926156111000 | R32: 21105403000 | S32: 510499584081 | T32: 9890088645000 | U32: 3492542970681 | V32: 4.8603501e+11 | W32: 4.8540501e+11 | X32: 630000000 | Y32: 322028661864 | Z32: 1057970000 | AA32: 0 | AB32: 320970691864 | AC32: 2.2338078e+13 | AD32: 1.4614295e+13 | AE32: 9.0821737e+12 | AF32: 4.7656082e+12 | AG32: 0 | AH32: 8629980800 | AI32: 5.4697184e+11 | AJ32: 210911559005 | AK32: 2.4050327e+12 | AL32: 17383900000 | AM32: 5.3821402e+11 | AN32: 5.2100718e+11 | AO32: 1.2798256e+12 | AP32: 44591889742 | AQ32: 4010100000 | AR32: 2.1366989e+11 | AS32: 2.1366989e+11 | AT32: 5105080550016 | AU32: 66329939961 | AV32: 5038750610055 | AW32: 5.9832599e+11 | AX32: 5.9832599e+11 | AY32: 0 | AZ32: 0 | BA32: 0 | BB32: 0 | BC32: 0 | BD32: 25663661200 | BE32: 0 | BF32: 9100000000 | BG32: 16563661200 | BH32: 0 | BI32: 0 | BJ32: -5.7266233e+11 | BK32: 5.7266233e+11 | BL32: 0.00019454956 | BM32: 10 | BN32: 5
B33: Kota | C33: Kota | D33: Total Kota | G33: 2872057140243 | H33: 547346916529 | I33: 264439444747 | J33: 59987881674 | K33: 21165251355 | L33: 201754338753 | M33: 2292515509948 | N33: 2217463565100 | O33: 122023911100 | P33: 0 | Q33: 155028564000 | R33: 36590727000 | S33: 73241530000 | T33: 1446336195000 | U33: 384242638000 | V33: 75051944848 | W33: 75051944848 | X33: 0 | Y33: 32194713766 | Z33: 0 | AA33: 0 | AB33: 32194713766 | AC33: 2908409038214 | AD33: 2293474049354 | AE33: 1247233096714 | AF33: 943570374202 | AG33: 1600000000 | AH33: 4095012000 | AI33: 64447333448 | AJ33: 32528232990 | AK33: 283217848805 | AL33: 1731000000 | AM33: 104964543396 | AN33: 111289092369 | AO33: 53865461240 | AP33: 11367751800 | AQ33: 0 | AR33: 4600000000 | AS33: 4600000000 | AT33: 327117140055 | AU33: 11808735154 | AV33: 315308404901 | AW33: 40651897971 | AX33: 40651897971 | AY33: 0 | AZ33: 0 | BA33: 0 | BB33: 0 | BC33: 0 | BD33: 4300000000 | BE33: 0 | BF33: 1500000000 | BG33: 2800000000 | BH33: 0 | BI33: 0 | BJ33: -36351897971 | BK33: 36351897971 | BL33: 0 | BM33: 2 | BN33: 1
B34: KK | C34: KK | D34: Total Kabupaten/Kota Se-Aceh | G34: 2.4637473e+13 | H34: 2.9732804e+12 | I34: 880282016360 | J34: 229349215182 | K34: 94743495604 | L34: 1.7689056e+12 | M34: 2.1309969e+13 | N34: 20748882477862 | O34: 813050110100 | P34: 0 | Q34: 4081184675000 | R34: 57696130000 | S34: 583741114081 | T34: 11336424840000 | U34: 3876785608681 | V34: 5.6108696e+11 | W34: 5.6045696e+11 | X34: 630000000 | Y34: 354223375630 | Z34: 1057970000 | AA34: 0 | AB34: 353165405630 | AC34: 2.5246487e+13 | AD34: 1.6907769e+13 | AE34: 1.0329407e+13 | AF34: 5.7091785e+12 | AG34: 1600000000 | AH34: 12724992800 | AI34: 6.1141918e+11 | AJ34: 243439791995 | AK34: 2.6882505e+12 | AL34: 19114900000 | AM34: 6.4317856e+11 | AN34: 6.3229627e+11 | AO34: 1.3336911e+12 | AP34: 55959641542 | AQ34: 4010100000 | AR34: 2.1826989e+11 | AS34: 2.1826989e+11 | AT34: 5432197690071 | AU34: 78138675115 | AV34: 5354059014956 | AW34: 6.3897789e+11 | AX34: 6.3897789e+11 | AY34: 0 | AZ34: 0 | BA34: 0 | BB34: 0 | BC34: 0 | BD34: 29963661200 | BE34: 0 | BF34: 10600000000 | BG34: 19363661200 | BH34: 0 | BI34: 0 | BJ34: -6.0901423e+11 | BK34: 6.0901423e+11 | BL34: 0.00019454956 | BM34: 12 | BN34: 6
B35: N | C35: N | D35: Total Provinsi/Kab/Kota Se-Aceh | G35: 3.5434039e+13 | H35: 5.8324025e+12 | I35: 2602290251452 | J35: 929826848970 | K35: 360525297490 | L35: 1.9397601e+12 | M35: 2.9245445e+13 | N35: 28684357765862 | O35: 5122632750100 | P35: 0 | Q35: 4081184675000 | R35: 57696130000 | S35: 890097272081 | T35: 13544982519000 | U35: 4987764419681 | V35: 5.6108696e+11 | W35: 5.6045696e+11 | X35: 630000000 | Y35: 356191375630 | Z35: 3025970000 | AA35: 0 | AB35: 353165405630 | AC35: 3.6252927e+13 | AD35: 2.5102123e+13 | AE35: 1.4010113e+13 | AF35: 9.586375e+12 | AG35: 1600000000 | AH35: 17488992800 | AI35: 9.9174817e+11 | AJ35: 494797616066 | AK35: 3.692485e+12 | AL35: 32985985046 | AM35: 1.0728985e+12 | AN35: 9.5342963e+11 | AO35: 1.4720706e+12 | AP35: 156875195587 | AQ35: 4225100000 | AR35: 2.6369399e+11 | AS35: 2.6369399e+11 | AT35: 7194625415603 | AU35: 735593026055 | AV35: 6459032389548 | AW35: 9.0085215e+11 | AX35: 9.0085215e+11 | AY35: 0 | AZ35: 0 | BA35: 0 | BB35: 0 | BC35: 0 | BD35: 81963661200 | BE35: 52000000000 | BF35: 10600000000 | BG35: 19363661200 | BH35: 0 | BI35: 0 | BJ35: -8.1888849e+11 | BK35: 8.1888849e+11 | BL35: 0.0021476746 | BM35: 12 | BN35: 7
A36: Provinsi Sumatera Utara | B36: II | C36: 2 | D36: Prov. Sumatera Utara | E36: 7 Tahun 2024 | F36: 45653.667 | G36: 13242816095775 | H36: 7249501329775 | I36: 6366179295640 | J36: 173331559568 | K36: 343014445649 | L36: 366976028918 | M36: 5927014766000 | N36: 5927014766000 | O36: 0 | P36: 0 | Q36: 0 | R36: 0 | S36: 627857417000 | T36: 3195463210000 | U36: 2103694139000 | V36: 0 | W36: 0 | X36: 0 | Y36: 66300000000 | Z36: 6300000000 | AA36: 0 | AB36: 60000000000 | AC36: 13296266095775 | AD36: 7.3235436e+12 | AE36: 3608323861231 | AF36: 3.2804705e+12 | AG36: 0 | AH36: 0 | AI36: 415729254339 | AJ36: 19020000000 | AK36: 2.2949656e+12 | AL36: 7.6186016e+09 | AM36: 7.5028559e+11 | AN36: 281917627049 | AO36: 1250408305333 | AP36: 2328899724 | AQ36: 2406531800 | AR36: 123500000000 | AS36: 123500000000 | AT36: 3554256970681 | AU36: 3554256970681 | AV36: 0 | AW36: 103450000000 | AX36: 103450000000 | AY36: 0 | AZ36: 0 | BA36: 0 | BB36: 0 | BC36: 0 | BD36: 50000000000 | BE36: 0 | BF36: 50000000000 | BG36: 0 | BH36: 0 | BI36: 0 | BJ36: -53450000000 | BK36: 53450000000 | BL36: 0 | BM36: 1 | BN36: 0 | BP36: 1
A37: Kab. Asahan | B37: 24 | C37: 1 | D37: Kab. Asahan | E37: 10 TAHUN 2024 | F37: 45653.689 | G37: 1873449149765 | H37: 240828818606 | I37: 157610712717 | J37: 13709770200 | K37: 8174888129 | L37: 61333447560 | M37: 1602698750862 | N37: 1540919027000 | O37: 0 | P37: 0 | Q37: 173849005000 | R37: 14521739000 | S37: 80191543000 | T37: 981199628000 | U37: 291157112000 | V37: 61779723862 | W37: 61779723862 | X37: 0 | Y37: 29921580297 | Z37: 0 | AA37: 0 | AB37: 29921580297 | AC37: 1873449149765 | AD37: 1359276413442 | AE37: 741869212983 | AF37: 557882655459 | AG37: 0 | AH37: 0 | AI37: 58394345000 | AJ37: 1130200000 | AK37: 205474576723 | AL37: 0 | AM37: 37520572675 | AN37: 69305427758 | AO37: 87712790840 | AP37: 10935785450 | AQ37: 0 | AR37: 2000000000 | AS37: 2000000000 | AT37: 306698159600 | AU37: 19525384525 | AV37: 287172775075 | AW37: 0 | AX37: 0 | AY37: 0 | AZ37: 0 | BA37: 0 | BB37: 0 | BC37: 0 | BD37: 0 | BE37: 0 | BF37: 0 | BG37: 0 | BH37: 0 | BI37: 0 | BJ37: 0 | BK37: 0 | BL37: 0 | BM37: 1 | BN37: 0 | BP37: 1
A38: Kab. Batu Bara | B38: 25 | C38: 2 | D38: Kab. Batubara | E38: 7 Tahun 2024 | F38: 45657.993 | G38: 1299094854000 | H38: 203291371644 | I38: 174608858370 | J38: 6313000000 | K38: 4869513274 | L38: 17500000000 | M38: 1078258375356 | N38: 1025065432000 | O38: 0 | P38: 0 | Q38: 130627176000 | R38: 0 | S38: 39177204000 | T38: 628659798000 | U38: 226601254000 | V38: 53192943356 | W38: 53192943356 | X38: 0 | Y38: 17545107000 | Z38: 0 | AA38: 0 | AB38: 17545107000 | AC38: 1286182569528 | AD38: 955097368401 | AE38: 542257115100 | AF38: 391515106901 | AG38: 98000000 | AH38: 0 | AI38: 18687146400 | AJ38: 2540000000 | AK38: 116382344937 | AL38: 150000000 | AM38: 24227320846 | AN38: 19472032952 | AO38: 60199141139 | AP38: 12206050000 | AQ38: 127800000 | AR38: 4000000000 | AS38: 4000000000 | AT38: 210702856190 | AU38: 13891800690 | AV38: 196811055500 | AW38: 0 | AX38: 0 | AY38: 0 | AZ38: 0 | BA38: 0 | BB38: 0 | BC38: 0 | BD38: 12912284472 | BE38: 0 | BF38: 0 | BG38: 12912284472 | BH38: 0 | BI38: 0 | BJ38: 12912284472 | BK38: -12912284472 | BL38: 0 | BM38: 1 | BN38: 0 | BP38: 1
A39: Kab. Dairi | B39: 26 | C39: 3 | D39: Kab. Dairi | E39: 4 Tahun 2024 | F39: 45644.389 | G39: 1197015499604 | H39: 93022694604 | I39: 36017694604 | J39: 41930000000 | K39: 12000000000 | L39: 3075000000 | M39: 1088992805000 | N39: 1055225311000 | O39: 0 | P39: 0 | Q39: 130570255000 | R39: 0 | S39: 20083066000 | T39: 676567908000 | U39: 228004082000 | V39: 33767494000 | W39: 33767494000 | X39: 0 | Y39: 15000000000 | Z39: 0 | AA39: 0 | AB39: 15000000000 | AC39: 1227015499604 | AD39: 890698496466 | AE39: 625456353306 | AF39: 260193169260 | AG39: 0 | AH39: 0 | AI39: 5048973900 | AJ39: 0 | AK39: 128972255138 | AL39: 0 | AM39: 23612889178 | AN39: 32547729170 | AO39: 63114186150 | AP39: 9694950640 | AQ39: 2500000 | AR39: 5000000000 | AS39: 5000000000 | AT39: 202344748000 | AU39: 2381148000 | AV39: 199963600000 | AW39: 30000000000 | AX39: 30000000000 | AY39: 0 | AZ39: 0 | BA39: 0 | BB39: 0 | BC39: 0 | BD39: 0 | BE39: 0 | BF39: 0 | BG39: 0 | BH39: 0 | BI39: 0 | BJ39: -30000000000 | BK39: 30000000000 | BL39: 0 | BM39: 1 | BN39: 0 | BP39: 1
A40: Kab. Deli Serdang | B40: 27 | C40: 4 | D40: Kab. Deli Serdang | E40: 5 TAHUN 2024 | F40: 45576 | G40: 4804372365278 | H40: 1590489582469 | I40: 1264273303335 | J40: 94927225504 | K40: 20435467088 | L40: 210853586542 | M40: 3213882782809 | N40: 3009287483000 | O40: 0 | P40: 0 | Q40: 373382667000 | R40: 14072525000 | S40: 85948439000 | T40: 1870081114000 | U40: 665802738000 | V40: 204595299809 | W40: 181528963809 | X40: 23066336000 | Y40: 0 | Z40: 0 | AA40: 0 | AB40: 0 | AC40: 4831372365278 | AD40: 3329033954355 | AE40: 1657962312392 | AF40: 1460590636288 | AG40: 0 | AH40: 0 | AI40: 209881305675 | AJ40: 599700000 | AK40: 8.042664e+11 | AL40: 8010998292 | AM40: 102536283731 | AN40: 115648298843 | AO40: 5.5877731e+11 | AP40: 19143509803 | AQ40: 150000000 | AR40: 45000000000 | AS40: 45000000000 | AT40: 653072012069 | AU40: 84086389769 | AV40: 568985622300 | AW40: 45000000000 | AX40: 45000000000 | AY40: 0 | AZ40: 0 | BA40: 0 | BB40: 0 | BC40: 0 | BD40: 18000000000 | BE40: 0 | BF40: 18000000000 | BG40: 0 | BH40: 0 | BI40: 0 | BJ40: -27000000000 | BK40: 27000000000 | BL40: 0 | BM40: 1 | BN40: 0 | BP40: 1
A41: Kab. Humbang Hasundutan | B41: 28 | C41: 5 | D41: Kab. Humbang Hasundutan | E41: - | F41: 45656.456 | G41: 1010565805740 | H41: 87742336898 | I41: 25936468398 | J41: 7921368500 | K41: 5000000000 | L41: 48884500000 | M41: 912703428842 | N41: 884005304025 | O41: 0 | P41: 0 | Q41: 123976416000 | R41: 6546805000 | S41: 18386821025 | T41: 537107286000 | U41: 197987976000 | V41: 28698124817 | W41: 28698124817 | X41: 0 | Y41: 10120040000 | Z41: 0 | AA41: 0 | AB41: 10120040000 | AC41: 1013047092008 | AD41: 713789459377 | AE41: 470597447166 | AF41: 234114590483 | AG41: 0 | AH41: 0 | AI41: 8024421728 | AJ41: 1053000000 | AK41: 114396776578 | AL41: 330000000 | AM41: 23016455957 | AN41: 16064641187 | AO41: 69096735091 | AP41: 5688944343 | AQ41: 200000000 | AR41: 3000000000 | AS41: 3000000000 | AT41: 181860856053 | AU41: 2335029350 | AV41: 179525826703 | AW41: 2481286268 | AX41: 2481286268 | AY41: 0 | AZ41: 0 | BA41: 0 | BB41: 0 | BC41: 0 | BD41: 0 | BE41: 0 | BF41: 0 | BG41: 0 | BH41: 0 | BI41: 0 | BJ41: -2481286268 | BK41: 2481286268 | BL41: 0 | BM41: 0 | BN41: 0 | BP41: 1
A42: Kab. Karo | B42: 29 | C42: 6 | D42: Kab. Karo | E42: 07 Tahun 2024 | F42: 45646 | G42: 1463451165376 | H42: 156000124450 | I42: 101353011918 | J42: 40250280000 | K42: 5000000000 | L42: 9396832532 | M42: 1290395908055 | N42: 1239525087000 | O42: 0 | P42: 0 | Q42: 197663406000 | R42: 6709109000 | S42: 23882085000 | T42: 766475108000 | U42: 244795379000 | V42: 50870821055 | W42: 50870821055 | X42: 0 | Y42: 17055132871 | Z42: 0 | AA42: 0 | AB42: 17055132871 | AC42: 1481239644849 | AD42: 1026035696869 | AE42: 654688170632 | AF42: 348501733491 | AG42: 0 | AH42: 0 | AI42: 22845792746 | AJ42: 0 | AK42: 163653626876 | AL42: 0 | AM42: 35555340565 | AN42: 44038347575 | AO42: 75253682736 | AP42: 8686256000 | AQ42: 120000000 | AR42: 3464550812 | AS42: 3464550812 | AT42: 288085770292 | AU42: 11790329192 | AV42: 276295441100 | AW42: 17788479473 | AX42: 17788479473 | AY42: 0 | AZ42: 0 | BA42: 0 | BB42: 0 | BC42: 0 | BD42: 0 | BE42: 0 | BF42: 0 | BG42: 0 | BH42: 0 | BI42: 0 | BJ42: -17788479473 | BK42: 17788479473 | BL42: 0 | BM42: 1 | BN42: 0 | BP42: 1
A43: Kab. Labuhanbatu | B43: 30 | C43: 7 | D43: Kab. Labuhanbatu | E43: 9 Tahun 2024 | F43: 45657.417 | G43: 1426247152507 | H43: 282804503507 | I43: 138679503507 | J43: 122625000000 | K43: 12500000000 | L43: 9000000000 | M43: 1125442649000 | N43: 1075442649000 | O43: 0 | P43: 0 | Q43: 77510135000 | R43: 0 | S43: 71680666000 | T43: 727752364000 | U43: 198499484000 | V43: 50000000000 | W43: 50000000000 | X43: 0 | Y43: 18000000000 | Z43: 0 | AA43: 0 | AB43: 18000000000 | AC43: 1426247152507 | AD43: 1154178797157 | AE43: 709832123433 | AF43: 432254821724 | AG43: 0 | AH43: 0 | AI43: 9591852000 | AJ43: 2500000000 | AK43: 97271566699 | AL43: 0 | AM43: 20658097787 | AN43: 38771643389 | AO43: 37574008753 | AP43: 207816770 | AQ43: 60000000 | AR43: 3000000000 | AS43: 3000000000 | AT43: 171796788651 | AU43: 14580450351 | AV43: 157216338300 | AW43: 3000000000 | AX43: 3000000000 | AY43: 0 | AZ43: 0 | BA43: 0 | BB43: 0 | BC43: 0 | BD43: 3000000000 | BE43: 0 | BF43: 3000000000 | BG43: 0 | BH43: 0 | BI43: 0 | BJ43: 0 | BK43: 0 | BL43: 0 | BM43: 1 | BN43: 0 | BP43: 1
A44: Kab. Labuhanbatu Selatan | B44: 31 | C44: 8 | D44: Kab. Labuhanbatu Selatan | E44: 4 TAHUN 2024 | F44: 45650 | G44: 1034625864993 | H44: 106105872349 | I44: 69307282636 | J44: 3241607200 | K44: 3556982513 | L44: 30000000000 | M44: 919111438670 | N44: 875783143000 | O44: 0 | P44: 0 | Q44: 59972090000 | R44: 7233497000 | S44: 96584353000 | T44: 536821028000 | U44: 175172175000 | V44: 43328295670 | W44: 43328295670 | X44: 0 | Y44: 9408553974 | Z44: 0 | AA44: 0 | AB44: 9408553974 | AC44: 1058939816989 | AD44: 779099479954 | AE44: 460272511033 | AF44: 298350430921 | AG44: 0 | AH44: 0 | AI44: 19921538000 | AJ44: 555000000 | AK44: 130945140574 | AL44: 0 | AM44: 16212013162 | AN44: 8976864945 | AO44: 98283397433 | AP44: 7472865034 | AQ44: 0 | AR44: 18327679377 | AS44: 18327679377 | AT44: 130567517084 | AU44: 7254888984 | AV44: 123312628100 | AW44: 32313951996 | AX44: 32313951996 | AY44: 0 | AZ44: 0 | BA44: 0 | BB44: 0 | BC44: 0 | BD44: 8000000000 | BE44: 0 | BF44: 8000000000 | BG44: 0 | BH44: 0 | BI44: 0 | BJ44: -24313951996 | BK44: 24313951996 | BL44: 0 | BM44: 1 | BN44: 0 | BP44: 1
A45: Kab. Labuhanbatu Utara | B45: 32 | C45: 9 | D45: Kab. Labuhanbatu Utara | E45: 08 Tahun 2024 | F45: 45644 | G45: 1109697612967 | H45: 79966889669 | I45: 53799389669 | J45: 3352500000 | K45: 3300000000 | L45: 19515000000 | M45: 1014436642674 | N45: 981745689000 | O45: 0 | P45: 0 | Q45: 85881348000 | R45: 7111464000 | S45: 56583421000 | T45: 624907889000 | U45: 207261567000 | V45: 32690953674 | W45: 32690953674 | X45: 0 | Y45: 15294080624 | Z45: 0 | AA45: 0 | AB45: 15294080624 | AC45: 1139697612967 | AD45: 892850765377 | AE45: 538717317020 | AF45: 332305983016 | AG45: 0 | AH45: 0 | AI45: 19453506457 | AJ45: 2373958884 | AK45: 85976279090 | AL45: 1500000000 | AM45: 22327917601 | AN45: 12381266249 | AO45: 44681977224 | AP45: 4735118016 | AQ45: 350000000 | AR45: 5000000000 | AS45: 5000000000 | AT45: 155870568500 | AU45: 3829950000 | AV45: 152040618500 | AW45: 33000000000 | AX45: 33000000000 | AY45: 0 | AZ45: 0 | BA45: 0 | BB45: 0 | BC45: 0 | BD45: 3000000000 | BE45: 0 | BF45: 3000000000 | BG45: 0 | BH45: 0 | BI45: 0 | BJ45: -30000000000 | BK45: 30000000000 | BL45: 0 | BM45: 1 | BN45: 0 | BP45: 1
A46: Kab. Langkat | B46: 33 | C46: 10 | D46: Kab. Langkat | E46: 13 Tahun 2024 | F46: 45656 | G46: 2124784461943 | H46: 252010600000 | I46: 202340000000 | J46: 9072600000 | K46: 9950000000 | L46: 30648000000 | M46: 1824008661943 | N46: 1746266881000 | O46: 0 | P46: 0 | Q46: 239815472000 | R46: 0 | S46: 133283393000 | T46: 1373168016000 | U46: 0 | V46: 77741780943 | W46: 77741780943 | X46: 0 | Y46: 48765200000 | Z46: 0 | AA46: 0 | AB46: 48765200000 | AC46: 2121784461943 | AD46: 1466780887113 | AE46: 1045115399691 | AF46: 401116187422 | AG46: 0 | AH46: 0 | AI46: 11038610000 | AJ46: 9510690000 | AK46: 205143013700 | AL46: 579600280 | AM46: 76457765156 | AN46: 49111942889 | AO46: 78432725375 | AP46: 60980000 | AQ46: 500000000 | AR46: 42958688230 | AS46: 42958688230 | AT46: 406901872900 | AU46: 16441260000 | AV46: 390460612900 | AW46: 0 | AX46: 0 | AY46: 0 | AZ46: 0 | BA46: 0 | BB46: 0 | BC46: 0 | BD46: 3000000000 | BE46: 0 | BF46: 3000000000 | BG46: 0 | BH46: 0 | BI46: 0 | BJ46: 3000000000 | BK46: -3000000000 | BL46: 0 | BM46: 1 | BN46: 0 | BP46: 1
A47: Kab. Mandailing Natal | B47: 34 | C47: 11 | D47: Kab. Mandailing Natal | E47: 01 Tahun 2025 | F47: 45664 | G47: 1928374076483 | H47: 192066728685 | I47: 70361795000 | J47: 15343207000 | K47: 15000000000 | L47: 91361726685 | M47: 1729807347798 | N47: 1652961904950 | O47: 0 | P47: 0 | Q47: 298316313000 | R47: 7118778000 | S47: 81115254000 | T47: 899587754000 | U47: 366823805950 | V47: 76845442848 | W47: 76845442848 | X47: 0 | Y47: 6500000000 | Z47: 0 | AA47: 0 | AB47: 6500000000 | AC47: 2.0659958e+12 | AD47: 1458537862640 | AE47: 975652821714 | AF47: 472199780426 | AG47: 0 | AH47: 0 | AI47: 5725260500 | AJ47: 4960000000 | AK47: 1.890232e+11 | AL47: 8187500000 | AM47: 59312374097 | AN47: 48423416033 | AO47: 6.1114792e+10 | AP47: 11985114608 | AQ47: 0 | AR47: 10000000000 | AS47: 10000000000 | AT47: 408434693300 | AU47: 8510500200 | AV47: 399924193100 | AW47: 1.3762168e+11 | AX47: 1.3762168e+11 | AY47: 0 | AZ47: 0 | BA47: 0 | BB47: 0 | BC47: 0 | BD47: 0 | BE47: 0 | BF47: 0 | BG47: 0 | BH47: 0 | BI47: 0 | BJ47: -1.3762168e+11 | BK47: 1.3762168e+11 | BL47: 0 | BM47: 0 | BN47: 1 | BP47: 1
A48: Kab. Nias | B48: 35 | C48: 12 | D48: Kab. Nias | G48: 0 | H48: 0 | I48: 0 | J48: 0 | K48: 0 | L48: 0 | M48: 0 | N48: 0 | O48: 0 | P48: 0 | Q48: 0 | R48: 0 | S48: 0 | T48: 0 | U48: 0 | V48: 0 | W48: 0 | X48: 0 | Y48: 0 | Z48: 0 | AA48: 0 | AB48: 0 | AC48: 0 | AD48: 0 | AE48: 0 | AF48: 0 | AG48: 0 | AH48: 0 | AI48: 0 | AJ48: 0 | AK48: 0 | AL48: 0 | AM48: 0 | AN48: 0 | AO48: 0 | AP48: 0 | AQ48: 0 | AR48: 0 | AS48: 0 | AT48: 0 | AU48: 0 | AV48: 0 | AW48: 0 | AX48: 0 | AY48: 0 | AZ48: 0 | BA48: 0 | BB48: 0 | BC48: 0 | BD48: 0 | BE48: 0 | BF48: 0 | BG48: 0 | BH48: 0 | BI48: 0 | BJ48: 0 | BK48: 0 | BL48: 0 | BM48: 0 | BN48: 0 | BP48: 0
A49: Kab. Nias Barat | B49: 36 | C49: 13 | D49: Kab. Nias Barat | E49: 01 Tahun 2025 | F49: 45680.583 | G49: 934185024000 | H49: 22000000000 | I49: 8728708588 | J49: 1271000000 | K49: 1800000000 | L49: 10200291412 | M49: 906450024000 | N49: 888450024000 | O49: 0 | P49: 0 | Q49: 90475003000 | R49: 14522717000 | S49: 15785449000 | T49: 371753377000 | U49: 395913478000 | V49: 18000000000 | W49: 18000000000 | X49: 0 | Y49: 5735000000 | Z49: 0 | AA49: 0 | AB49: 5735000000 | AC49: 948544304900 | AD49: 559380141496 | AE49: 356817336864 | AF49: 193978658056 | AG49: 0 | AH49: 0 | AI49: 6661146576 | AJ49: 1923000000 | AK49: 258667687504 | AL49: 0 | AM49: 29744199482 | AN49: 166087316900 | AO49: 62627077000 | AP49: 209094122 | AQ49: 0 | AR49: 300000000 | AS49: 300000000 | AT49: 130196475900 | AU49: 1000000000 | AV49: 129196475900 | AW49: 15359280900 | AX49: 15359280900 | AY49: 0 | AZ49: 0 | BA49: 0 | BB49: 0 | BC49: 0 | BD49: 1000000000 | BE49: 0 | BF49: 1000000000 | BG49: 0 | BH49: 0 | BI49: 0 | BJ49: -14359280900 | BK49: 14359280900 | BL49: 0 | BM49: 0 | BN49: 1 | BP49: 1
A50: Kab. Nias Selatan | B50: 37 | C50: 14 | D50: Kab. Nias Selatan | E50: 8 Tahun 2024 | F50: 45657 | G50: 1.5053931e+12 | H50: 2.5564285e+10 | I50: 1.50456e+10 | J50: 417715300 | K50: 6560508400 | L50: 3540462200 | M50: 1463328810177 | N50: 1435747589000 | O50: 0 | P50: 0 | Q50: 386459500000 | R50: 14443800000 | S50: 21073716000 | T50: 712114441000 | U50: 301656132000 | V50: 27581221177 | W50: 27581221177 | X50: 0 | Y50: 16500000000 | Z50: 0 | AA50: 0 | AB50: 16500000000 | AC50: 1.5412535e+12 | AD50: 8.8171779e+11 | AE50: 5.2284283e+11 | AF50: 2.672927e+11 | AG50: 0 | AH50: 2706470450 | AI50: 87068848000 | AJ50: 1806950000 | AK50: 1.9587709e+11 | AL50: 0 | AM50: 3.5405404e+10 | AN50: 73586525170 | AO50: 8.5608121e+10 | AP50: 224290000 | AQ50: 1052750000 | AR50: 2500000000 | AS50: 2500000000 | AT50: 4.6115864e+11 | AU50: 1.5463315e+09 | AV50: 459612311600 | AW50: 38360433000 | AX50: 38360433000 | AY50: 0 | AZ50: 0 | BA50: 0 | BB50: 0 | BC50: 0 | BD50: 2500000000 | BE50: 0 | BF50: 2500000000 | BG50: 0 | BH50: 0 | BI50: 0 | BJ50: -3.5860433e+10 | BK50: 35860433000 | BL50: 0.00024414062 | BM50: 1 | BN50: 0 | BP50: 1
A51: Kab. Nias Utara | B51: 38 | C51: 15 | D51: Kab. Nias Utara | E51: 07 TAHUN 2024 | F51: 45645.757 | G51: 676848690193 | H51: 10800000000 | I51: 6000000000 | J51: 740000000 | K51: 3000000000 | L51: 1060000000 | M51: 656477860903 | N51: 631477860903 | O51: 0 | P51: 0 | Q51: 108038391000 | R51: 0 | S51: 11018785000 | T51: 434024462000 | U51: 78396222903 | V51: 25000000000 | W51: 25000000000 | X51: 0 | Y51: 9570829290 | Z51: 0 | AA51: 0 | AB51: 9570829290 | AC51: 701381100193 | AD51: 411684324928 | AE51: 290852237999 | AF51: 112082086929 | AG51: 0 | AH51: 0 | AI51: 8750000000 | AJ51: 0 | AK51: 119753109163 | AL51: 0 | AM51: 17034492880 | AN51: 3445048246 | AO51: 99252388037 | AP51: 21180000 | AQ51: 0 | AR51: 4252426102 | AS51: 4252426102 | AT51: 165691240000 | AU51: 1080000000 | AV51: 164611240000 | AW51: 24532410000 | AX51: 24532410000 | AY51: 0 | AZ51: 0 | BA51: 0 | BB51: 0 | BC51: 0 | BD51: 0 | BE51: 0 | BF51: 0 | BG51: 0 | BH51: 0 | BI51: 0 | BJ51: -24532410000 | BK51: 24532410000 | BL51: 0 | BM51: 1 | BN51: 0 | BP51: 1
A52: Kab. Padang Lawas | B52: 39 | C52: 16 | D52: Kab. Padang Lawas | E52: 1 Tahun 2025 | F52: 45700.543 | G52: 1184136305672 | H52: 52709000000 | I52: 36467743559 | J52: 3808436132 | K52: 3958461193 | L52: 8474359116 | M52: 1111241555672 | N52: 1065962174000 | O52: 0 | P52: 0 | Q52: 224897540000 | R52: 0 | S52: 51428532000 | T52: 542359940000 | U52: 247276162000 | V52: 45279381672 | W52: 45279381672 | X52: 0 | Y52: 20185750000 | Z52: 0 | AA52: 0 | AB52: 20185750000 | AC52: 1210913716467 | AD52: 772553226211 | AE52: 482232878142 | AF52: 275194278707 | AG52: 0 | AH52: 0 | AI52: 12860308956 | AJ52: 2265760406 | AK52: 137418060071 | AL52: 0 | AM52: 29411637023 | AN52: 36657718268 | AO52: 64395606600 | AP52: 6953098180 | AQ52: 0 | AR52: 11004653378 | AS52: 11004653378 | AT52: 289937776807 | AU52: 3574879515 | AV52: 286362897292 | AW52: 26777410795 | AX52: 26777410795 | AY52: 0 | AZ52: 0 | BA52: 0 | BB52: 0 | BC52: 0 | BD52: 0 | BE52: 0 | BF52: 0 | BG52: 0 | BH52: 0 | BI52: 0 | BJ52: -26777410795 | BK52: 26777410795 | BL52: 0 | BM52: 0 | BN52: 1 | BP52: 1
A53: Kab. Padang Lawas Utara | B53: 40 | C53: 17 | D53: Kab. Padang Lawas Utara | E53: 05 Tahun 2024 | F53: 45657 | G53: 1217569032589 | H53: 53709406650 | I53: 24273765680 | J53: 26085640970 | K53: 1850000000 | L53: 1500000000 | M53: 1146179683883 | N53: 1115277767000 | O53: 0 | P53: 0 | Q53: 285911461000 | R53: 7665529000 | S53: 62071161000 | T53: 564265297000 | U53: 195364319000 | V53: 30901916883 | W53: 30901916883 | X53: 0 | Y53: 17679942056 | Z53: 6000000000 | AA53: 0 | AB53: 11679942056 | AC53: 1224084024982 | AD53: 738463383683 | AE53: 445305877849 | AF53: 272543841852 | AG53: 7493491982 | AH53: 0 | AI53: 11325572000 | AJ53: 1794600000 | AK53: 130009297734 | AL53: 500000000 | AM53: 39178678111 | AN53: 26886812028 | AO53: 55804731353 | AP53: 7189076242 | AQ53: 450000000 | AR53: 3000000000 | AS53: 3000000000 | AT53: 352611343565 | AU53: 5035940665 | AV53: 347575402900 | AW53: 31500000000 | AX53: 31500000000 | AY53: 0 | AZ53: 0 | BA53: 0 | BB53: 0 | BC53: 0 | BD53: 24985007607 | BE53: 0 | BF53: 1095842907 | BG53: 23889164700 | BH53: 0 | BI53: 0 | BJ53: -6514992393 | BK53: 6514992393 | BL53: 0 | BM53: 1 | BN53: 0 | BP53: 1
A54: Kab. Pakpak Bharat | B54: 41 | C54: 18 | D54: Kab. Pakpak Bharat | E54: 05 TAHUN 2024 | F54: 45653.724 | G54: 590583187158 | H54: 24850353133 | I54: 5466793133 | J54: 3362560000 | K54: 2310000000 | L54: 13711000000 | M54: 558532508736 | N54: 540628212000 | O54: 0 | P54: 0 | Q54: 40869330000 | R54: 0 | S54: 16358237000 | T54: 360327030000 | U54: 123073615000 | V54: 17904296736 | W54: 17904296736 | X54: 0 | Y54: 7200325289 | Z54: 7200325289 | AA54: 0 | AB54: 0 | AC54: 6.3358319e+11 | AD54: 4.4433861e+11 | AE54: 2.5305784e+11 | AF54: 185639901230 | AG54: 0 | AH54: 0 | AI54: 5515863209 | AJ54: 125000000 | AK54: 1.0797806e+11 | AL54: 2945200000 | AM54: 8537660335 | AN54: 18866482382 | AO54: 7.7225113e+10 | AP54: 303600000 | AQ54: 100000000 | AR54: 2000000000 | AS54: 2000000000 | AT54: 79266522213 | AU54: 882935313 | AV54: 78383586900 | AW54: 48000000000 | AX54: 48000000000 | AY54: 0 | AZ54: 0 | BA54: 0 | BB54: 0 | BC54: 0 | BD54: 5000000000 | BE54: 0 | BF54: 5000000000 | BG54: 0 | BH54: 0 | BI54: 0 | BJ54: -4.3e+10 | BK54: 43000000000 | BL54: 0.00012207031 | BM54: 1 | BN54: 0 | BP54: 1
A55: Kab. Samosir | B55: 42 | C55: 19 | D55: Kab. Samosir | E55: 3 Tahun 2024 | F55: 45657 | G55: 849070942724 | H55: 110179791979 | I55: 43271304878 | J55: 13238112600 | K55: 8000000000 | L55: 45670374501 | M55: 730891150745 | N55: 708404662000 | O55: 0 | P55: 0 | Q55: 99031474000 | R55: 0 | S55: 16346806000 | T55: 457228540000 | U55: 135797842000 | V55: 22486488745 | W55: 22486488745 | X55: 0 | Y55: 8000000000 | Z55: 0 | AA55: 0 | AB55: 8000000000 | AC55: 8.4407094e+11 | AD55: 6.1307959e+11 | AE55: 3.5870792e+11 | AF55: 2.424069e+11 | AG55: 0 | AH55: 0 | AI55: 10353763310 | AJ55: 1611010500 | AK55: 7.2958604e+10 | AL55: 2102895000 | AM55: 1.8961507e+10 | AN55: 8.4195215e+09 | AO55: 40743098500 | AP55: 2431581570 | AQ55: 300000000 | AR55: 6.126089e+09 | AS55: 6.126089e+09 | AT55: 151906658049 | AU55: 5650941749 | AV55: 146255716300 | AW55: 0 | AX55: 0 | AY55: 0 | AZ55: 0 | BA55: 0 | BB55: 0 | BC55: 0 | BD55: 5000000000 | BE55: 0 | BF55: 5000000000 | BG55: 0 | BH55: 0 | BI55: 0 | BJ55: 5e+09 | BK55: -5000000000 | BL55: 0.0010986328 | BM55: 1 | BN55: 0 | BP55: 1
A56: Kab. Simalungun | B56: 43 | C56: 20 | D56: Kab. Simalungun | E56: 04 Tahun 2024 | F56: 45653 | G56: 2890038860307 | H56: 276846211070 | I56: 213371544866 | J56: 6059940466 | K56: 20880760687 | L56: 36533965051 | M56: 2568406264237 | N56: 2494834094000 | O56: 0 | P56: 0 | Q56: 332760518000 | R56: 0 | S56: 74648958000 | T56: 1523479289000 | U56: 563945329000 | V56: 73572170237 | W56: 73572170237 | X56: 0 | Y56: 44786385000 | Z56: 0 | AA56: 0 | AB56: 44786385000 | AC56: 2902538860307 | AD56: 2036585230065 | AE56: 1304880099463 | AF56: 6.9646792e+11 | AG56: 0 | AH56: 0 | AI56: 34684257500 | AJ56: 552950000 | AK56: 343049274976 | AL56: 0 | AM56: 54996925941 | AN56: 93772316573 | AO56: 166854056435 | AP56: 27230976027 | AQ56: 195000000 | AR56: 20000000000 | AS56: 20000000000 | AT56: 502904355266 | AU56: 10971574266 | AV56: 491932781000 | AW56: 20000000000 | AX56: 20000000000 | AY56: 0 | AZ56: 0 | BA56: 0 | BB56: 0 | BC56: 0 | BD56: 7500000000 | BE56: 0 | BF56: 7500000000 | BG56: 0 | BH56: 0 | BI56: 0 | BJ56: -12500000000 | BK56: 12500000000 | BL56: 0 | BM56: 1 | BN56: 0 | BP56: 1
A57: Kab. Tapanuli Selatan | B57: 44 | C57: 21 | D57: Kab. Tapanuli Selatan | E57: 2 Tahun 2024 | F57: 45657 | G57: 1551696111599 | H57: 119719219050 | I57: 43904935539 | J57: 15111177770 | K57: 58423105741 | L57: 2280000000 | M57: 1394744041639 | N57: 1361865181000 | O57: 0 | P57: 0 | Q57: 159313559000 | R57: 7311671000 | S57: 268928642000 | T57: 703746762000 | U57: 222564547000 | V57: 32878860639 | W57: 32878860639 | X57: 0 | Y57: 37232850910 | Z57: 20824800000 | AA57: 0 | AB57: 16408050910 | AC57: 1615016111599 | AD57: 1190466894185 | AE57: 727365110335 | AF57: 410262544466 | AG57: 0 | AH57: 0 | AI57: 49796511802 | AJ57: 3042727582 | AK57: 154150100952 | AL57: 0 | AM57: 31240603894 | AN57: 37093578000 | AO57: 75177572058 | AP57: 10418347000 | AQ57: 220000000 | AR57: 5000000000 | AS57: 5000000000 | AT57: 265399116462 | AU57: 5906113000 | AV57: 259493003462 | AW57: 73320000000 | AX57: 73320000000 | AY57: 0 | AZ57: 0 | BA57: 0 | BB57: 0 | BC57: 0 | BD57: 10000000000 | BE57: 0 | BF57: 10000000000 | BG57: 0 | BH57: 0 | BI57: 0 | BJ57: -63320000000 | BK57: 63320000000 | BL57: 0 | BM57: 1 | BN57: 0 | BP57: 1
A58: Kab. Tapanuli Tengah | B58: 45 | C58: 22 | D58: Kab. Tapanuli Tengah | E58: Tahun 2025 | F58: 45680.078 | G58: 1223250506108 | H58: 82805789000 | I58: 26957938000 | J58: 2090000000 | K58: 10790167000 | L58: 42967684000 | M58: 1117099129000 | N58: 1057699129000 | O58: 0 | P58: 0 | Q58: 134227146000 | R58: 0 | S58: 35596854000 | T58: 670361748000 | U58: 217513381000 | V58: 59400000000 | W58: 59400000000 | X58: 0 | Y58: 23345588108 | Z58: 0 | AA58: 0 | AB58: 23345588108 | AC58: 1226407680984 | AD58: 8.9089214e+11 | AE58: 528542438969 | AF58: 3.4389754e+11 | AG58: 3108426269 | AH58: 0 | AI58: 15343742350 | AJ58: 0 | AK58: 1.2341742e+11 | AL58: 0 | AM58: 2.5277178e+10 | AN58: 5.1428155e+10 | AO58: 43291604227 | AP58: 3420480000 | AQ58: 0 | AR58: 4.7335246e+09 | AS58: 4.7335246e+09 | AT58: 207364595600 | AU58: 2904793800 | AV58: 204459801800 | AW58: 17310021000 | AX58: 17310021000 | AY58: 0 | AZ58: 0 | BA58: 0 | BB58: 0 | BC58: 0 | BD58: 14152846124 | BE58: 0 | BF58: 3500000000 | BG58: 10652846124 | BH58: 0 | BI58: 0 | BJ58: -3157174876 | BK58: 3157174876 | BL58: 0 | BM58: 0 | BN58: 1 | BP58: 1
A59: Kab. Tapanuli Utara | B59: 46 | C59: 23 | D59: Kab. Tapanuli Utara | E59: 04 TAHUN 2024 | F59: 45657 | G59: 1497340383213 | H59: 155596311586 | I59: 41393750000 | J59: 96384058000 | K59: 10952342296 | L59: 6866161290 | M59: 1318321743127 | N59: 1239234301000 | O59: 0 | P59: 0 | Q59: 193023433000 | R59: 14959742000 | S59: 69448406000 | T59: 698160082000 | U59: 263642638000 | V59: 79087442127 | W59: 79087442127 | X59: 0 | Y59: 23422328500 | Z59: 0 | AA59: 0 | AB59: 23422328500 | AC59: 1.439983e+12 | AD59: 1.0547499e+12 | AE59: 7.4373978e+11 | AF59: 2.99214e+11 | AG59: 1305522106 | AH59: 0 | AI59: 8980312480 | AJ59: 1510231200 | AK59: 110937808514 | AL59: 0 | AM59: 42568879964 | AN59: 6942209550 | AO59: 33911536000 | AP59: 27515183000 | AQ59: 0 | AR59: 5000000000 | AS59: 5000000000 | AT59: 269295355100 | AU59: 0 | AV59: 269295355100 | AW59: 1.282627e+10 | AX59: 1.282627e+10 | AY59: 0 | AZ59: 0 | BA59: 0 | BB59: 0 | BC59: 0 | BD59: 70183634681 | BE59: 0 | BF59: 1000000000 | BG59: 69183634681 | BH59: 0 | BI59: 0 | BJ59: 5.7357365e+10 | BK59: -5.7357365e+10 | BL59: 0 | BM59: 1 | BN59: 0 | BP59: 1
A60: Kab. Toba | B60: 47 | C60: 24 | D60: Kab. Toba | E60: 8 Tahun 2024 | F60: 45657 | G60: 1274496114717 | H60: 136897636104 | I60: 88600182391 | J60: 32475748672 | K60: 10800000000 | L60: 5021705041 | M60: 1124453478613 | N60: 1015805256000 | O60: 0 | P60: 0 | Q60: 173257260000 | R60: 7136775000 | S60: 21989413000 | T60: 586761035000 | U60: 226660773000 | V60: 108648222613 | W60: 108648222613 | X60: 0 | Y60: 13145000000 | Z60: 0 | AA60: 0 | AB60: 13145000000 | AC60: 1329739617353 | AD60: 9.0865075e+11 | AE60: 538654395403 | AF60: 3.6216846e+11 | AG60: 0 | AH60: 30000000 | AI60: 7461195500 | AJ60: 336700000 | AK60: 1.4795418e+11 | AL60: 2058332028 | AM60: 3.5619835e+10 | AN60: 4.0408537e+10 | AO60: 69679388519 | AP60: 188085880 | AQ60: 0 | AR60: 6248096898 | AS60: 6248096898 | AT60: 266886587840 | AU60: 7273000000 | AV60: 259613587840 | AW60: 58243502636 | AX60: 58243502636 | AY60: 0 | AZ60: 0 | BA60: 0 | BB60: 0 | BC60: 0 | BD60: 3000000000 | BE60: 0 | BF60: 3000000000 | BG60: 0 | BH60: 0 | BI60: 0 | BJ60: -55243502636 | BK60: 55243502636 | BL60: 0 | BM60: 1 | BN60: 0 | BP60: 1
... A69: Kota Tebing Tinggi | B69: 56 | C69: 33 | D69: Kota Tebing Tinggi | E69: 5 Tahun 2024 | F69: 45653 | G69: 740114148738 | H69: 129157730738 | I69: 59945740000 | J69: 54673532467 | K69: 12271062000 | L69: 2267396271 | M69: 610956418000 | N69: 580752087000 | O69: 0 | P69: 0 | Q69: 0 | R69: 13719452000 | S69: 18081650000 | T69: 437713414000 | U69: 111237571000 | V69: 30204331000 | W69: 29204331000 | X69: 1000000000 | Y69: 0 | Z69: 0 | AA69: 0 | AB69: 0 | AC69: 759089756881 | AD69: 660426578185 | AE69: 384438397363 | AF69: 258315724822 | AG69: 0 | AH69: 0 | AI69: 16607656000 | AJ69: 1064800000 | AK69: 80863178696 | AL69: 0 | AM69: 17658633836 | AN69: 13997420200 | AO69: 43476622960 | AP69: 5186763000 | AQ69: 543738700 | AR69: 17800000000 | AS69: 17800000000 | AT69: 0 | AU69: 0 | AV69: 0 | AW69: 24975608143 | AX69: 24975608143 | AY69: 0 | AZ69: 0 | BA69: 0 | BB69: 0 | BC69: 0 | BD69: 6000000000 | BE69: 0 | BF69: 6000000000 | BG69: 0 | BH69: 0 | BI69: 0 | BJ69: -18975608143 | BK69: 18975608143 | BL69: 0 | BM69: 1 | BN69: 0 | BP69: 1
B70: Kab | C70: Kab | D70: Total Kabupaten | G70: 3.6443969e+13 | H70: 4.582275e+12 | I70: 3.0107703e+12 | J70: 570644948314 | K70: 245741662282 | L70: 755118095930 | M70: 31423959215821 | N70: 30118777799878 | O70: 0 | P70: 0 | Q70: 4328130634000 | R70: 144485300000 | S70: 1427152475025 | T70: 18149764029000 | U70: 6069245361853 | V70: 1305181415943 | W70: 1282115079943 | X70: 23066336000 | Y70: 437734375625 | Z70: 34025125289 | AA70: 0 | AB70: 403709250336 | AC70: 3.6899953e+13 | AD70: 2.5837254e+13 | AE70: 1.5783281e+13 | AF70: 9.3182367e+12 | AG70: 15887561357 | AH70: 2736470450 | AI70: 676720302589 | AJ70: 40391478572 | AK70: 4.2668179e+12 | AL70: 31364625600 | AM70: 8.3386743e+11 | AN70: 1.0464544e+12 | AO70: 2.1741057e+12 | AP70: 177197681685 | AQ70: 3828050000 | AR70: 2.1582171e+11 | AS70: 2.1582171e+11 | AT70: 6.5800598e+12 | AU70: 2.4784504e+11 | AV70: 6332214740772 | AW70: 6.8408426e+11 | AX70: 6.8408426e+11 | AY70: 0 | AZ70: 0 | BA70: 0 | BB70: 0 | BC70: 0 | BD70: 228099447412 | BE70: 0 | BF70: 74595842907 | BG70: 153503604505 | BH70: 0 | BI70: 0 | BJ70: -4.5598481e+11 | BK70: 4.5598481e+11 | BL70: 0.0014648438 | BM70: 19 | BN70: 4
B71: Kota | C71: Kota | D71: Total Kota | G71: 1.3631677e+13 | H71: 5.1654808e+12 | I71: 4101939903682 | J71: 491128735287 | K71: 82937896020 | L71: 4.8947428e+11 | M71: 8291475013302 | N71: 7618017161000 | O71: 0 | P71: 0 | Q71: 110487854000 | R71: 28186215000 | S71: 432894447000 | T71: 5616956624000 | U71: 1429492021000 | V71: 673457852302 | W71: 622457852302 | X71: 51000000000 | Y71: 174721498800 | Z71: 0 | AA71: 0 | AB71: 174721498800 | AC71: 1.3715784e+13 | AD71: 1.126706e+13 | AE71: 5.3295352e+12 | AF71: 5.4458978e+12 | AG71: 3880552498 | AH71: 270000000 | AI71: 364482673685 | AJ71: 122994098400 | AK71: 2.0069327e+12 | AL71: 113188283892 | AM71: 5.5073169e+11 | AN71: 6.3903125e+11 | AO71: 6.4843698e+11 | AP71: 54040868145 | AQ71: 1503599356 | AR71: 224661075567 | AS71: 224661075567 | AT71: 217129940042 | AU71: 3578565942 | AV71: 213551374100 | AW71: 2.3040443e+11 | AX71: 2.2920443e+11 | AY71: 0 | AZ71: 0 | BA71: 0 | BB71: 1200000000 | BC71: 0 | BD71: 146297804988 | BE71: 0 | BF71: 131000000000 | BG71: 12797804988 | BH71: 1000000000 | BI71: 1500000000 | BJ71: -8.410662e+10 | BK71: 8.410662e+10 | BL71: 0.0011749268 | BM71: 7 | BN71: 1
B72: KK | C72: KK | D72: Total Kabupaten/Kota Se-Sumut | G72: 5.0075646e+13 | H72: 9.7477558e+12 | I72: 7.1127102e+12 | J72: 1061773683601 | K72: 328679558302 | L72: 1.2445924e+12 | M72: 39715434229123 | N72: 37736794960878 | O72: 0 | P72: 0 | Q72: 4438618488000 | R72: 172671515000 | S72: 1860046922025 | T72: 23766720653000 | U72: 7498737382853 | V72: 1978639268245 | W72: 1904572932245 | X72: 74066336000 | Y72: 612455874425 | Z72: 34025125289 | AA72: 0 | AB72: 578430749136 | AC72: 5.0615737e+13 | AD72: 3.7104314e+13 | AE72: 2.1112817e+13 | AF72: 1.4764135e+13 | AG72: 19768113855 | AH72: 3006470450 | AI72: 1041202976274 | AJ72: 163385576972 | AK72: 6.2737506e+12 | AL72: 144552909492 | AM72: 1.3845991e+12 | AN72: 1.6854857e+12 | AO72: 2.8225427e+12 | AP72: 231238549830 | AQ72: 5331649356 | AR72: 4.4048278e+11 | AS72: 4.4048278e+11 | AT72: 6.7971897e+12 | AU72: 2.5142361e+11 | AV72: 6545766114872 | AW72: 9.1448868e+11 | AX72: 9.1328868e+11 | AY72: 0 | AZ72: 0 | BA72: 0 | BB72: 1200000000 | BC72: 0 | BD72: 374397252400 | BE72: 0 | BF72: 205595842907 | BG72: 166301409493 | BH72: 1000000000 | BI72: 1500000000 | BJ72: -5.4009143e+11 | BK72: 5.4009143e+11 | BL72: 0.0026397705 | BM72: 26 | BN72: 5
B73: N | C73: N | D73: Total Provinsi/Kab/Kota Se-Sumut | G73: 6.3318462e+13 | H73: 1.6997257e+13 | I73: 1.3478889e+13 | J73: 1235105243169 | K73: 671694003951 | L73: 1.6115684e+12 | M73: 45642448995123 | N73: 43663809726878 | O73: 0 | P73: 0 | Q73: 4438618488000 | R73: 172671515000 | S73: 2487904339025 | T73: 26962183863000 | U73: 9602431521853 | V73: 1978639268245 | W73: 1904572932245 | X73: 74066336000 | Y73: 678755874425 | Z73: 40325125289 | AA73: 0 | AB73: 638430749136 | AC73: 6.3912003e+13 | AD73: 4.4427858e+13 | AE73: 2.472114e+13 | AF73: 1.8044605e+13 | AG73: 19768113855 | AH73: 3006470450 | AI73: 1456932230613 | AJ73: 182405576972 | AK73: 8.5687162e+12 | AL73: 1.5217151e+11 | AM73: 2.1348847e+12 | AN73: 1.9674033e+12 | AO73: 4.072951e+12 | AP73: 233567449554 | AQ73: 7738181156 | AR73: 5.6398278e+11 | AS73: 5.6398278e+11 | AT73: 1.0351447e+13 | AU73: 3.8056806e+12 | AV73: 6545766114872 | AW73: 1.0179387e+12 | AX73: 1.0167387e+12 | AY73: 0 | AZ73: 0 | BA73: 0 | BB73: 1200000000 | BC73: 0 | BD73: 424397252400 | BE73: 0 | BF73: 255595842907 | BG73: 166301409493 | BH73: 1000000000 | BI73: 1500000000 | BJ73: -5.9354143e+11 | BK73: 5.9354143e+11 | BL73: 0.0026397705 | BM73: 27 | BN73: 5
A74: Provinsi Sumatera Barat | B74: III | C74: 3 | D74: Prov. Sumatera Barat | E74: 07 Tahun 2024 | F74: 45657.938 | G74: 6274132092948 | H74: 2832388541948 | I74: 2114428147371 | J74: 418152450667 | K74: 144997550509 | L74: 154810393401 | M74: 3423868351000 | N74: 3423868351000 | O74: 0 | P74: 0 | Q74: 0 | R74: 15594394000 | S74: 171605107000 | T74: 2114408729000 | U74: 1122260121000 | V74: 0 | W74: 0 | X74: 0 | Y74: 17875200000 | Z74: 17875200000 | AA74: 0 | AB74: 0 | AC74: 6438050092948 | AD74: 4.6515492e+12 | AE74: 2645455313089 | AF74: 1.8444693e+12 | AG74: 0 | AH74: 6500000000 | AI74: 155124559184 | AJ74: 0 | AK74: 8.5815945e+11 | AL74: 17017254528 | AM74: 211992404798 | AN74: 170710598059 | AO74: 4.132023e+11 | AP74: 45236890310 | AQ74: 0 | AR74: 3.7004236e+10 | AS74: 3.7004236e+10 | AT74: 891337199489 | AU74: 860837199489 | AV74: 30500000000 | AW74: 194918000000 | AX74: 194918000000 | AY74: 0 | AZ74: 0 | BA74: 0 | BB74: 0 | BC74: 0 | BD74: 31000000000 | BE74: 0 | BF74: 31000000000 | BG74: 0 | BH74: 0 | BI74: 0 | BJ74: -163918000000 | BK74: 163918000000 | BL74: 0 | BM74: 1 | BN74: 0 | BP74: 1
A75: Kab. Agam | B75: 57 | C75: 1 | D75: Kab. Agam | E75: Nomor 9 Tahun 2024 | F75: 45657.628 | G75: 1573318043171 | H75: 207819815431 | I75: 91558350536 | J75: 94860860488 | K75: 14000000000 | L75: 7400604407 | M75: 1365498227740 | N75: 1303017608000 | O75: 0 | P75: 0 | Q75: 100939408000 | R75: 0 | S75: 18996186000 | T75: 894663940000 | U75: 288418074000 | V75: 62480619740 | W75: 62480619740 | X75: 0 | Y75: 0 | Z75: 0 | AA75: 0 | AB75: 0 | AC75: 1.6302945e+12 | AD75: 1.3318576e+12 | AE75: 8.7180984e+11 | AF75: 4.3460631e+11 | AG75: 0 | AH75: 0 | AI75: 18010497812 | AJ75: 7431000000 | AK75: 91618407935 | AL75: 0 | AM75: 27995338637 | AN75: 8532774646 | AO75: 49385900139 | AP75: 5479394513 | AQ75: 225000000 | AR75: 8400000000 | AS75: 8400000000 | AT75: 198418399981 | AU75: 6443749581 | AV75: 191974650400 | AW75: 5.797641e+10 | AX75: 5.797641e+10 | AY75: 0 | AZ75: 0 | BA75: 0 | BB75: 0 | BC75: 0 | BD75: 1000000000 | BE75: 0 | BF75: 1000000000 | BG75: 0 | BH75: 0 | BI75: 0 | BJ75: -5.697641e+10 | BK75: 5.697641e+10 | BL75: 6.1035156e-05 | BM75: 1 | BN75: 0 | BP75: 1
A76: Kab. Dharmasraya | B76: 58 | C76: 2 | D76: Kab. Dharmasraya | E76: 07 Tahun 2024 | F76: 45656.776 | G76: 1030307107411 | H76: 144208308025 | I76: 48694984539 | J76: 83322394480 | K76: 5347929006 | L76: 6843000000 | M76: 874234646171 | N76: 827538489000 | O76: 0 | P76: 0 | Q76: 56185785000 | R76: 7204202000 | S76: 50144287000 | T76: 533940082000 | U76: 180064133000 | V76: 46696157171 | W76: 46696157171 | X76: 0 | Y76: 11864153215 | Z76: 100000000 | AA76: 0 | AB76: 11764153215 | AC76: 1101791542379 | AD76: 877710454245 | AE76: 5.2966121e+11 | AF76: 3.3412982e+11 | AG76: 0 | AH76: 0 | AI76: 13919430285 | AJ76: 0 | AK76: 93123528434 | AL76: 0 | AM76: 21122654670 | AN76: 21685519764 | AO76: 46054212700 | AP76: 3799955300 | AQ76: 461186000 | AR76: 9775000000 | AS76: 9775000000 | AT76: 121182559700 | AU76: 5134311500 | AV76: 116048248200 | AW76: 72984434968 | AX76: 72984434968 | AY76: 0 | AZ76: 0 | BA76: 0 | BB76: 0 | BC76: 0 | BD76: 1500000000 | BE76: 0 | BF76: 1500000000 | BG76: 0 | BH76: 0 | BI76: 0 | BJ76: -71484434968 | BK76: 71484434968 | BL76: 0 | BM76: 1 | BN76: 0 | BP76: 1
A77: Kab. Kepulauan Mentawai | B77: 59 | C77: 3 | D77: Kab. Kep. Mentawai | E77: 05 Tahun 2024 | F77: 45653.676 | G77: 959568484749 | H77: 59324354251 | I77: 9750886640 | J77: 22307054501 | K77: 16476655254 | L77: 10789757856 | M77: 893229561766 | N77: 883715112000 | O77: 0 | P77: 0 | Q77: 45696238000 | R77: 21715422000 | S77: 14350347000 | T77: 617399822000 | U77: 184553283000 | V77: 9514449766 | W77: 9514449766 | X77: 0 | Y77: 7014568732 | Z77: 0 | AA77: 0 | AB77: 7014568732 | AC77: 1003973145897 | AD77: 687773966339 | AE77: 430438708980 | AF77: 242373884359 | AG77: 0 | AH77: 4440000000 | AI77: 9976139000 | AJ77: 545234000 | AK77: 202128137144 | AL77: 4200000000 | AM77: 19855769552 | AN77: 42537052280 | AO77: 135505315312 | AP77: 30000000 | AQ77: 0 | AR77: 2000000000 | AS77: 2000000000 | AT77: 112071042414 | AU77: 3205794114 | AV77: 108865248300 | AW77: 44404661148 | AX77: 44404661148 | AY77: 0 | AZ77: 0 | BA77: 0 | BB77: 0 | BC77: 0 | BD77: 0 | BE77: 0 | BF77: 0 | BG77: 0 | BH77: 0 | BI77: 0 | BJ77: -44404661148 | BK77: 44404661148 | BL77: 0 | BM77: 1 | BN77: 0 | BP77: 1
A78: Kab. Lima Puluh Kota | B78: 60 | C78: 4 | D78: Kab. Lima Puluh Kota | E78: 5 TAHUN 2024 | F78: 45657 | G78: 1357905038595 | H78: 137846254440 | I78: 61932116163 | J78: 40316844857 | K78: 4659098147 | L78: 30938195273 | M78: 1220058784155 | N78: 1176167519000 | O78: 0 | P78: 0 | Q78: 86629539000 | R78: 0 | S78: 27382245000 | T78: 776228584000 | U78: 285927151000 | V78: 43891265155 | W78: 43891265155 | X78: 0 | Y78: 0 | Z78: 0 | AA78: 0 | AB78: 0 | AC78: 1379588285556 | AD78: 1062469226205 | AE78: 794085945585 | AF78: 240110907143 | AG78: 0 | AH78: 0 | AI78: 25947023477 | AJ78: 2325350000 | AK78: 140954469735 | AL78: 0 | AM78: 33670553268 | AN78: 33521971666 | AO78: 59999513700 | AP78: 13739431101 | AQ78: 23000000 | AR78: 2500000000 | AS78: 2500000000 | AT78: 173664589616 | AU78: 6706029116 | AV78: 166958560500 | AW78: 21683246961 | AX78: 21683246961 | AY78: 0 | AZ78: 0 | BA78: 0 | BB78: 0 | BC78: 0 | BD78: 0 | BE78: 0 | BF78: 0 | BG78: 0 | BH78: 0 | BI78: 0 | BJ78: -21683246961 | BK78: 21683246961 | BL78: 0 | BM78: 1 | BN78: 0 | BP78: 1
A79: Kab. Padang Pariaman | B79: 61 | C79: 5 | D79: Kab. Padang Pariaman | E79: 7 Tahun 2024 | F79: 45657 | G79: 1454686855839 | H79: 180895259765 | I79: 93109270526 | J79: 73407672200 | K79: 8728317039 | L79: 5650000000 | M79: 1273791596074 | N79: 1227519399000 | O79: 0 | P79: 0 | Q79: 102989508000 | R79: 7116369000 | S79: 12487302000 | T79: 794120185000 | U79: 310806035000 | V79: 46272197074 | W79: 46272197074 | X79: 0 | Y79: 0 | Z79: 0 | AA79: 0 | AB79: 0 | AC79: 1.5529197e+12 | AD79: 1.2538658e+12 | AE79: 8.704603e+11 | AF79: 3.6866402e+11 | AG79: 0 | AH79: 0 | AI79: 14738010000 | AJ79: 3500000 | AK79: 9.6113987e+10 | AL79: 10000000 | AM79: 13589700402 | AN79: 2.1733464e+10 | AO79: 60710822768 | AP79: 25000000 | AQ79: 45000000 | AR79: 10000000000 | AS79: 10000000000 | AT79: 192939884153 | AU79: 9488627053 | AV79: 183451257100 | AW79: 1.0073285e+11 | AX79: 1.0073285e+11 | AY79: 0 | AZ79: 0 | BA79: 0 | BB79: 0 | BC79: 0 | BD79: 2500000000 | BE79: 0 | BF79: 2500000000 | BG79: 0 | BH79: 0 | BI79: 0 | BJ79: -9.8232852e+10 | BK79: 9.8232852e+10 | BL79: 0 | BM79: 1 | BN79: 0 | BP79: 1
A80: Kab. Pasaman | B80: 62 | C80: 6 | D80: Kab. Pasaman | E80: 06 Tahun 2024 | F80: 45656 | G80: 1131232918521 | H80: 134561676768 | I80: 26259406176 | J80: 86393411546 | K80: 13111755376 | L80: 8797103670 | M80: 996671241753 | N80: 951135769000 | O80: 0 | P80: 0 | Q80: 69215249000 | R80: 0 | S80: 12531579000 | T80: 637737651000 | U80: 231651290000 | V80: 45535472753 | W80: 45535472753 | X80: 0 | Y80: 0 | Z80: 0 | AA80: 0 | AB80: 0 | AC80: 1210164973709 | AD80: 930234511642 | AE80: 642000082744 | AF80: 267588058698 | AG80: 0 | AH80: 0 | AI80: 20646370200 | AJ80: 0 | AK80: 121829131649 | AL80: 80000000 | AM80: 16922257855 | AN80: 37158253400 | AO80: 61509428533 | AP80: 4800596111 | AQ80: 1358595750 | AR80: 12746509000 | AS80: 12746509000 | AT80: 145354821418 | AU80: 2771768918 | AV80: 142583052500 | AW80: 78932055188 | AX80: 78932055188 | AY80: 0 | AZ80: 0 | BA80: 0 | BB80: 0 | BC80: 0 | BD80: 0 | BE80: 0 | BF80: 0 | BG80: 0 | BH80: 0 | BI80: 0 | BJ80: -78932055188 | BK80: 78932055188 | BL80: 0 | BM80: 1 | BN80: 0 | BP80: 1
A81: Kab. Pasaman Barat | B81: 63 | C81: 7 | D81: Kab. Pasaman Barat | E81: 05 Tahun 2024 | F81: 45657.618 | G81: 1336767126302 | H81: 161644196463 | I81: 62079355088 | J81: 78714313410 | K81: 8482828310 | L81: 12367699655 | M81: 1175122929839 | N81: 1124743007000 | O81: 0 | P81: 0 | Q81: 98139345000 | R81: 0 | S81: 31092113000 | T81: 699144283000 | U81: 296367266000 | V81: 50379922839 | W81: 50379922839 | X81: 0 | Y81: 0 | Z81: 0 | AA81: 0 | AB81: 0 | AC81: 1407908131829 | AD81: 1.0839231e+12 | AE81: 7.0180947e+11 | AF81: 3.5318302e+11 | AG81: 0 | AH81: 0 | AI81: 28930654679 | AJ81: 0 | AK81: 1.3933835e+11 | AL81: 85000000 | AM81: 21668974435 | AN81: 39081423075 | AO81: 7.2432208e+10 | AP81: 5611148000 | AQ81: 459600072 | AR81: 2500000000 | AS81: 2500000000 | AT81: 182146631808 | AU81: 6358907808 | AV81: 175787724000 | AW81: 71141005527 | AX81: 71141005527 | AY81: 0 | AZ81: 0 | BA81: 0 | BB81: 0 | BC81: 0 | BD81: 0 | BE81: 0 | BF81: 0 | BG81: 0 | BH81: 0 | BI81: 0 | BJ81: -71141005527 | BK81: 71141005527 | BL81: 0 | BM81: 1 | BN81: 0 | BP81: 1
A82: Kab. Pesisir Selatan | B82: 64 | C82: 8 | D82: Kab. Pesisir Selatan | E82: 05 Tahun 2024 | F82: 45657.785 | G82: 1843535482297 | H82: 202367202297 | I82: 59991398312 | J82: 109506961172 | K82: 29608842813 | L82: 3260000000 | M82: 1641168280000 | N82: 1537168280000 | O82: 0 | P82: 0 | Q82: 167031704000 | R82: 0 | S82: 26299085000 | T82: 982712767000 | U82: 361124724000 | V82: 104000000000 | W82: 104000000000 | X82: 0 | Y82: 0 | Z82: 0 | AA82: 0 | AB82: 0 | AC82: 1888535482297 | AD82: 1450362853175 | AE82: 1006600862884 | AF82: 4.1263687e+11 | AG82: 0 | AH82: 0 | AI82: 31123749917 | AJ82: 1372060 | AK82: 164588196043 | AL82: 708007500 | AM82: 34517274321 | AN82: 33768701319 | AO82: 83343196030 | AP82: 12251016873 | AQ82: 0 | AR82: 5000000000 | AS82: 5000000000 | AT82: 268584433079 | AU82: 3193744079 | AV82: 265390689000 | AW82: 45000000000 | AX82: 45000000000 | AY82: 0 | AZ82: 0 | BA82: 0 | BB82: 0 | BC82: 0 | BD82: 0 | BE82: 0 | BF82: 0 | BG82: 0 | BH82: 0 | BI82: 0 | BJ82: -45000000000 | BK82: 45000000000 | BL82: 0 | BM82: 1 | BN82: 0 | BP82: 1
A83: Kab. Sijunjung | B83: 65 | C83: 9 | D83: Kab. Sijunjung | E83: 10 tahun 2024 | F83: 45656.812 | G83: 1066101748393 | H83: 128407128838 | I83: 35398367498 | J83: 10282380040 | K83: 20185000000 | L83: 62541381300 | M83: 937694619555 | N83: 895340756000 | O83: 0 | P83: 0 | Q83: 63528658000 | R83: 6986983000 | S83: 29003399000 | T83: 574459913000 | U83: 221361803000 | V83: 42353863555 | W83: 42353863555 | X83: 0 | Y83: 0 | Z83: 0 | AA83: 0 | AB83: 0 | AC83: 1.1443163e+12 | AD83: 8.7863439e+11 | AE83: 5.9621265e+11 | AF83: 2.7274126e+11 | AG83: 0 | AH83: 0 | AI83: 8188473720 | AJ83: 1492000000 | AK83: 1.2102015e+11 | AL83: 0 | AM83: 23074660725 | AN83: 18533944200 | AO83: 7.8664818e+10 | AP83: 379927600 | AQ83: 366800000 | AR83: 5000000000 | AS83: 5000000000 | AT83: 139661793655 | AU83: 3392619055 | AV83: 136269174600 | AW83: 79214586000 | AX83: 78214586000 | AY83: 0 | AZ83: 0 | BA83: 0 | BB83: 1000000000 | BC83: 0 | BD83: 1000000000 | BE83: 0 | BF83: 0 | BG83: 0 | BH83: 1000000000 | BI83: 0 | BJ83: -7.8214586e+10 | BK83: 78214586000 | BL83: 0.00024414062 | BM83: 1 | BN83: 0 | BP83: 1
A84: Kab. Solok | B84: 66 | C84: 10 | D84: Kab. Solok | E84: 08 Tahun 2024 | F84: 45656.683 | G84: 1346109035955 | H84: 139987754098 | I84: 68641912570 | J84: 52251025791 | K84: 8409815737 | L84: 10685000000 | M84: 1206121281857 | N84: 1173842921000 | O84: 0 | P84: 0 | Q84: 82730445000 | R84: 0 | S84: 13959091000 | T84: 747218531000 | U84: 329934854000 | V84: 32278360857 | W84: 32278360857 | X84: 0 | Y84: 0 | Z84: 0 | AA84: 0 | AB84: 0 | AC84: 1.391109e+12 | AD84: 1.0722334e+12 | AE84: 7.038096e+11 | AF84: 3.5089063e+11 | AG84: 0 | AH84: 0 | AI84: 1.753319e+10 | AJ84: 0 | AK84: 1.4649793e+11 | AL84: 0 | AM84: 3.4756483e+10 | AN84: 3.8592209e+10 | AO84: 69169636210 | AP84: 3947204423 | AQ84: 32395000 | AR84: 5775000000 | AS84: 5775000000 | AT84: 166602689810 | AU84: 7766753810 | AV84: 158835936000 | AW84: 45000000000 | AX84: 45000000000 | AY84: 0 | AZ84: 0 | BA84: 0 | BB84: 0 | BC84: 0 | BD84: 0 | BE84: 0 | BF84: 0 | BG84: 0 | BH84: 0 | BI84: 0 | BJ84: -4.5e+10 | BK84: 45000000000 | BL84: 0.0012207031 | BM84: 1 | BN84: 0 | BP84: 1
A85: Kab. Solok Selatan | B85: 67 | C85: 11 | D85: Kab. Solok Selatan | E85: 7 Tahun 2024 | F85: 45656.722 | G85: 885326365396 | H85: 105429253424 | I85: 21565613517 | J85: 1819006700 | K85: 3200000000 | L85: 78844633207 | M85: 779897111972 | N85: 744960255000 | O85: 0 | P85: 0 | Q85: 43100516000 | R85: 7296889000 | S85: 49692333000 | T85: 481316945000 | U85: 163553572000 | V85: 34936856972 | W85: 34936856972 | X85: 0 | Y85: 0 | Z85: 0 | AA85: 0 | AB85: 0 | AC85: 956255540525 | AD85: 701064467290 | AE85: 427965928325 | AF85: 261926813989 | AG85: 0 | AH85: 0 | AI85: 11154324976 | AJ85: 17400000 | AK85: 156007538955 | AL85: 146446000 | AM85: 18768783914 | AN85: 53556192486 | AO85: 81115984405 | AP85: 2420132150 | AQ85: 0 | AR85: 1000000000 | AS85: 1000000000 | AT85: 98183534280 | AU85: 2338464180 | AV85: 95845070100 | AW85: 70929175129 | AX85: 70929175129 | AY85: 0 | AZ85: 0 | BA85: 0 | BB85: 0 | BC85: 0 | BD85: 0 | BE85: 0 | BF85: 0 | BG85: 0 | BH85: 0 | BI85: 0 | BJ85: -70929175129 | BK85: 70929175129 | BL85: 0 | BM85: 1 | BN85: 0 | BP85: 1
A86: Kab. Tanah Datar | B86: 68 | C86: 12 | D86: Kab. Tanah Datar | E86: 05 Tahun 2024 | F86: 45657.638 | G86: 1349851823416 | H86: 185345177383 | I86: 55766686000 | J86: 97572079383 | K86: 27500000000 | L86: 4506412000 | M86: 1164506646033 | N86: 1123378205000 | O86: 0 | P86: 0 | Q86: 75573026000 | R86: 16403358000 | S86: 12912244000 | T86: 721112879000 | U86: 297376698000 | V86: 41128441033 | W86: 41128441033 | X86: 0 | Y86: 0 | Z86: 0 | AA86: 0 | AB86: 0 | AC86: 1447885018926 | AD86: 1108970004073 | AE86: 758786277115 | AF86: 324193248202 | AG86: 0 | AH86: 485000000 | AI86: 23452756656 | AJ86: 2052722100 | AK86: 159620272675 | AL86: 0 | AM86: 64826670870 | AN86: 28594110225 | AO86: 61218627950 | AP86: 3079863630 | AQ86: 1901000000 | AR86: 11599047079 | AS86: 11599047079 | AT86: 167695695099 | AU86: 7547688534 | AV86: 160148006565 | AW86: 98033195510 | AX86: 98033195510 | AY86: 0 | AZ86: 0 | BA86: 0 | BB86: 0 | BC86: 0 | BD86: 0 | BE86: 0 | BF86: 0 | BG86: 0 | BH86: 0 | BI86: 0 | BJ86: -98033195510 | BK86: 98033195510 | BL86: 0 | BM86: 1 | BN86: 0 | BP86: 1
... A93: Kota Solok | B93: 75 | C93: 19 | D93: Kota Solok | E93: 06 Tahun 2024 | F93: 45657.69 | G93: 5.9469555e+11 | H93: 67500000000 | I93: 24078792841 | J93: 11630306945 | K93: 22949207812 | L93: 8841692402 | M93: 5.2719555e+11 | N93: 503963692000 | O93: 0 | P93: 0 | Q93: 0 | R93: 20917821000 | S93: 12292717000 | T93: 413143609000 | U93: 57609545000 | V93: 2.3231861e+10 | W93: 2.3231861e+10 | X93: 0 | Y93: 0 | Z93: 0 | AA93: 0 | AB93: 0 | AC93: 6.3884399e+11 | AD93: 5.7991529e+11 | AE93: 332474209766 | AF93: 2.3624057e+11 | AG93: 4973462976 | AH93: 0 | AI93: 6227045548 | AJ93: 0 | AK93: 5.3928695e+10 | AL93: 2710000000 | AM93: 21519601176 | AN93: 1.3803094e+10 | AO93: 1.5815469e+10 | AP93: 80530000 | AQ93: 0 | AR93: 5000000000 | AS93: 5000000000 | AT93: 0 | AU93: 0 | AV93: 0 | AW93: 7.1648434e+10 | AX93: 7.1648434e+10 | AY93: 0 | AZ93: 0 | BA93: 0 | BB93: 0 | BC93: 0 | BD93: 27500000000 | BE93: 0 | BF93: 2500000000 | BG93: 25000000000 | BH93: 0 | BI93: 0 | BJ93: -4.4148434e+10 | BK93: 4.4148434e+10 | BL93: 0 | BM93: 1 | BN93: 0 | BP93: 1
B94: Kab | C94: Kab | D94: Total Kabupaten | G94: 15334710030045 | H94: 1787836381183 | I94: 634748347565 | J94: 750754004568 | K94: 159710241682 | L94: 242623787368 | M94: 13527994926915 | N94: 12968527320000 | O94: 0 | P94: 0 | Q94: 991759421000 | R94: 66723223000 | S94: 298850211000 | T94: 8460055582000 | U94: 3151138883000 | V94: 559467606915 | W94: 559467606915 | X94: 0 | Y94: 18878721947 | Z94: 100000000 | AA94: 0 | AB94: 18778721947 | AC94: 1.6114742e+13 | AD94: 1.24391e+13 | AE94: 8.3336409e+12 | AF94: 3.8630448e+12 | AG94: 0 | AH94: 4925000000 | AI94: 2.2362062e+11 | AJ94: 13868578160 | AK94: 1.6328401e+12 | AL94: 5229453500 | AM94: 3.3076912e+11 | AN94: 3.7729562e+11 | AO94: 8.5910966e+11 | AP94: 55563669701 | AQ94: 4872576822 | AR94: 76295556079 | AS94: 76295556079 | AT94: 1966506075013 | AU94: 64348457748 | AV94: 1902157617265 | AW94: 7.8603162e+11 | AX94: 7.8503162e+11 | AY94: 0 | AZ94: 0 | BA94: 0 | BB94: 1000000000 | BC94: 0 | BD94: 6000000000 | BE94: 0 | BF94: 5000000000 | BG94: 0 | BH94: 1000000000 | BI94: 0 | BJ94: -7.8003162e+11 | BK94: 7.8003162e+11 | BL94: 0.0015258789 | BM94: 12 | BN94: 0
B95: Kota | C95: Kota | D95: Total Kota | G95: 6.749311e+12 | H95: 1509753022285 | I95: 875065290807 | J95: 423781593717 | K95: 104315177974 | L95: 106590959787 | M95: 5.239558e+12 | N95: 5048833283133 | O95: 0 | P95: 0 | Q95: 62640596000 | R95: 61679485000 | S95: 180759068000 | T95: 3850649372000 | U95: 893104762133 | V95: 1.9072467e+11 | W95: 1.9072467e+11 | X95: 0 | Y95: 0 | Z95: 0 | AA95: 0 | AB95: 0 | AC95: 6.9408662e+12 | AD95: 6.0785634e+12 | AE95: 3.5988316e+12 | AF95: 2.2655972e+12 | AG95: 8005606373 | AH95: 49251054709 | AI95: 138396690909 | AJ95: 18481214050 | AK95: 6.7427302e+11 | AL95: 16297023585 | AM95: 181982356376 | AN95: 1.9993818e+11 | AO95: 2.6361998e+11 | AP95: 12047930405 | AQ95: 387550000 | AR95: 25098109865 | AS95: 25098109865 | AT95: 1.6293172e+11 | AU95: 4.4609972e+09 | AV95: 158470720149 | AW95: 2.564934e+11 | AX95: 2.564934e+11 | AY95: 0 | AZ95: 0 | BA95: 0 | BB95: 0 | BC95: 0 | BD95: 64938144481 | BE95: 0 | BF95: 27500000000 | BG95: 36938144481 | BH95: 500000000 | BI95: 0 | BJ95: -1.9155525e+11 | BK95: 1.9155525e+11 | BL95: 0 | BM95: 7 | BN95: 0
B96: KK | C96: KK | D96: Total Kabupaten/Kota Se-Sumbar | G96: 2.2084021e+13 | H96: 3297589403468 | I96: 1509813638372 | J96: 1174535598285 | K96: 264025419656 | L96: 349214747155 | M96: 1.8767553e+13 | N96: 18017360603133 | O96: 0 | P96: 0 | Q96: 1054400017000 | R96: 128402708000 | S96: 479609279000 | T96: 12310704954000 | U96: 4044243645133 | V96: 7.5019228e+11 | W96: 7.5019228e+11 | X96: 0 | Y96: 18878721947 | Z96: 100000000 | AA96: 0 | AB96: 18778721947 | AC96: 2.3055608e+13 | AD96: 1.8517663e+13 | AE96: 1.1932473e+13 | AF96: 6.128642e+12 | AG96: 8005606373 | AH96: 54176054709 | AI96: 3.6201731e+11 | AJ96: 32349792210 | AK96: 2.3071131e+12 | AL96: 21526477085 | AM96: 5.1275148e+11 | AN96: 5.772338e+11 | AO96: 1.1227296e+12 | AP96: 67611600106 | AQ96: 5260126822 | AR96: 101393665944 | AS96: 101393665944 | AT96: 2.1294378e+12 | AU96: 6.8809455e+10 | AV96: 2060628337414 | AW96: 1.042525e+12 | AX96: 1.041525e+12 | AY96: 0 | AZ96: 0 | BA96: 0 | BB96: 1000000000 | BC96: 0 | BD96: 70938144481 | BE96: 0 | BF96: 32500000000 | BG96: 36938144481 | BH96: 1500000000 | BI96: 0 | BJ96: -9.7158687e+11 | BK96: 9.7158687e+11 | BL96: 0.0015258789 | BM96: 19 | BN96: 0
B97: N | C97: N | D97: Total Provinsi/Kab/Kota Se-Sumbar | G97: 2.8358153e+13 | H97: 6129977945416 | I97: 3624241785743 | J97: 1592688048952 | K97: 409022970165 | L97: 504025140556 | M97: 2.2191421e+13 | N97: 21441228954133 | O97: 0 | P97: 0 | Q97: 1054400017000 | R97: 143997102000 | S97: 651214386000 | T97: 14425113683000 | U97: 5166503766133 | V97: 7.5019228e+11 | W97: 7.5019228e+11 | X97: 0 | Y97: 36753921947 | Z97: 17975200000 | AA97: 0 | AB97: 18778721947 | AC97: 2.9493658e+13 | AD97: 2.3169213e+13 | AE97: 1.4577928e+13 | AF97: 7.9731114e+12 | AG97: 8005606373 | AH97: 60676054709 | AI97: 5.1714187e+11 | AJ97: 32349792210 | AK97: 3.1652726e+12 | AL97: 38543731613 | AM97: 7.2474388e+11 | AN97: 7.479444e+11 | AO97: 1.5359319e+12 | AP97: 112848490416 | AQ97: 5260126822 | AR97: 1.383979e+11 | AS97: 1.383979e+11 | AT97: 3.020775e+12 | AU97: 9.2964665e+11 | AV97: 2091128337414 | AW97: 1.237443e+12 | AX97: 1.236443e+12 | AY97: 0 | AZ97: 0 | BA97: 0 | BB97: 1000000000 | BC97: 0 | BD97: 101938144481 | BE97: 0 | BF97: 63500000000 | BG97: 36938144481 | BH97: 1500000000 | BI97: 0 | BJ97: -1.1355049e+12 | BK97: 1.1355049e+12 | BL97: 0.0015258789 | BM97: 20 | BN97: 0
A98: Provinsi Riau | B98: IV | C98: 4 | D98: Prov. Riau | E98: 1 Tahun 2025 | F98: 45660 | G98: 9563709137236 | H98: 5183950461067 | I98: 3725129637393 | J98: 15008108200 | K98: 815127007731 | L98: 628685707743 | M98: 4370680636169 | N98: 4370680636169 | O98: 0 | P98: 0 | Q98: 0 | R98: 0 | S98: 1508319975169 | T98: 1659102788000 | U98: 1203257873000 | V98: 0 | W98: 0 | X98: 0 | Y98: 9078040000 | Z98: 9078040000 | AA98: 0 | AB98: 0 | AC98: 9696544730078 | AD98: 6661776294766 | AE98: 2960778270668 | AF98: 3305682461016 | AG98: 0 | AH98: 0 | AI98: 375741828242 | AJ98: 19573734840 | AK98: 1460636615949 | AL98: 8293811350 | AM98: 589477867504 | AN98: 286223894387 | AO98: 514129882054 | AP98: 61553198534 | AQ98: 957962120 | AR98: 50000000000 | AS98: 50000000000 | AT98: 1524131819363 | AU98: 1290890375863 | AV98: 233241443500 | AW98: 132835592842 | AX98: 132835592842 | AY98: 0 | AZ98: 0 | BA98: 0 | BB98: 0 | BC98: 0 | BD98: 0 | BE98: 0 | BF98: 0 | BG98: 0 | BH98: 0 | BI98: 0 | BJ98: -132835592842 | BK98: 132835592842 | BL98: 0 | BM98: 0 | BN98: 1 | BP98: 1
A99: Kab. Bengkalis | B99: 76 | C99: 1 | D99: Kab. Bengkalis | E99: 08 Tahun 2024 | F99: 45558.626 | G99: 3217264617959 | H99: 782874854145 | I99: 246532500000 | J99: 173365554145 | K99: 327000000000 | L99: 35976800000 | M99: 2434389763814 | N99: 2262305040000 | O99: 0 | P99: 0 | Q99: 0 | R99: 0 | S99: 1836770185000 | T99: 425534855000 | U99: 0 | V99: 172084723814 | W99: 172084723814 | X99: 0 | Y99: 0 | Z99: 0 | AA99: 0 | AB99: 0 | AC99: 3292715704834 | AD99: 2500591824746 | AE99: 1170984227040 | AF99: 1234144020365 | AG99: 0 | AH99: 12040485841 | AI99: 57976691500 | AJ99: 25446400000 | AK99: 415645346124 | AL99: 1000000000 | AM99: 86058436825 | AN99: 98535315319 | AO99: 211751593980 | AP99: 18300000000 | AQ99: 0 | AR99: 22119434791 | AS99: 22119434791 | AT99: 354359099173 | AU99: 2.6128595e+10 | AV99: 328230504000 | AW99: 125451086875 | AX99: 124251086875 | AY99: 0 | AZ99: 0 | BA99: 0 | BB99: 1200000000 | BC99: 0 | BD99: 50000000000 | BE99: 0 | BF99: 50000000000 | BG99: 0 | BH99: 0 | BI99: 0 | BJ99: -75451086875 | BK99: 75451086875 | BL99: 0 | BM99: 1 | BN99: 0 | BP99: 1
A100: Kab. Indragiri Hilir | B100: 77 | C100: 2 | D100: Kab. Indragiri Hilir | E100: 07 Tahun 2024 | F100: 45636 | G100: 2.0493562e+12 | H100: 2.8319972e+11 | I100: 83190000000 | J100: 1.5674469e+11 | K100: 16660733802 | L100: 2.6604299e+10 | M100: 1766156502986 | N100: 1676116099000 | O100: 0 | P100: 0 | Q100: 182348473000 | R100: 0 | S100: 235131026000 | T100: 1065952068000 | U100: 192684532000 | V100: 90040403986 | W100: 90040403986 | X100: 0 | Y100: 0 | Z100: 0 | AA100: 0 | AB100: 0 | AC100: 2.2537176e+12 | AD100: 1.7247614e+12 | AE100: 1.0438575e+12 | AF100: 6.3688792e+11 | AG100: 0 | AH100: 22650000 | AI100: 43856802200 | AJ100: 136500000 | AK100: 1.6363966e+11 | AL100: 0 | AM100: 5.1827269e+10 | AN100: 59657928987 | AO100: 51560262623 | AP100: 276200000 | AQ100: 318000000 | AR100: 4.0417217e+10 | AS100: 4.0417217e+10 | AT100: 324899320400 | AU100: 8642538000 | AV100: 316256782400 | AW100: 2.0436134e+11 | AX100: 2.0436134e+11 | AY100: 0 | AZ100: 0 | BA100: 0 | BB100: 0 | BC100: 0 | BD100: 0 | BE100: 0 | BF100: 0 | BG100: 0 | BH100: 0 | BI100: 0 | BJ100: -2.0436134e+11 | BK100: 2.0436134e+11 | BL100: 0.00054931641 | BM100: 1 | BN100: 0 | BP100: 1
A101: Kab. Indragiri Hulu | B101: 78 | C101: 3 | D101: Kab. Indragiri Hulu | E101: 6 Tahun 2024 | F101: 45657.417 | G101: 1509154519153 | H101: 186975000326 | I101: 124821307363 | J101: 3702212500 | K101: 1306430140 | L101: 57145050323 | M101: 1297475061634 | N101: 1218805378000 | O101: 0 | P101: 0 | Q101: 154747025000 | R101: 14190971000 | S101: 198275058000 | T101: 787618924000 | U101: 63973400000 | V101: 78669683634 | W101: 78669683634 | X101: 0 | Y101: 24704457193 | Z101: 0 | AA101: 0 | AB101: 24704457193 | AC101: 1619022897349 | AD101: 1245407211007 | AE101: 774506393932 | AF101: 465860558975 | AG101: 0 | AH101: 0 | AI101: 4840258100 | AJ101: 200000000 | AK101: 125869332246 | AL101: 30000000 | AM101: 18793422494 | AN101: 41965766196 | AO101: 53022752846 | AP101: 12057390710 | AQ101: 0 | AR101: 2555578682 | AS101: 2555578682 | AT101: 245190775414 | AU101: 6123100132 | AV101: 239067675282 | AW101: 109868378196 | AX101: 109868378196 | AY101: 0 | AZ101: 0 | BA101: 0 | BB101: 0 | BC101: 0 | BD101: 0 | BE101: 0 | BF101: 0 | BG101: 0 | BH101: 0 | BI101: 0 | BJ101: -109868378196 | BK101: 109868378196 | BL101: 0 | BM101: 1 | BN101: 0 | BP101: 1
A102: Kab. Kampar | B102: 79 | C102: 4 | D102: Kab. Kampar | E102: 3 Tahun 2024 | F102: 45657.939 | G102: 3110234142913 | H102: 507521720617 | I102: 315692104714 | J102: 114015796462 | K102: 74613819441 | L102: 3200000000 | M102: 2602712422296 | N102: 2479750370000 | O102: 0 | P102: 0 | Q102: 234331167000 | R102: 15097510000 | S102: 602334119000 | T102: 1097527308000 | U102: 530460266000 | V102: 122962052296 | W102: 122962052296 | X102: 0 | Y102: 0 | Z102: 0 | AA102: 0 | AB102: 0 | AC102: 3.1452341e+12 | AD102: 2.4179872e+12 | AE102: 1.4599366e+12 | AF102: 8.6222666e+11 | AG102: 0 | AH102: 0 | AI102: 90186527000 | AJ102: 5637410000 | AK102: 2.9438191e+11 | AL102: 1444000000 | AM102: 69114209985 | AN102: 55580939299 | AO102: 1.4391264e+11 | AP102: 23580115160 | AQ102: 750000000 | AR102: 7000000000 | AS102: 7000000000 | AT102: 425865034457 | AU102: 19033313707 | AV102: 406831720750 | AW102: 35000000000 | AX102: 35000000000 | AY102: 0 | AZ102: 0 | BA102: 0 | BB102: 0 | BC102: 0 | BD102: 0 | BE102: 0 | BF102: 0 | BG102: 0 | BH102: 0 | BI102: 0 | BJ102: -3.5e+10 | BK102: 35000000000 | BL102: 0.0009765625 | BM102: 1 | BN102: 0 | BP102: 1
A103: Kab. Kepulauan Meranti | B103: 80 | C103: 5 | D103: Kab. Kep. Meranti | E103: 12 Tahun 2024 | F103: 45657 | G103: 1387457630539 | H103: 289369564347 | I103: 53959624808 | J103: 78042906984 | K103: 108948000000 | L103: 48419032555 | M103: 1098088066192 | N103: 1010652951000 | O103: 0 | P103: 0 | Q103: 88382978000 | R103: 0 | S103: 242603378000 | T103: 450370517000 | U103: 229296078000 | V103: 87435115192 | W103: 85815875192 | X103: 1619240000 | Y103: 0 | Z103: 0 | AA103: 0 | AB103: 0 | AC103: 1477506713550 | AD103: 1067084223371 | AE103: 555259592007 | AF103: 460572121914 | AG103: 0 | AH103: 0 | AI103: 39860433501 | AJ103: 11392075949 | AK103: 247713886832 | AL103: 0 | AM103: 50655222574 | AN103: 37319058550 | AO103: 155965728208 | AP103: 3723877500 | AQ103: 50000000 | AR103: 3047269947 | AS103: 3047269947 | AT103: 159661333400 | AU103: 1980965900 | AV103: 157680367500 | AW103: 90049083011 | AX103: 90049083011 | AY103: 0 | AZ103: 0 | BA103: 0 | BB103: 0 | BC103: 0 | BD103: 0 | BE103: 0 | BF103: 0 | BG103: 0 | BH103: 0 | BI103: 0 | BJ103: -90049083011 | BK103: 90049083011 | BL103: 0 | BM103: 1 | BN103: 0 | BP103: 1
A104: Kab. Kuantan Singingi | B104: 81 | C104: 6 | D104: Kab. Kuantan Singingi | E104: 08 Tahun 2024 | F104: 45657.312 | G104: 1.6989451e+12 | H104: 2.4028077e+11 | I104: 117671979848 | J104: 14592787000 | K104: 7240308970 | L104: 1.0077569e+11 | M104: 1458664288385 | N104: 1289013703994 | O104: 0 | P104: 0 | Q104: 175284694000 | R104: 0 | S104: 165234173000 | T104: 690761073000 | U104: 257733763994 | V104: 169650584391 | W104: 169650584391 | X104: 0 | Y104: 0 | Z104: 0 | AA104: 0 | AB104: 0 | AC104: 1.9908344e+12 | AD104: 1.3059665e+12 | AE104: 7.0989551e+11 | AF104: 5.5883059e+11 | AG104: 0 | AH104: 0 | AI104: 37176445497 | AJ104: 64000000 | AK104: 3.906866e+11 | AL104: 0 | AM104: 99589989411 | AN104: 5.2846317e+10 | AO104: 236988309350 | AP104: 816280000 | AQ104: 445700000 | AR104: 8.0921943e+09 | AS104: 8.0921943e+09 | AT104: 286089043985 | AU104: 13226476685 | AV104: 272862567300 | AW104: 2.9188932e+11 | AX104: 2.9188932e+11 | AY104: 0 | AZ104: 0 | BA104: 0 | BB104: 0 | BC104: 0 | BD104: 0 | BE104: 0 | BF104: 0 | BG104: 0 | BH104: 0 | BI104: 0 | BJ104: -2.9188932e+11 | BK104: 2.9188932e+11 | BL104: 0.0010375977 | BM104: 1 | BN104: 0 | BP104: 1
A105: Kab. Pelalawan | B105: 82 | C105: 7 | D105: Kab. Pelalawan | E105: 7 Tahun 2024 | F105: 45657 | G105: 1894684452902 | H105: 378998681180 | I105: 256031000000 | J105: 25545000000 | K105: 29000000000 | L105: 68422681180 | M105: 1515685771722 | N105: 1398654521722 | O105: 0 | P105: 0 | Q105: 104623834000 | R105: 14411772000 | S105: 343318972000 | T105: 674371687000 | U105: 261928256722 | V105: 117031250000 | W105: 117031250000 | X105: 0 | Y105: 0 | Z105: 0 | AA105: 0 | AB105: 0 | AC105: 1998684452902 | AD105: 1467163757107 | AE105: 733546499679 | AF105: 681962490047 | AG105: 0 | AH105: 325000000 | AI105: 43006458269 | AJ105: 8323309112 | AK105: 267592833895 | AL105: 5000000000 | AM105: 52347136334 | AN105: 94609717000 | AO105: 99990243437 | AP105: 15645737124 | AQ105: 0 | AR105: 20000000000 | AS105: 20000000000 | AT105: 243927861900 | AU105: 28157600000 | AV105: 215770261900 | AW105: 104000000000 | AX105: 104000000000 | AY105: 0 | AZ105: 0 | BA105: 0 | BB105: 0 | BC105: 0 | BD105: 0 | BE105: 0 | BF105: 0 | BG105: 0 | BH105: 0 | BI105: 0 | BJ105: -104000000000 | BK105: 104000000000 | BL105: 0 | BM105: 1 | BN105: 0 | BP105: 1
A106: Kab. Rokan Hilir | B106: 83 | C106: 8 | D106: Kab. Rokan Hilir | G106: 0 | H106: 0 | I106: 0 | J106: 0 | K106: 0 | L106: 0 | M106: 0 | N106: 0 | O106: 0 | P106: 0 | Q106: 0 | R106: 0 | S106: 0 | T106: 0 | U106: 0 | V106: 0 | W106: 0 | X106: 0 | Y106: 0 | Z106: 0 | AA106: 0 | AB106: 0 | AC106: 0 | AD106: 0 | AE106: 0 | AF106: 0 | AG106: 0 | AH106: 0 | AI106: 0 | AJ106: 0 | AK106: 0 | AL106: 0 | AM106: 0 | AN106: 0 | AO106: 0 | AP106: 0 | AQ106: 0 | AR106: 0 | AS106: 0 | AT106: 0 | AU106: 0 | AV106: 0 | AW106: 0 | AX106: 0 | AY106: 0 | AZ106: 0 | BA106: 0 | BB106: 0 | BC106: 0 | BD106: 0 | BE106: 0 | BF106: 0 | BG106: 0 | BH106: 0 | BI106: 0 | BJ106: 0 | BK106: 0 | BL106: 0 | BM106: 0 | BN106: 0 | BP106: 0
A107: Kab. Rokan Hulu | B107: 84 | C107: 9 | D107: Kab. Rokan Hulu | E107: 4 Tahun 2024 | F107: 45565 | G107: 1550152257180 | H107: 183351377154 | I107: 85493130154 | J107: 11394247000 | K107: 9753000000 | L107: 76711000000 | M107: 1366800880026 | N107: 1181115079450 | O107: 0 | P107: 0 | Q107: 0 | R107: 0 | S107: 280300808450 | T107: 900814271000 | U107: 0 | V107: 185685800576 | W107: 185685800576 | X107: 0 | Y107: 0 | Z107: 0 | AA107: 0 | AB107: 0 | AC107: 1576009952062 | AD107: 1216221889412 | AE107: 776517756623 | AF107: 427840928989 | AG107: 0 | AH107: 0 | AI107: 11396953800 | AJ107: 466250000 | AK107: 195630218990 | AL107: 0 | AM107: 25549053321 | AN107: 32198080149 | AO107: 136541773750 | AP107: 1055511770 | AQ107: 285800000 | AR107: 36357598000 | AS107: 36357598000 | AT107: 127800245660 | AU107: 9688737715 | AV107: 118111507945 | AW107: 25857694882 | AX107: 25857694882 | AY107: 0 | AZ107: 0 | BA107: 0 | BB107: 0 | BC107: 0 | BD107: 0 | BE107: 0 | BF107: 0 | BG107: 0 | BH107: 0 | BI107: 0 | BJ107: -25857694882 | BK107: 25857694882 | BL107: 0 | BM107: 1 | BN107: 0 | BP107: 1
A108: Kab. Siak | B108: 85 | C108: 10 | D108: Kab. Siak | E108: 05 Tahun 2024 | F108: 45657.809 | G108: 2.9527204e+12 | H108: 531634577818 | I108: 227430000000 | J108: 101108459992 | K108: 188668717826 | L108: 14427400000 | M108: 2.4210858e+12 | N108: 2.2835858e+12 | O108: 0 | P108: 0 | Q108: 116379240000 | R108: 15172751000 | S108: 1.3576971e+12 | T108: 507374336000 | U108: 286962395251 | V108: 137500000000 | W108: 137500000000 | X108: 0 | Y108: 0 | Z108: 0 | AA108: 0 | AB108: 0 | AC108: 3.1317872e+12 | AD108: 2.3216768e+12 | AE108: 1.0922394e+12 | AF108: 1.1347605e+12 | AG108: 0 | AH108: 768000000 | AI108: 89331935600 | AJ108: 4576880000 | AK108: 524208704773 | AL108: 3750000000 | AM108: 82321960074 | AN108: 115164435819 | AO108: 314246104734 | AP108: 8726204146 | AQ108: 0 | AR108: 4960700000 | AS108: 4960700000 | AT108: 280941027300 | AU108: 25121193000 | AV108: 255819834300 | AW108: 2.3967457e+11 | AX108: 2.3967457e+11 | AY108: 0 | AZ108: 0 | BA108: 0 | BB108: 0 | BC108: 0 | BD108: 0 | BE108: 0 | BF108: 0 | BG108: 0 | BH108: 0 | BI108: 0 | BJ108: -1.7906679e+11 | BK108: 2.3967457e+11 | BL108: 6.0607783e+10 | BM108: 1 | BN108: 0 | BP108: 1
A109: Kota Dumai | B109: 86 | C109: 11 | D109: Kota Dumai | E109: 9 Tahun 2024 | F109: 45524.715 | G109: 1.1074416e+12 | H109: 8.8747736e+11 | I109: 603875672148 | J109: 62269865000 | K109: 9.3247801e+09 | L109: 212007045655 | M109: 219964275208 | N109: 14800000000 | O109: 0 | P109: 0 | Q109: 0 | R109: 14800000000 | S109: 0 | T109: 0 | U109: 0 | V109: 205164275208 | W109: 205164275208 | X109: 0 | Y109: 0 | Z109: 0 | AA109: 0 | AB109: 0 | AC109: 2100002593458 | AD109: 1.5970365e+12 | AE109: 8.4918344e+11 | AF109: 6.6738077e+11 | AG109: 0 | AH109: 0 | AI109: 69756287348 | AJ109: 10716000000 | AK109: 4.7469402e+11 | AL109: 22779172 | AM109: 62962476822 | AN109: 150852657609 | AO109: 2.604911e+11 | AP109: 0 | AQ109: 365000000 | AR109: 2.8272076e+10 | AS109: 2.8272076e+10 | AT109: 0 | AU109: 0 | AV109: 0 | AW109: 2.1000026e+10 | AX109: 2.1000026e+10 | AY109: 0 | AZ109: 0 | BA109: 0 | BB109: 0 | BC109: 0 | BD109: 0 | BE109: 0 | BF109: 0 | BG109: 0 | BH109: 0 | BI109: 0 | BJ109: -9.9256096e+11 | BK109: 2.1000026e+10 | BL109: -9.7156093e+11 | BM109: 1 | BN109: 0 | BP109: 1
A110: Kota Pekanbaru | B110: 87 | C110: 12 | D110: Kota Pekanbaru | E110: 08 Tahun 2024 | F110: 45656.616 | G110: 3211474180728 | H110: 1327479175919 | I110: 1185812074991 | J110: 49522865450 | K110: 6220098957 | L110: 85924136521 | M110: 1883995004809 | N110: 1728462518000 | O110: 0 | P110: 0 | Q110: 0 | R110: 15652677000 | S110: 269060224000 | T110: 1049903440000 | U110: 393846177000 | V110: 155532486809 | W110: 155532486809 | X110: 0 | Y110: 0 | Z110: 0 | AA110: 0 | AB110: 0 | AC110: 3191474180728 | AD110: 2744413244039 | AE110: 1221093272226 | AF110: 1473292126991 | AG110: 0 | AH110: 1445015146 | AI110: 48582829676 | AJ110: 0 | AK110: 377060936689 | AL110: 5507659342 | AM110: 100563538587 | AN110: 65802273451 | AO110: 194994205790 | AP110: 9650392959 | AQ110: 542866560 | AR110: 70000000000 | AS110: 70000000000 | AT110: 0 | AU110: 0 | AV110: 0 | AW110: 0 | AX110: 0 | AY110: 0 | AZ110: 0 | BA110: 0 | BB110: 0 | BC110: 0 | BD110: 20000000000 | BE110: 0 | BF110: 20000000000 | BG110: 0 | BH110: 0 | BI110: 0 | BJ110: 20000000000 | BK110: -20000000000 | BL110: 0 | BM110: 1 | BN110: 0 | BP110: 1
B111: Kab | C111: Kab | D111: Total Kabupaten | G111: 1.9369969e+13 | H111: 3.3842063e+12 | I111: 1510821646887 | J111: 6.7851165e+11 | K111: 763191010179 | L111: 4.3168196e+11 | M111: 1.5961059e+13 | N111: 1.4799999e+13 | O111: 0 | P111: 0 | Q111: 1056097411000 | R111: 58873004000 | S111: 5.2616648e+12 | T111: 6600325039000 | U111: 1823038691967 | V111: 1161059613889 | W111: 1159440373889 | X111: 1619240000 | Y111: 24704457193 | Z111: 0 | AA111: 0 | AB111: 24704457193 | AC111: 2.0485513e+13 | AD111: 1.5266861e+13 | AE111: 8.3167435e+12 | AF111: 6.4630858e+12 | AG111: 0 | AH111: 13156135841 | AI111: 417632505467 | AJ111: 56242825061 | AK111: 2.6253685e+12 | AL111: 11224000000 | AM111: 5.362567e+11 | AN111: 5.8787756e+11 | AO111: 1.4039794e+12 | AP111: 84181316410 | AQ111: 1849500000 | AR111: 1.4454999e+11 | AS111: 1.4454999e+11 | AT111: 2448733741689 | AU111: 138102520312 | AV111: 2310631221377 | AW111: 1.2261515e+12 | AX111: 1.2249515e+12 | AY111: 0 | AZ111: 0 | BA111: 0 | BB111: 1200000000 | BC111: 0 | BD111: 50000000000 | BE111: 0 | BF111: 50000000000 | BG111: 0 | BH111: 0 | BI111: 0 | BJ111: -1.1155437e+12 | BK111: 1.1761515e+12 | BL111: 6.0607783e+10 | BM111: 9 | BN111: 0
B112: Kota | C112: Kota | D112: Total Kota | G112: 4.3189158e+12 | H112: 2.2149565e+12 | I112: 1789687747139 | J112: 111792730450 | K112: 1.5544879e+10 | L112: 297931182176 | M112: 2103959280017 | N112: 1743262518000 | O112: 0 | P112: 0 | Q112: 0 | R112: 30452677000 | S112: 269060224000 | T112: 1049903440000 | U112: 393846177000 | V112: 360696762017 | W112: 360696762017 | X112: 0 | Y112: 0 | Z112: 0 | AA112: 0 | AB112: 0 | AC112: 5291476774186 | AD112: 4.3414497e+12 | AE112: 2.0702767e+12 | AF112: 2.1406729e+12 | AG112: 0 | AH112: 1445015146 | AI112: 118339117024 | AJ112: 10716000000 | AK112: 8.5175495e+11 | AL112: 5530438514 | AM112: 163526015409 | AN112: 216654931060 | AO112: 4.5548531e+11 | AP112: 9650392959 | AQ112: 907866560 | AR112: 9.8272076e+10 | AS112: 9.8272076e+10 | AT112: 0 | AU112: 0 | AV112: 0 | AW112: 2.1000026e+10 | AX112: 2.1000026e+10 | AY112: 0 | AZ112: 0 | BA112: 0 | BB112: 0 | BC112: 0 | BD112: 20000000000 | BE112: 0 | BF112: 20000000000 | BG112: 0 | BH112: 0 | BI112: 0 | BJ112: -9.7256096e+11 | BK112: 1.0000259e+09 | BL112: -9.7156093e+11 | BM112: 2 | BN112: 0
B113: KK | C113: KK | D113: Total Kabupaten/Kota Se-Riau | G113: 2.3688885e+13 | H113: 5.5991628e+12 | I113: 3300509394026 | J113: 7.9030438e+11 | K113: 7.7873589e+11 | L113: 7.2961314e+11 | M113: 1.8065018e+13 | N113: 1.6543261e+13 | O113: 0 | P113: 0 | Q113: 1056097411000 | R113: 89325681000 | S113: 5.5307251e+12 | T113: 7650228479000 | U113: 2216884868967 | V113: 1521756375906 | W113: 1520137135906 | X113: 1619240000 | Y113: 24704457193 | Z113: 0 | AA113: 0 | AB113: 24704457193 | AC113: 2.577699e+13 | AD113: 1.9608311e+13 | AE113: 1.038702e+13 | AF113: 8603758697781 | AG113: 0 | AH113: 14601150987 | AI113: 535971622491 | AJ113: 66958825061 | AK113: 3.4771234e+12 | AL113: 16754438514 | AM113: 6.9978272e+11 | AN113: 8.0453249e+11 | AO113: 1.8594647e+12 | AP113: 93831709369 | AQ113: 2757366560 | AR113: 2.4282207e+11 | AS113: 2.4282207e+11 | AT113: 2448733741689 | AU113: 138102520312 | AV113: 2310631221377 | AW113: 1.2471515e+12 | AX113: 1.2459515e+12 | AY113: 0 | AZ113: 0 | BA113: 0 | BB113: 1200000000 | BC113: 0 | BD113: 70000000000 | BE113: 0 | BF113: 70000000000 | BG113: 0 | BH113: 0 | BI113: 0 | BJ113: -2.0881046e+12 | BK113: 1.1771515e+12 | BL113: -9.1095315e+11 | BM113: 11 | BN113: 0
B114: N | C114: N | D114: Total Provinsi/Kab/Kota Se-Riau | G114: 3.3252594e+13 | H114: 1.0783113e+13 | I114: 7025639031419 | J114: 8.0531249e+11 | K114: 1.5938629e+12 | L114: 1.3582988e+12 | M114: 2.2435699e+13 | N114: 2.0913942e+13 | O114: 0 | P114: 0 | Q114: 1056097411000 | R114: 89325681000 | S114: 7.039045e+12 | T114: 9309331267000 | U114: 3420142741967 | V114: 1521756375906 | W114: 1520137135906 | X114: 1619240000 | Y114: 33782497193 | Z114: 9078040000 | AA114: 0 | AB114: 24704457193 | AC114: 3.5473535e+13 | AD114: 2.6270087e+13 | AE114: 1.3347799e+13 | AF114: 11909441158797 | AG114: 0 | AH114: 14601150987 | AI114: 911713450733 | AJ114: 86532559901 | AK114: 4.9377601e+12 | AL114: 25048249864 | AM114: 1.2892606e+12 | AN114: 1.0907564e+12 | AO114: 2.3735946e+12 | AP114: 155384907903 | AQ114: 3715328680 | AR114: 2.9282207e+11 | AS114: 2.9282207e+11 | AT114: 3972865561052 | AU114: 1428992896175 | AV114: 2543872664877 | AW114: 1.3799871e+12 | AX114: 1.3787871e+12 | AY114: 0 | AZ114: 0 | BA114: 0 | BB114: 1200000000 | BC114: 0 | BD114: 70000000000 | BE114: 0 | BF114: 70000000000 | BG114: 0 | BH114: 0 | BI114: 0 | BJ114: -2.2209402e+12 | BK114: 1.3099871e+12 | BL114: -9.1095315e+11 | BM114: 11 | BN114: 1
A115: Provinsi Kepulauan Riau | B115: V | C115: 5 | D115: Prov. Kepulauan Riau | E115: 10 Tahun 2024 | F115: 45657 | G115: 3918402282363 | H115: 1760011907866 | I115: 1583783730316 | J115: 132122692000 | K115: 2650000000 | L115: 41455485550 | M115: 2157066271997 | N115: 2157066271997 | O115: 0 | P115: 0 | Q115: 0 | R115: 23236157000 | S115: 365389969997 | T115: 1212467338000 | U115: 555972807000 | V115: 0 | W115: 0 | X115: 0 | Y115: 1324102500 | Z115: 1324102500 | AA115: 0 | AB115: 0 | AC115: 3.9186423e+12 | AD115: 2.8838658e+12 | AE115: 1.3864229e+12 | AF115: 1.3057288e+12 | AG115: 0 | AH115: 1200000000 | AI115: 1.8482718e+11 | AJ115: 5686900000 | AK115: 2.7807483e+11 | AL115: 1450000000 | AM115: 7.4244401e+10 | AN115: 97874467337 | AO115: 87945098163 | AP115: 15509839774 | AQ115: 1051019731 | AR115: 109748000000 | AS115: 109748000000 | AT115: 646953680261 | AU115: 613408180261 | AV115: 33545500000 | AW115: 5240000000 | AX115: 5240000000 | AY115: 0 | AZ115: 0 | BA115: 0 | BB115: 0 | BC115: 0 | BD115: 5000000000 | BE115: 0 | BF115: 5000000000 | BG115: 0 | BH115: 0 | BI115: 0 | BJ115: -2.4e+08 | BK115: 240000000 | BL115: 0.001953125 | BM115: 1 | BN115: 0 | BP115: 1
...

Sheet Ringkasan (milyar)
D1: RINGKASAN APBD
D2: PROVINSI, KABUPATEN DAN KOTA SELURUH INDONESIA TAHUN ANGGARAN 2025 | AE2: =UPPER(AE4) -> BELANJA PEGAWAI | BD2: PENGELUARAN PEMBIAYAAN | BF2: =UPPER(BF4) -> PENYERTAAN MODAL DAERAH
B4: NO | D4: DAERAH | E4: NOMOR PERDA | F4: TANGGAL PERDA | G4: Pendapatan | H4: PENDAPATAN ASLI DAERAH (PAD) | I4: Pajak Daerah | J4: Retribusi Daerah | K4: Hasil Pengelolaan Kekayaan Daerah yang Dipisahkan | L4: Lain-lain PAD yang Sah | M4: PENDAPATAN TRANSFER | N4: Pendapatan Transfer Pemerintah Pusat | O4: Dana Otonomi Khusus dan Dana Tambahann Infrastruktur | P4: Dana Keistimewaan | Q4: Dana Desa | R4: Insentif Fiskal | S4: Dana Bagi Hasil (DBH) | T4: Dana Alokasi Umum (DAU) | U4: Dana Alokasi Khusus (DAK) | V4: Pendapatan Transfer Antar Daerah | W4: Pendapatan Bagi Hasil | X4: Bantuan Keuangan | Y4: LAIN-LAIN PENDAPATAN DAERAH YANG SAH | Z4: HIBAH | AA4: Dana Darurat | AB4: Lain-lain Pendapatan Sesuai dengan Ketentuan Peraturan Perundang-Undangan | AC4: BELANJA DAERAH | AD4: BELANJA OPERASI | AE4: Belanja Pegawai | AF4: Belanja Barang dan Jasa | AG4: Belanja Bunga | AH4: Belanja Subsidi | AI4: Belanja Hibah | AJ4: Belanja Bantuan Sosial | AK4: BELANJA MODAL | AL4: Belanja Modal Tanah | AM4: Belanja Modal Peralatan dan Mesin | AN4: Belanja Modal Gedung dan Bangunan | AO4: Belanja Modal Jalan, Jaringan, dan Irigasi | AP4: Belanja Modal Aset Tetap Lainnya | AQ4: Belanja Modal Aset Lainnya | AR4: BELANJA TIDAK TERDUGA | AS4: Belanja Tidak Terduga | AT4: BELANJA TRANSFER | AU4: Belanja Bagi Hasil | AV4: Belanja Bantuan Keuangan | AW4: PENERIMAAN PEMBIAYAAN | AX4: Sisa Lebih Perhitungan Anggaran Tahun Sebelumnya | AY4: Pencairan Dana Cadangan | AZ4: Hasil Penjualan Kekayaan Daerah yang Dipisahkan | BA4: Penerimaan Pinjaman Daerah | BB4: Penerimaan Kembali Pemberian Pinjaman Daerah | BC4: Penerimaan Pembiayaan Lainnya Sesuai dengan Ketentuan Peraturan Perundang-Undangan | BD4: PENGELUARAN PEMBIAYAAN | BE4: Pembentukan Dana Cadangan | BF4: Penyertaan Modal Daerah | BG4: Pembayaran Cicilan Pokok Utang yang Jatuh Tempo | BH4: Pemberian Pinjaman Daerah | BI4: Pengeluaran Pembiayaan Lainnya sesuai dengan Ketentuan Peraturan Perundang-Undangan | BJ4: SURPLUS/ (DEFISIT) | BK4: Pembiayaan Netto | BL4: SILPA | BM4: Tepat Waktu | BN4: Tidak Tepat Waktu | BO4: Belum Terinformasi | BR4: PENDAPATAN DAERAH | BS4: selisih | BT4: ket | BV4: BELANJA DAERAH | BW4: selisih | BX4: ket
G5: 4 | H5: 4.1 | I5: 4.1.01 | J5: 4.1.02 | K5: 4.1.03 | L5: 4.1.04 | M5: 4.2 | N5: 4.2.01 | O5: 4.2.01.03 | P5: 4.2.01.04 | Q5: 4.2.01.05 | R5: 4.2.01.06 | S5: 4.2.01.07 | T5: 4.2.01.08 | U5: 4.2.01.09 | V5: 4.2.02 | W5: 4.2.02.01 | X5: 4.2.02.02 | Y5: 4.3 | Z5: 4.3.01 | AA5: 4.3.02 | AB5: 4.3.03 | AC5: 5 | AD5: 5.1 | AE5: 5.1.01 | AF5: 5.1.02 | AG5: 5.1.03 | AH5: 5.1.04 | AI5: 5.1.05 | AJ5: 5.1.06 | AK5: 5.2 | AL5: 5.2.01 | AM5: 5.2.02 | AN5: 5.2.03 | AO5: 5.2.04 | AP5: 5.2.05 | AQ5: 5.2.06 | AR5: 5.3 | AS5: 5.3.01 | AT5: 5.4 | AU5: 5.4.01 | AV5: 5.4.02 | AW5: 6.1 | AX5: 6.1.01 | AY5: 6.1.02 | AZ5: 6.1.03 | BA5: 6.1.04 | BB5: 6.1.05 | BC5: 6.1.06 | BD5: 6.2 | BE5: 6.2.01 | BF5: 6.2.02 | BG5: 6.2.03 | BH5: 6.2.04 | BI5: 6.2.05 | BR5: 4 | BV5: 5
B6: 1 | D6: 2 | E6: 3 | F6: 4 | G6: 5 | H6: 6 | I6: 7 | J6: 8 | K6: 9 | L6: 10 | M6: 11 | N6: 12 | V6: 22 | W6: 23 | X6: 24 | Y6: 25 | Z6: 26 | AA6: 27 | AB6: 28 | AC6: 29 | AD6: 30 | AE6: 31 | AF6: 32 | AG6: 33 | AH6: 34 | AI6: 35 | AJ6: 36 | AK6: 37 | AL6: 38 | AM6: 39 | AN6: 40 | AO6: 41 | AP6: 42 | AQ6: 43 | AR6: 44 | AS6: 45 | AT6: 46 | AU6: 47 | AV6: 48 | AW6: 49 | AX6: 50 | AY6: 51 | AZ6: 52 | BA6: 53 | BB6: 54 | BC6: 55 | BD6: 56 | BE6: 57 | BF6: 58 | BG6: 59 | BH6: 60 | BI6: 61 | BJ6: 62 | BK6: 63 | BL6: 64 | BR6: 1 | BV6: 1
D7: 2025 | E7: 2025 | F7: 2025 | G7: 2025 | H7: 2025 | I7: 2025 | J7: 2025 | K7: 2025 | L7: 2025 | M7: 2025 | N7: 2025 | V7: 2025 | W7: 2025 | X7: 2025 | Y7: 2025 | Z7: 2025 | AA7: 2025 | AB7: 2025 | AC7: 2025 | AD7: 2025 | AE7: 2025 | AF7: 2025 | AG7: 2025 | AH7: 2025 | AI7: 2025 | AJ7: 2025 | AK7: 2025 | AL7: 2025 | AM7: 2025 | AN7: 2025 | AO7: 2025 | AP7: 2025 | AQ7: 2025 | AR7: 2025 | AS7: 2025 | AT7: 2025 | AU7: 2025 | AV7: 2025 | AW7: 2025 | AX7: 2025 | AY7: 2025 | AZ7: 2025 | BA7: 2025 | BB7: 2025 | BC7: 2025 | BD7: 2025 | BE7: 2025 | BF7: 2025 | BG7: 2025 | BH7: 2025 | BI7: 2025 | BJ7: 2025 | BK7: 2025 | BL7: 2025 | BM7: 2025 | BN7: 2025 | BO7: 2025 | BP7: =SUM(BP8:BP697) -> 529 | BR7: 2025 | BV7: 2024
A8: Aceh | B8: I | C8: I | D8: Prov Aceh | E8: =[1]Pendapatan!D8 -> 1 Tahun 2025 | F8: =[1]Pendapatan!E8 -> 45698 | G8: =Ringkasan!G8/1000000000 -> 10796.565 | H8: =Ringkasan!H8/1000000000 -> 2859.1222 | I8: =Ringkasan!I8/1000000000 -> 1722.0082 | J8: =Ringkasan!J8/1000000000 -> 700.47763 | K8: =Ringkasan!K8/1000000000 -> 265.7818 | L8: =Ringkasan!L8/1000000000 -> 170.8545 | M8: =Ringkasan!M8/1000000000 -> 7935.4753 | N8: =Ringkasan!N8/1000000000 -> 7935.4753 | ... BL8: =Ringkasan!BL8/1000000000 -> 1.953125e-12 | BM8: =IF(RIGHT(E8,4)="2024",1,0) -> 0 | BN8: =IF(RIGHT(E8,4)="2025",1,0) -> 1 | BP8: =IF(G8>0,1,0) -> 1 | BR8: =Ringkasan!#REF!/1000000000 -> #REF! | BS8: =G8-BR8 -> #REF! | BT8: =IF(BS8=0,"Benar","Salah") -> #REF! | BV8: =Ringkasan!#REF!/1000000000 -> #REF! | BW8: =AC8-BV8 -> #REF! | BX8: =IF(BW8=0,"Benar","Salah") -> #REF!
A9: Kab. Aceh Barat Daya | B9: 1 | C9: 1 | D9: Kab. Aceh Barat Daya | E9: =[1]Pendapatan!D9 -> 01 Tahun 2025 | F9: =[1]Pendapatan!E9 -> 45670.654 | G9: =Ringkasan!G9/1000000000 -> 974.01275 | H9: =Ringkasan!H9/1000000000 -> 131.15514 | I9: =Ringkasan!I9/1000000000 -> 30.904568 | J9: =Ringkasan!J9/1000000000 -> 1.6471614 | K9: =Ringkasan!K9/1000000000 -> 2.3 | L9: =Ringkasan!L9/1000000000 -> 96.303415 | M9: =Ringkasan!M9/1000000000 -> 823.06355 | N9: =Ringkasan!N9/1000000000 -> 799.98882 | ... BL9: =Ringkasan!BL9/1000000000 -> 1.2207031e-13 | BM9: =IF(RIGHT(E9,4)="2024",1,0) -> 0 | BN9: =IF(RIGHT(E9,4)="2025",1,0) -> 1 | BP9: =IF(G9>0,1,0) -> 1 | BR9: =Ringkasan!#REF!/1000000000 -> #REF! | BS9: =G9-BR9 -> #REF! | BT9: =IF(BS9=0,"Benar","Salah") -> #REF! | BV9: =Ringkasan!#REF!/1000000000 -> #REF! | BW9: =AC9-BV9 -> #REF! | BX9: =IF(BW9=0,"Benar","Salah") -> #REF!
A10: Kab. Aceh Barat | B10: =B9+1 -> 2 | C10: =C9+1 -> 2 | D10: Kab. Aceh Barat | E10: =[1]Pendapatan!D10 -> 04 Tahun 2024 | F10: =[1]Pendapatan!E10 -> 45657.635 | G10: =Ringkasan!G10/1000000000 -> 1428.1135 | H10: =Ringkasan!H10/1000000000 -> 190.69432 | I10: =Ringkasan!I10/1000000000 -> 49.712541 | J10: =Ringkasan!J10/1000000000 -> 14.712302 | K10: =Ringkasan!K10/1000000000 -> 4 | L10: =Ringkasan!L10/1000000000 -> 122.26948 | M10: =Ringkasan!M10/1000000000 -> 1221.428 | N10: =Ringkasan!N10/1000000000 -> 1192.9929 | ... BL10: =Ringkasan!BL10/1000000000 -> 0 | BM10: =IF(RIGHT(E10,4)="2024",1,0) -> 1 | BN10: =IF(RIGHT(E10,4)="2025",1,0) -> 0 | BP10: =IF(G10>0,1,0) -> 1 | BR10: =Ringkasan!#REF!/1000000000 -> #REF! | BS10: =G10-BR10 -> #REF! | BT10: =IF(BS10=0,"Benar","Salah") -> #REF! | BV10: =Ringkasan!#REF!/1000000000 -> #REF! | BW10: =AC10-BV10 -> #REF! | BX10: =IF(BW10=0,"Benar","Salah") -> #REF!
A11: Kab. Aceh Besar | B11: =B10+1 -> 3 | C11: =C10+1 -> 3 | D11: Kab. Aceh Besar | E11: =[1]Pendapatan!D11 -> 03 Tahun 2024 | F11: =[1]Pendapatan!E11 -> 45657.904 | G11: =Ringkasan!G11/1000000000 -> 1830.2942 | H11: =Ringkasan!H11/1000000000 -> 197.6777 | I11: =Ringkasan!I11/1000000000 -> 126.5476 | J11: =Ringkasan!J11/1000000000 -> 28.3992 | K11: =Ringkasan!K11/1000000000 -> 6.5 | L11: =Ringkasan!L11/1000000000 -> 36.230897 | M11: =Ringkasan!M11/1000000000 -> 1604.7165 | N11: =Ringkasan!N11/1000000000 -> 1571.6529 | ... BL11: =Ringkasan!BL11/1000000000 -> 0 | BM11: =IF(RIGHT(E11,4)="2024",1,0) -> 1 | BN11: =IF(RIGHT(E11,4)="2025",1,0) -> 0 | BP11: =IF(G11>0,1,0) -> 1 | BR11: =Ringkasan!#REF!/1000000000 -> #REF! | BS11: =G11-BR11 -> #REF! | BT11: =IF(BS11=0,"Benar","Salah") -> #REF! | BV11: =Ringkasan!#REF!/1000000000 -> #REF! | BW11: =AC11-BV11 -> #REF! | BX11: =IF(BW11=0,"Benar","Salah") -> #REF!
A12: Kab. Aceh Jaya | B12: =B11+1 -> 4 | C12: =C11+1 -> 4 | D12: Kab. Aceh Jaya | E12: =[1]Pendapatan!D12 -> 06 Tahun 2024 | F12: =[1]Pendapatan!E12 -> 45657 | G12: =Ringkasan!G12/1000000000 -> 914.53569 | H12: =Ringkasan!H12/1000000000 -> 92.272663 | I12: =Ringkasan!I12/1000000000 -> 21.223529 | J12: =Ringkasan!J12/1000000000 -> 6.081573 | K12: =Ringkasan!K12/1000000000 -> 6.8361613 | L12: =Ringkasan!L12/1000000000 -> 58.1314 | M12: =Ringkasan!M12/1000000000 -> 813.69701 | N12: =Ringkasan!N12/1000000000 -> 793.53918 | ... BL12: =Ringkasan!BL12/1000000000 -> 0 | BM12: =IF(RIGHT(E12,4)="2024",1,0) -> 1 | BN12: =IF(RIGHT(E12,4)="2025",1,0) -> 0 | BP12: =IF(G12>0,1,0) -> 1 | BR12: =Ringkasan!#REF!/1000000000 -> #REF! | BS12: =G12-BR12 -> #REF! | BT12: =IF(BS12=0,"Benar","Salah") -> #REF! | BV12: =Ringkasan!#REF!/1000000000 -> #REF! | BW12: =AC12-BV12 -> #REF! | BX12: =IF(BW12=0,"Benar","Salah") -> #REF!
A13: Kab. Aceh Selatan | B13: =B12+1 -> 5 | C13: =C12+1 -> 5 | D13: Kab. Aceh Selatan | E13: =[1]Pendapatan!D13 -> 1 Tahun 2025 | F13: =[1]Pendapatan!E13 -> 45692 | G13: =Ringkasan!G13/1000000000 -> 1463.637 | H13: =Ringkasan!H13/1000000000 -> 231.41466 | I13: =Ringkasan!I13/1000000000 -> 48.510126 | J13: =Ringkasan!J13/1000000000 -> 20.740538 | K13: =Ringkasan!K13/1000000000 -> 4.2 | L13: =Ringkasan!L13/1000000000 -> 157.964 | M13: =Ringkasan!M13/1000000000 -> 1213.4223 | N13: =Ringkasan!N13/1000000000 -> 1179.3149 | ... BL13: =Ringkasan!BL13/1000000000 -> 0 | BM13: =IF(RIGHT(E13,4)="2024",1,0) -> 0 | BN13: =IF(RIGHT(E13,4)="2025",1,0) -> 1 | BP13: =IF(G13>0,1,0) -> 1 | BR13: =Ringkasan!#REF!/1000000000 -> #REF! | BS13: =G13-BR13 -> #REF! | BT13: =IF(BS13=0,"Benar","Salah") -> #REF! | BV13: =Ringkasan!#REF!/1000000000 -> #REF! | BW13: =AC13-BV13 -> #REF! | BX13: =IF(BW13=0,"Benar","Salah") -> #REF!
A14: Kab. Aceh Singkil | B14: =B13+1 -> 6 | C14: =C13+1 -> 6 | D14: Kab. Aceh Singkil | E14: =[1]Pendapatan!D14 | F14: =[1]Pendapatan!E14 | G14: =Ringkasan!G14/1000000000 -> 0 | H14: =Ringkasan!H14/1000000000 -> 0 | I14: =Ringkasan!I14/1000000000 -> 0 | J14: =Ringkasan!J14/1000000000 -> 0 | K14: =Ringkasan!K14/1000000000 -> 0 | L14: =Ringkasan!L14/1000000000 -> 0 | M14: =Ringkasan!M14/1000000000 -> 0 | N14: =Ringkasan!N14/1000000000 -> 0 | ... BL14: =Ringkasan!BL14/1000000000 -> 0 | BM14: =IF(RIGHT(E14,4)="2024",1,0) -> 0 | BN14: =IF(RIGHT(E14,4)="2025",1,0) -> 0 | BP14: =IF(G14>0,1,0) -> 0 | BR14: =Ringkasan!#REF!/1000000000 -> #REF! | BS14: =G14-BR14 -> #REF! | BT14: =IF(BS14=0,"Benar","Salah") -> #REF! | BV14: =Ringkasan!#REF!/1000000000 -> #REF! | BW14: =AC14-BV14 -> #REF! | BX14: =IF(BW14=0,"Benar","Salah") -> #REF!
A15: Kab. Aceh Tamiang | B15: =B14+1 -> 7 | C15: =C14+1 -> 7 | D15: Kab. Aceh Tamiang | E15: =[1]Pendapatan!D15 | F15: =[1]Pendapatan!E15 | G15: =Ringkasan!G15/1000000000 -> 0 | H15: =Ringkasan!H15/1000000000 -> 0 | I15: =Ringkasan!I15/1000000000 -> 0 | J15: =Ringkasan!J15/1000000000 -> 0 | K15: =Ringkasan!K15/1000000000 -> 0 | L15: =Ringkasan!L15/1000000000 -> 0 | M15: =Ringkasan!M15/1000000000 -> 0 | N15: =Ringkasan!N15/1000000000 -> 0 | ... BL15: =Ringkasan!BL15/1000000000 -> 0 | BM15: =IF(RIGHT(E15,4)="2024",1,0) -> 0 | BN15: =IF(RIGHT(E15,4)="2025",1,0) -> 0 | BP15: =IF(G15>0,1,0) -> 0 | BR15: =Ringkasan!#REF!/1000000000 -> #REF! | BS15: =G15-BR15 -> #REF! | BT15: =IF(BS15=0,"Benar","Salah") -> #REF! | BV15: =Ringkasan!#REF!/1000000000 -> #REF! | BW15: =AC15-BV15 -> #REF! | BX15: =IF(BW15=0,"Benar","Salah") -> #REF!
A16: Kab. Aceh Tengah | B16: =B15+1 -> 8 | C16: =C15+1 -> 8 | D16: Kab. Aceh Tengah | E16: =[1]Pendapatan!D16 -> 01 Tahun 2025 | F16: =[1]Pendapatan!E16 -> 45672.699 | G16: =Ringkasan!G16/1000000000 -> 1386.8901 | H16: =Ringkasan!H16/1000000000 -> 181.17046 | I16: =Ringkasan!I16/1000000000 -> 34.556457 | J16: =Ringkasan!J16/1000000000 -> 10.306441 | K16: =Ringkasan!K16/1000000000 -> 6.6 | L16: =Ringkasan!L16/1000000000 -> 129.70756 | M16: =Ringkasan!M16/1000000000 -> 1188.7197 | N16: =Ringkasan!N16/1000000000 -> 1161.5266 | ... BL16: =Ringkasan!BL16/1000000000 -> 0 | BM16: =IF(RIGHT(E16,4)="2024",1,0) -> 0 | BN16: =IF(RIGHT(E16,4)="2025",1,0) -> 1 | BP16: =IF(G16>0,1,0) -> 1 | BR16: =Ringkasan!#REF!/1000000000 -> #REF! | BS16: =G16-BR16 -> #REF! | BT16: =IF(BS16=0,"Benar","Salah") -> #REF! | BV16: =Ringkasan!#REF!/1000000000 -> #REF! | BW16: =AC16-BV16 -> #REF! | BX16: =IF(BW16=0,"Benar","Salah") -> #REF!
A17: Kab. Aceh Tenggara | B17: =B16+1 -> 9 | C17: =C16+1 -> 9 | D17: Kab. Aceh Tenggara | E17: =[1]Pendapatan!D17 | F17: =[1]Pendapatan!E17 | G17: =Ringkasan!G17/1000000000 -> 0 | H17: =Ringkasan!H17/1000000000 -> 0 | I17: =Ringkasan!I17/1000000000 -> 0 | J17: =Ringkasan!J17/1000000000 -> 0 | K17: =Ringkasan!K17/1000000000 -> 0 | L17: =Ringkasan!L17/1000000000 -> 0 | M17: =Ringkasan!M17/1000000000 -> 0 | N17: =Ringkasan!N17/1000000000 -> 0 | ... BL17: =Ringkasan!BL17/1000000000 -> 0 | BM17: =IF(RIGHT(E17,4)="2024",1,0) -> 0 | BN17: =IF(RIGHT(E17,4)="2025",1,0) -> 0 | BP17: =IF(G17>0,1,0) -> 0 | BR17: =Ringkasan!#REF!/1000000000 -> #REF! | BS17: =G17-BR17 -> #REF! | BT17: =IF(BS17=0,"Benar","Salah") -> #REF! | BV17: =Ringkasan!#REF!/1000000000 -> #REF! | BW17: =AC17-BV17 -> #REF! | BX17: =IF(BW17=0,"Benar","Salah") -> #REF!
A18: Kab. Aceh Timur | B18: =B17+1 -> 10 | C18: =C17+1 -> 10 | D18: Kab. Aceh Timur | E18: =[1]Pendapatan!D18 -> 5 Tahun 2024 | F18: =[1]Pendapatan!E18 -> 45657.042 | G18: =Ringkasan!G18/1000000000 -> 2028.4883 | H18: =Ringkasan!H18/1000000000 -> 174.29738 | I18: =Ringkasan!I18/1000000000 -> 47.208163 | J18: =Ringkasan!J18/1000000000 -> 1.423 | K18: =Ringkasan!K18/1000000000 -> 2 | L18: =Ringkasan!L18/1000000000 -> 123.66622 | M18: =Ringkasan!M18/1000000000 -> 1806.7693 | N18: =Ringkasan!N18/1000000000 -> 1758.7718 | ... BL18: =Ringkasan!BL18/1000000000 -> 0 | BM18: =IF(RIGHT(E18,4)="2024",1,0) -> 1 | BN18: =IF(RIGHT(E18,4)="2025",1,0) -> 0 | BP18: =IF(G18>0,1,0) -> 1 | BR18: =Ringkasan!#REF!/1000000000 -> #REF! | BS18: =G18-BR18 -> #REF! | BT18: =IF(BS18=0,"Benar","Salah") -> #REF! | BV18: =Ringkasan!#REF!/1000000000 -> #REF! | BW18: =AC18-BV18 -> #REF! | BX18: =IF(BW18=0,"Benar","Salah") -> #REF!
A19: Kab. Aceh Utara | B19: =B18+1 -> 11 | C19: =C18+1 -> 11 | D19: Kab. Aceh Utara | E19: =[1]Pendapatan!D19 -> 10 Tahun 2024 | F19: =[1]Pendapatan!E19 -> 45657.697 | G19: =Ringkasan!G19/1000000000 -> 2633.0813 | H19: =Ringkasan!H19/1000000000 -> 236.79381 | I19: =Ringkasan!I19/1000000000 -> 66.808788 | J19: =Ringkasan!J19/1000000000 -> 3.8720513 | K19: =Ringkasan!K19/1000000000 -> 15.790901 | L19: =Ringkasan!L19/1000000000 -> 150.32207 | M19: =Ringkasan!M19/1000000000 -> 2335.0759 | N19: =Ringkasan!N19/1000000000 -> 2286.071 | ... BL19: =Ringkasan!BL19/1000000000 -> 0 | BM19: =IF(RIGHT(E19,4)="2024",1,0) -> 1 | BN19: =IF(RIGHT(E19,4)="2025",1,0) -> 0 | BP19: =IF(G19>0,1,0) -> 1 | BR19: =Ringkasan!#REF!/1000000000 -> #REF! | BS19: =G19-BR19 -> #REF! | BT19: =IF(BS19=0,"Benar","Salah") -> #REF! | BV19: =Ringkasan!#REF!/1000000000 -> #REF! | BW19: =AC19-BV19 -> #REF! | BX19: =IF(BW19=0,"Benar","Salah") -> #REF!
A20: Kab. Bener Meriah | B20: =B19+1 -> 12 | C20: =C19+1 -> 12 | D20: Kab. Bener Meriah | E20: =[1]Pendapatan!D20 -> 04 Tahun 2024 | F20: =[1]Pendapatan!E20 -> 45657 | G20: =Ringkasan!G20/1000000000 -> 1056.7441 | H20: =Ringkasan!H20/1000000000 -> 86.139785 | I20: =Ringkasan!I20/1000000000 -> 7.03636 | J20: =Ringkasan!J20/1000000000 -> 5.864011 | K20: =Ringkasan!K20/1000000000 -> 3.7705855 | L20: =Ringkasan!L20/1000000000 -> 69.468829 | M20: =Ringkasan!M20/1000000000 -> 953.5967 | N20: =Ringkasan!N20/1000000000 -> 916.63891 | ... BL20: =Ringkasan!BL20/1000000000 -> 0 | BM20: =IF(RIGHT(E20,4)="2024",1,0) -> 1 | BN20: =IF(RIGHT(E20,4)="2025",1,0) -> 0 | BP20: =IF(G20>0,1,0) -> 1 | BR20: =Ringkasan!#REF!/1000000000 -> #REF! | BS20: =G20-BR20 -> #REF! | BT20: =IF(BS20=0,"Benar","Salah") -> #REF! | BV20: =Ringkasan!#REF!/1000000000 -> #REF! | BW20: =AC20-BV20 -> #REF! | BX20: =IF(BW20=0,"Benar","Salah") -> #REF!
A21: Kab. Bireuen | B21: =B20+1 -> 13 | C21: =C20+1 -> 13 | D21: Kab. Bireun | E21: =[1]Pendapatan!D21 -> 1 TAHUN 2025 | F21: =[1]Pendapatan!E21 -> 45679 | G21: =Ringkasan!G21/1000000000 -> 2026.1437 | H21: =Ringkasan!H21/1000000000 -> 236.81891 | I21: =Ringkasan!I21/1000000000 -> 73.947533 | J21: =Ringkasan!J21/1000000000 -> 12.57466 | K21: =Ringkasan!K21/1000000000 -> 5 | L21: =Ringkasan!L21/1000000000 -> 145.29671 | M21: =Ringkasan!M21/1000000000 -> 1757.8248 | N21: =Ringkasan!N21/1000000000 -> 1718.5335 | ... BL21: =Ringkasan!BL21/1000000000 -> 0 | BM21: =IF(RIGHT(E21,4)="2024",1,0) -> 0 | BN21: =IF(RIGHT(E21,4)="2025",1,0) -> 1 | BP21: =IF(G21>0,1,0) -> 1 | BR21: =Ringkasan!#REF!/1000000000 -> #REF! | BS21: =G21-BR21 -> #REF! | BT21: =IF(BS21=0,"Benar","Salah") -> #REF! | BV21: =Ringkasan!#REF!/1000000000 -> #REF! | BW21: =AC21-BV21 -> #REF! | BX21: =IF(BW21=0,"Benar","Salah") -> #REF!
... A31: Kota Subulussalam | B31: =B30+1 -> 23 | C31: =C30+1 -> 23 | D31: Kota Subulussalam | E31: =[1]Pendapatan!D31 | F31: =[1]Pendapatan!E31 | G31: =Ringkasan!G31/1000000000 -> 0 | H31: =Ringkasan!H31/1000000000 -> 0 | I31: =Ringkasan!I31/1000000000 -> 0 | J31: =Ringkasan!J31/1000000000 -> 0 | K31: =Ringkasan!K31/1000000000 -> 0 | L31: =Ringkasan!L31/1000000000 -> 0 | M31: =Ringkasan!M31/1000000000 -> 0 | N31: =Ringkasan!N31/1000000000 -> 0 | ... BL31: =Ringkasan!BL31/1000000000 -> 0 | BM31: =IF(RIGHT(E31,4)="2024",1,0) -> 0 | BN31: =IF(RIGHT(E31,4)="2025",1,0) -> 0 | BP31: =IF(G31>0,1,0) -> 0 | BR31: =Ringkasan!#REF!/1000000000 -> #REF! | BS31: =G31-BR31 -> #REF! | BT31: =IF(BS31=0,"Benar","Salah") -> #REF! | BV31: =Ringkasan!#REF!/1000000000 -> #REF! | BW31: =AC31-BV31 -> #REF! | BX31: =IF(BW31=0,"Benar","Salah") -> #REF!
B32: Kab | C32: Kab | D32: Total Kabupaten | G32: =Ringkasan!G32/1000000000 -> 21765.416 | H32: =Ringkasan!H32/1000000000 -> 2425.9334 | I32: =Ringkasan!I32/1000000000 -> 615.84257 | J32: =Ringkasan!J32/1000000000 -> 169.36133 | K32: =Ringkasan!K32/1000000000 -> 73.578244 | L32: =Ringkasan!L32/1000000000 -> 1567.1513 | M32: =Ringkasan!M32/1000000000 -> 19017.454 | N32: =Ringkasan!N32/1000000000 -> 18531.419 | ... BL32: =Ringkasan!BL32/1000000000 -> 1.9454956e-13 | BM32: =SUM(BM9:BM26) -> 10 | BN32: =SUM(BN9:BN26) -> 5 | BR32: =Ringkasan!#REF!/1000000000 -> #REF! | BS32: =G32-BR32 -> #REF! | BT32: =IF(BS32=0,"Benar","Salah") -> #REF! | BV32: =Ringkasan!#REF!/1000000000 -> #REF! | BW32: =AC32-BV32 -> #REF! | BX32: =IF(BW32=0,"Benar","Salah") -> #REF!
B33: Kota | C33: Kota | D33: Total Kota | G33: =Ringkasan!G33/1000000000 -> 2872.0571 | H33: =Ringkasan!H33/1000000000 -> 547.34692 | I33: =Ringkasan!I33/1000000000 -> 264.43944 | J33: =Ringkasan!J33/1000000000 -> 59.987882 | K33: =Ringkasan!K33/1000000000 -> 21.165251 | L33: =Ringkasan!L33/1000000000 -> 201.75434 | M33: =Ringkasan!M33/1000000000 -> 2292.5155 | N33: =Ringkasan!N33/1000000000 -> 2217.4636 | ... BL33: =Ringkasan!BL33/1000000000 -> 0 | BM33: =SUM(BM27:BM31) -> 2 | BN33: =SUM(BN27:BN31) -> 1 | BR33: =Ringkasan!#REF!/1000000000 -> #REF! | BS33: =G33-BR33 -> #REF! | BT33: =IF(BS33=0,"Benar","Salah") -> #REF! | BV33: =Ringkasan!#REF!/1000000000 -> #REF! | BW33: =AC33-BV33 -> #REF! | BX33: =IF(BW33=0,"Benar","Salah") -> #REF!
B34: KK | C34: KK | D34: Total Kabupaten/Kota Se-Aceh | G34: =Ringkasan!G34/1000000000 -> 24637.473 | H34: =Ringkasan!H34/1000000000 -> 2973.2804 | I34: =Ringkasan!I34/1000000000 -> 880.28202 | J34: =Ringkasan!J34/1000000000 -> 229.34922 | K34: =Ringkasan!K34/1000000000 -> 94.743496 | L34: =Ringkasan!L34/1000000000 -> 1768.9056 | M34: =Ringkasan!M34/1000000000 -> 21309.969 | N34: =Ringkasan!N34/1000000000 -> 20748.882 | ... BL34: =Ringkasan!BL34/1000000000 -> 1.9454956e-13 | BM34: =BM32+BM33 -> 12 | BN34: =BN32+BN33 -> 6 | BR34: =Ringkasan!#REF!/1000000000 -> #REF! | BS34: =G34-BR34 -> #REF! | BT34: =IF(BS34=0,"Benar","Salah") -> #REF! | BV34: =Ringkasan!#REF!/1000000000 -> #REF! | BW34: =AC34-BV34 -> #REF! | BX34: =IF(BW34=0,"Benar","Salah") -> #REF!
B35: N | C35: N | D35: Total Provinsi/Kab/Kota Se-Aceh | G35: =Ringkasan!G35/1000000000 -> 35434.039 | H35: =Ringkasan!H35/1000000000 -> 5832.4025 | I35: =Ringkasan!I35/1000000000 -> 2602.2903 | J35: =Ringkasan!J35/1000000000 -> 929.82685 | K35: =Ringkasan!K35/1000000000 -> 360.5253 | L35: =Ringkasan!L35/1000000000 -> 1939.7601 | M35: =Ringkasan!M35/1000000000 -> 29245.445 | N35: =Ringkasan!N35/1000000000 -> 28684.358 | ... BL35: =Ringkasan!BL35/1000000000 -> 2.1476746e-12 | BM35: =BM34+BM8 -> 12 | BN35: =BN34+BN8 -> 7 | BR35: =Ringkasan!#REF!/1000000000 -> #REF! | BS35: =G35-BR35 -> #REF! | BT35: =IF(BS35=0,"Benar","Salah") -> #REF! | BV35: =Ringkasan!#REF!/1000000000 -> #REF! | BW35: =AC35-BV35 -> #REF! | BX35: =IF(BW35=0,"Benar","Salah") -> #REF!
A36: Provinsi Sumatera Utara | B36: II | C36: 2 | D36: Prov. Sumatera Utara | E36: =[1]Pendapatan!D36 -> 7 Tahun 2024 | F36: =[1]Pendapatan!E36 -> 45653.667 | G36: =Ringkasan!G36/1000000000 -> 13242.816 | H36: =Ringkasan!H36/1000000000 -> 7249.5013 | I36: =Ringkasan!I36/1000000000 -> 6366.1793 | J36: =Ringkasan!J36/1000000000 -> 173.33156 | K36: =Ringkasan!K36/1000000000 -> 343.01445 | L36: =Ringkasan!L36/1000000000 -> 366.97603 | M36: =Ringkasan!M36/1000000000 -> 5927.0148 | N36: =Ringkasan!N36/1000000000 -> 5927.0148 | ... BL36: =Ringkasan!BL36/1000000000 -> 0 | BM36: =IF(RIGHT(E36,4)="2024",1,0) -> 1 | BN36: =IF(RIGHT(E36,4)="2025",1,0) -> 0 | BP36: =IF(G36>0,1,0) -> 1 | BR36: =Ringkasan!#REF!/1000000000 -> #REF! | BS36: =G36-BR36 -> #REF! | BT36: =IF(BS36=0,"Benar","Salah") -> #REF! | BV36: =Ringkasan!#REF!/1000000000 -> #REF! | BW36: =AC36-BV36 -> #REF! | BX36: =IF(BW36=0,"Benar","Salah") -> #REF!
A37: Kab. Asahan | B37: =B31+1 -> 24 | C37: 1 | D37: Kab. Asahan | E37: =[1]Pendapatan!D37 -> 10 TAHUN 2024 | F37: =[1]Pendapatan!E37 -> 45653.689 | G37: =Ringkasan!G37/1000000000 -> 1873.4491 | H37: =Ringkasan!H37/1000000000 -> 240.82882 | I37: =Ringkasan!I37/1000000000 -> 157.61071 | J37: =Ringkasan!J37/1000000000 -> 13.70977 | K37: =Ringkasan!K37/1000000000 -> 8.1748881 | L37: =Ringkasan!L37/1000000000 -> 61.333448 | M37: =Ringkasan!M37/1000000000 -> 1602.6988 | N37: =Ringkasan!N37/1000000000 -> 1540.919 | ... BL37: =Ringkasan!BL37/1000000000 -> 0 | BM37: =IF(RIGHT(E37,4)="2024",1,0) -> 1 | BN37: =IF(RIGHT(E37,4)="2025",1,0) -> 0 | BP37: =IF(G37>0,1,0) -> 1 | BR37: =Ringkasan!#REF!/1000000000 -> #REF! | BS37: =G37-BR37 -> #REF! | BT37: =IF(BS37=0,"Benar","Salah") -> #REF! | BV37: =Ringkasan!#REF!/1000000000 -> #REF! | BW37: =AC37-BV37 -> #REF! | BX37: =IF(BW37=0,"Benar","Salah") -> #REF!
A38: Kab. Batu Bara | B38: =B37+1 -> 25 | C38: =C37+1 -> 2 | D38: Kab. Batubara | E38: =[1]Pendapatan!D38 -> 7 Tahun 2024 | F38: =[1]Pendapatan!E38 -> 45657.993 | G38: =Ringkasan!G38/1000000000 -> 1299.0949 | H38: =Ringkasan!H38/1000000000 -> 203.29137 | I38: =Ringkasan!I38/1000000000 -> 174.60886 | J38: =Ringkasan!J38/1000000000 -> 6.313 | K38: =Ringkasan!K38/1000000000 -> 4.8695133 | L38: =Ringkasan!L38/1000000000 -> 17.5 | M38: =Ringkasan!M38/1000000000 -> 1078.2584 | N38: =Ringkasan!N38/1000000000 -> 1025.0654 | ... BL38: =Ringkasan!BL38/1000000000 -> 0 | BM38: =IF(RIGHT(E38,4)="2024",1,0) -> 1 | BN38: =IF(RIGHT(E38,4)="2025",1,0) -> 0 | BP38: =IF(G38>0,1,0) -> 1 | BR38: =Ringkasan!#REF!/1000000000 -> #REF! | BS38: =G38-BR38 -> #REF! | BT38: =IF(BS38=0,"Benar","Salah") -> #REF! | BV38: =Ringkasan!#REF!/1000000000 -> #REF! | BW38: =AC38-BV38 -> #REF! | BX38: =IF(BW38=0,"Benar","Salah") -> #REF!
A39: Kab. Dairi | B39: =B38+1 -> 26 | C39: =C38+1 -> 3 | D39: Kab. Dairi | E39: =[1]Pendapatan!D39 -> 4 Tahun 2024 | F39: =[1]Pendapatan!E39 -> 45644.389 | G39: =Ringkasan!G39/1000000000 -> 1197.0155 | H39: =Ringkasan!H39/1000000000 -> 93.022695 | I39: =Ringkasan!I39/1000000000 -> 36.017695 | J39: =Ringkasan!J39/1000000000 -> 41.93 | K39: =Ringkasan!K39/1000000000 -> 12 | L39: =Ringkasan!L39/1000000000 -> 3.075 | M39: =Ringkasan!M39/1000000000 -> 1088.9928 | N39: =Ringkasan!N39/1000000000 -> 1055.2253 | ... BL39: =Ringkasan!BL39/1000000000 -> 0 | BM39: =IF(RIGHT(E39,4)="2024",1,0) -> 1 | BN39: =IF(RIGHT(E39,4)="2025",1,0) -> 0 | BP39: =IF(G39>0,1,0) -> 1 | BR39: =Ringkasan!#REF!/1000000000 -> #REF! | BS39: =G39-BR39 -> #REF! | BT39: =IF(BS39=0,"Benar","Salah") -> #REF! | BV39: =Ringkasan!#REF!/1000000000 -> #REF! | BW39: =AC39-BV39 -> #REF! | BX39: =IF(BW39=0,"Benar","Salah") -> #REF!
A40: Kab. Deli Serdang | B40: =B39+1 -> 27 | C40: =C39+1 -> 4 | D40: Kab. Deli Serdang | E40: =[1]Pendapatan!D40 -> 5 TAHUN 2024 | F40: =[1]Pendapatan!E40 -> 45576 | G40: =Ringkasan!G40/1000000000 -> 4804.3724 | H40: =Ringkasan!H40/1000000000 -> 1590.4896 | I40: =Ringkasan!I40/1000000000 -> 1264.2733 | J40: =Ringkasan!J40/1000000000 -> 94.927226 | K40: =Ringkasan!K40/1000000000 -> 20.435467 | L40: =Ringkasan!L40/1000000000 -> 210.85359 | M40: =Ringkasan!M40/1000000000 -> 3213.8828 | N40: =Ringkasan!N40/1000000000 -> 3009.2875 | ... BL40: =Ringkasan!BL40/1000000000 -> 0 | BM40: =IF(RIGHT(E40,4)="2024",1,0) -> 1 | BN40: =IF(RIGHT(E40,4)="2025",1,0) -> 0 | BP40: =IF(G40>0,1,0) -> 1 | BR40: =Ringkasan!#REF!/1000000000 -> #REF! | BS40: =G40-BR40 -> #REF! | BT40: =IF(BS40=0,"Benar","Salah") -> #REF! | BV40: =Ringkasan!#REF!/1000000000 -> #REF! | BW40: =AC40-BV40 -> #REF! | BX40: =IF(BW40=0,"Benar","Salah") -> #REF!
A41: Kab. Humbang Hasundutan | B41: =B40+1 -> 28 | C41: =C40+1 -> 5 | D41: Kab. Humbang Hasundutan | E41: =[1]Pendapatan!D41 -> - | F41: =[1]Pendapatan!E41 -> 45656.456 | G41: =Ringkasan!G41/1000000000 -> 1010.5658 | H41: =Ringkasan!H41/1000000000 -> 87.742337 | I41: =Ringkasan!I41/1000000000 -> 25.936468 | J41: =Ringkasan!J41/1000000000 -> 7.9213685 | K41: =Ringkasan!K41/1000000000 -> 5 | L41: =Ringkasan!L41/1000000000 -> 48.8845 | M41: =Ringkasan!M41/1000000000 -> 912.70343 | N41: =Ringkasan!N41/1000000000 -> 884.0053 | ... BL41: =Ringkasan!BL41/1000000000 -> 0 | BM41: =IF(RIGHT(E41,4)="2024",1,0) -> 0 | BN41: =IF(RIGHT(E41,4)="2025",1,0) -> 0 | BP41: =IF(G41>0,1,0) -> 1 | BR41: =Ringkasan!#REF!/1000000000 -> #REF! | BS41: =G41-BR41 -> #REF! | BT41: =IF(BS41=0,"Benar","Salah") -> #REF! | BV41: =Ringkasan!#REF!/1000000000 -> #REF! | BW41: =AC41-BV41 -> #REF! | BX41: =IF(BW41=0,"Benar","Salah") -> #REF!
A42: Kab. Karo | B42: =B41+1 -> 29 | C42: =C41+1 -> 6 | D42: Kab. Karo | E42: =[1]Pendapatan!D42 -> 07 Tahun 2024 | F42: =[1]Pendapatan!E42 -> 45646 | G42: =Ringkasan!G42/1000000000 -> 1463.4512 | H42: =Ringkasan!H42/1000000000 -> 156.00012 | I42: =Ringkasan!I42/1000000000 -> 101.35301 | J42: =Ringkasan!J42/1000000000 -> 40.25028 | K42: =Ringkasan!K42/1000000000 -> 5 | L42: =Ringkasan!L42/1000000000 -> 9.3968325 | M42: =Ringkasan!M42/1000000000 -> 1290.3959 | N42: =Ringkasan!N42/1000000000 -> 1239.5251 | ... BL42: =Ringkasan!BL42/1000000000 -> 0 | BM42: =IF(RIGHT(E42,4)="2024",1,0) -> 1 | BN42: =IF(RIGHT(E42,4)="2025",1,0) -> 0 | BP42: =IF(G42>0,1,0) -> 1 | BR42: =Ringkasan!#REF!/1000000000 -> #REF! | BS42: =G42-BR42 -> #REF! | BT42: =IF(BS42=0,"Benar","Salah") -> #REF! | BV42: =Ringkasan!#REF!/1000000000 -> #REF! | BW42: =AC42-BV42 -> #REF! | BX42: =IF(BW42=0,"Benar","Salah") -> #REF!
A43: Kab. Labuhanbatu | B43: =B42+1 -> 30 | C43: =C42+1 -> 7 | D43: Kab. Labuhanbatu | E43: =[1]Pendapatan!D43 -> 9 Tahun 2024 | F43: =[1]Pendapatan!E43 -> 45657.417 | G43: =Ringkasan!G43/1000000000 -> 1426.2472 | H43: =Ringkasan!H43/1000000000 -> 282.8045 | I43: =Ringkasan!I43/1000000000 -> 138.6795 | J43: =Ringkasan!J43/1000000000 -> 122.625 | K43: =Ringkasan!K43/1000000000 -> 12.5 | L43: =Ringkasan!L43/1000000000 -> 9 | M43: =Ringkasan!M43/1000000000 -> 1125.4426 | N43: =Ringkasan!N43/1000000000 -> 1075.4426 | ... BL43: =Ringkasan!BL43/1000000000 -> 0 | BM43: =IF(RIGHT(E43,4)="2024",1,0) -> 1 | BN43: =IF(RIGHT(E43,4)="2025",1,0) -> 0 | BP43: =IF(G43>0,1,0) -> 1 | BR43: =Ringkasan!#REF!/1000000000 -> #REF! | BS43: =G43-BR43 -> #REF! | BT43: =IF(BS43=0,"Benar","Salah") -> #REF! | BV43: =Ringkasan!#REF!/1000000000 -> #REF! | BW43: =AC43-BV43 -> #REF! | BX43: =IF(BW43=0,"Benar","Salah") -> #REF!
A44: Kab. Labuhanbatu Selatan | B44: =B43+1 -> 31 | C44: =C43+1 -> 8 | D44: Kab. Labuhanbatu Selatan | E44: =[1]Pendapatan!D44 -> 4 TAHUN 2024 | F44: =[1]Pendapatan!E44 -> 45650 | G44: =Ringkasan!G44/1000000000 -> 1034.6259 | H44: =Ringkasan!H44/1000000000 -> 106.10587 | I44: =Ringkasan!I44/1000000000 -> 69.307283 | J44: =Ringkasan!J44/1000000000 -> 3.2416072 | K44: =Ringkasan!K44/1000000000 -> 3.5569825 | L44: =Ringkasan!L44/1000000000 -> 30 | M44: =Ringkasan!M44/1000000000 -> 919.11144 | N44: =Ringkasan!N44/1000000000 -> 875.78314 | ... BL44: =Ringkasan!BL44/1000000000 -> 0 | BM44: =IF(RIGHT(E44,4)="2024",1,0) -> 1 | BN44: =IF(RIGHT(E44,4)="2025",1,0) -> 0 | BP44: =IF(G44>0,1,0) -> 1 | BR44: =Ringkasan!#REF!/1000000000 -> #REF! | BS44: =G44-BR44 -> #REF! | BT44: =IF(BS44=0,"Benar","Salah") -> #REF! | BV44: =Ringkasan!#REF!/1000000000 -> #REF! | BW44: =AC44-BV44 -> #REF! | BX44: =IF(BW44=0,"Benar","Salah") -> #REF!
A45: Kab. Labuhanbatu Utara | B45: =B44+1 -> 32 | C45: =C44+1 -> 9 | D45: Kab. Labuhanbatu Utara | E45: =[1]Pendapatan!D45 -> 08 Tahun 2024 | F45: =[1]Pendapatan!E45 -> 45644 | G45: =Ringkasan!G45/1000000000 -> 1109.6976 | H45: =Ringkasan!H45/1000000000 -> 79.96689 | I45: =Ringkasan!I45/1000000000 -> 53.79939 | J45: =Ringkasan!J45/1000000000 -> 3.3525 | K45: =Ringkasan!K45/1000000000 -> 3.3 | L45: =Ringkasan!L45/1000000000 -> 19.515 | M45: =Ringkasan!M45/1000000000 -> 1014.4366 | N45: =Ringkasan!N45/1000000000 -> 981.74569 | ... BL45: =Ringkasan!BL45/1000000000 -> 0 | BM45: =IF(RIGHT(E45,4)="2024",1,0) -> 1 | BN45: =IF(RIGHT(E45,4)="2025",1,0) -> 0 | BP45: =IF(G45>0,1,0) -> 1 | BR45: =Ringkasan!#REF!/1000000000 -> #REF! | BS45: =G45-BR45 -> #REF! | BT45: =IF(BS45=0,"Benar","Salah") -> #REF! | BV45: =Ringkasan!#REF!/1000000000 -> #REF! | BW45: =AC45-BV45 -> #REF! | BX45: =IF(BW45=0,"Benar","Salah") -> #REF!
A46: Kab. Langkat | B46: =B45+1 -> 33 | C46: =C45+1 -> 10 | D46: Kab. Langkat | E46: =[1]Pendapatan!D46 -> 13 Tahun 2024 | F46: =[1]Pendapatan!E46 -> 45656 | G46: =Ringkasan!G46/1000000000 -> 2124.7845 | H46: =Ringkasan!H46/1000000000 -> 252.0106 | I46: =Ringkasan!I46/1000000000 -> 202.34 | J46: =Ringkasan!J46/1000000000 -> 9.0726 | K46: =Ringkasan!K46/1000000000 -> 9.95 | L46: =Ringkasan!L46/1000000000 -> 30.648 | M46: =Ringkasan!M46/1000000000 -> 1824.0087 | N46: =Ringkasan!N46/1000000000 -> 1746.2669 | ... BL46: =Ringkasan!BL46/1000000000 -> 0 | BM46: =IF(RIGHT(E46,4)="2024",1,0) -> 1 | BN46: =IF(RIGHT(E46,4)="2025",1,0) -> 0 | BP46: =IF(G46>0,1,0) -> 1 | BR46: =Ringkasan!#REF!/1000000000 -> #REF! | BS46: =G46-BR46 -> #REF! | BT46: =IF(BS46=0,"Benar","Salah") -> #REF! | BV46: =Ringkasan!#REF!/1000000000 -> #REF! | BW46: =AC46-BV46 -> #REF! | BX46: =IF(BW46=0,"Benar","Salah") -> #REF!
A47: Kab. Mandailing Natal | B47: =B46+1 -> 34 | C47: =C46+1 -> 11 | D47: Kab. Mandailing Natal | E47: =[1]Pendapatan!D47 -> 01 Tahun 2025 | F47: =[1]Pendapatan!E47 -> 45664 | G47: =Ringkasan!G47/1000000000 -> 1928.3741 | H47: =Ringkasan!H47/1000000000 -> 192.06673 | I47: =Ringkasan!I47/1000000000 -> 70.361795 | J47: =Ringkasan!J47/1000000000 -> 15.343207 | K47: =Ringkasan!K47/1000000000 -> 15 | L47: =Ringkasan!L47/1000000000 -> 91.361727 | M47: =Ringkasan!M47/1000000000 -> 1729.8073 | N47: =Ringkasan!N47/1000000000 -> 1652.9619 | ... BL47: =Ringkasan!BL47/1000000000 -> 0 | BM47: =IF(RIGHT(E47,4)="2024",1,0) -> 0 | BN47: =IF(RIGHT(E47,4)="2025",1,0) -> 1 | BP47: =IF(G47>0,1,0) -> 1 | BR47: =Ringkasan!#REF!/1000000000 -> #REF! | BS47: =G47-BR47 -> #REF! | BT47: =IF(BS47=0,"Benar","Salah") -> #REF! | BV47: =Ringkasan!#REF!/1000000000 -> #REF! | BW47: =AC47-BV47 -> #REF! | BX47: =IF(BW47=0,"Benar","Salah") -> #REF!
A48: Kab. Nias | B48: =B47+1 -> 35 | C48: =C47+1 -> 12 | D48: Kab. Nias | E48: =[1]Pendapatan!D48 | F48: =[1]Pendapatan!E48 | G48: =Ringkasan!G48/1000000000 -> 0 | H48: =Ringkasan!H48/1000000000 -> 0 | I48: =Ringkasan!I48/1000000000 -> 0 | J48: =Ringkasan!J48/1000000000 -> 0 | K48: =Ringkasan!K48/1000000000 -> 0 | L48: =Ringkasan!L48/1000000000 -> 0 | M48: =Ringkasan!M48/1000000000 -> 0 | N48: =Ringkasan!N48/1000000000 -> 0 | ... BL48: =Ringkasan!BL48/1000000000 -> 0 | BM48: =IF(RIGHT(E48,4)="2024",1,0) -> 0 | BN48: =IF(RIGHT(E48,4)="2025",1,0) -> 0 | BP48: =IF(G48>0,1,0) -> 0 | BR48: =Ringkasan!#REF!/1000000000 -> #REF! | BS48: =G48-BR48 -> #REF! | BT48: =IF(BS48=0,"Benar","Salah") -> #REF! | BV48: =Ringkasan!#REF!/1000000000 -> #REF! | BW48: =AC48-BV48 -> #REF! | BX48: =IF(BW48=0,"Benar","Salah") -> #REF!
A49: Kab. Nias Barat | B49: =B48+1 -> 36 | C49: =C48+1 -> 13 | D49: Kab. Nias Barat | E49: =[1]Pendapatan!D49 -> 01 Tahun 2025 | F49: =[1]Pendapatan!E49 -> 45680.583 | G49: =Ringkasan!G49/1000000000 -> 934.18502 | H49: =Ringkasan!H49/1000000000 -> 22 | I49: =Ringkasan!I49/1000000000 -> 8.7287086 | J49: =Ringkasan!J49/1000000000 -> 1.271 | K49: =Ringkasan!K49/1000000000 -> 1.8 | L49: =Ringkasan!L49/1000000000 -> 10.200291 | M49: =Ringkasan!M49/1000000000 -> 906.45002 | N49: =Ringkasan!N49/1000000000 -> 888.45002 | ... BL49: =Ringkasan!BL49/1000000000 -> 0 | BM49: =IF(RIGHT(E49,4)="2024",1,0) -> 0 | BN49: =IF(RIGHT(E49,4)="2025",1,0) -> 1 | BP49: =IF(G49>0,1,0) -> 1 | BR49: =Ringkasan!#REF!/1000000000 -> #REF! | BS49: =G49-BR49 -> #REF! | BT49: =IF(BS49=0,"Benar","Salah") -> #REF! | BV49: =Ringkasan!#REF!/1000000000 -> #REF! | BW49: =AC49-BV49 -> #REF! | BX49: =IF(BW49=0,"Benar","Salah") -> #REF!
... A69: Kota Tebing Tinggi | B69: =B68+1 -> 56 | C69: =C68+1 -> 33 | D69: Kota Tebing Tinggi | E69: =[1]Pendapatan!D69 -> 5 Tahun 2024 | F69: =[1]Pendapatan!E69 -> 45653 | G69: =Ringkasan!G69/1000000000 -> 740.11415 | H69: =Ringkasan!H69/1000000000 -> 129.15773 | I69: =Ringkasan!I69/1000000000 -> 59.94574 | J69: =Ringkasan!J69/1000000000 -> 54.673532 | K69: =Ringkasan!K69/1000000000 -> 12.271062 | L69: =Ringkasan!L69/1000000000 -> 2.2673963 | M69: =Ringkasan!M69/1000000000 -> 610.95642 | N69: =Ringkasan!N69/1000000000 -> 580.75209 | ... BL69: =Ringkasan!BL69/1000000000 -> 0 | BM69: =IF(RIGHT(E69,4)="2024",1,0) -> 1 | BN69: =IF(RIGHT(E69,4)="2025",1,0) -> 0 | BP69: =IF(G69>0,1,0) -> 1 | BR69: =Ringkasan!#REF!/1000000000 -> #REF! | BS69: =G69-BR69 -> #REF! | BT69: =IF(BS69=0,"Benar","Salah") -> #REF! | BV69: =Ringkasan!#REF!/1000000000 -> #REF! | BW69: =AC69-BV69 -> #REF! | BX69: =IF(BW69=0,"Benar","Salah") -> #REF!
B70: Kab | C70: Kab | D70: Total Kabupaten | G70: =Ringkasan!G70/1000000000 -> 36443.969 | H70: =Ringkasan!H70/1000000000 -> 4582.275 | I70: =Ringkasan!I70/1000000000 -> 3010.7703 | J70: =Ringkasan!J70/1000000000 -> 570.64495 | K70: =Ringkasan!K70/1000000000 -> 245.74166 | L70: =Ringkasan!L70/1000000000 -> 755.1181 | M70: =Ringkasan!M70/1000000000 -> 31423.959 | N70: =Ringkasan!N70/1000000000 -> 30118.778 | ... BL70: =Ringkasan!BL70/1000000000 -> 1.4648437e-12 | BM70: =SUM(BM37:BM61) -> 19 | BN70: =SUM(BN37:BN61) -> 4 | BR70: =Ringkasan!#REF!/1000000000 -> #REF! | BS70: =G70-BR70 -> #REF! | BT70: =IF(BS70=0,"Benar","Salah") -> #REF! | BV70: =Ringkasan!#REF!/1000000000 -> #REF! | BW70: =AC70-BV70 -> #REF! | BX70: =IF(BW70=0,"Benar","Salah") -> #REF!
B71: Kota | C71: Kota | D71: Total Kota | G71: =Ringkasan!G71/1000000000 -> 13631.677 | H71: =Ringkasan!H71/1000000000 -> 5165.4808 | I71: =Ringkasan!I71/1000000000 -> 4101.9399 | J71: =Ringkasan!J71/1000000000 -> 491.12874 | K71: =Ringkasan!K71/1000000000 -> 82.937896 | L71: =Ringkasan!L71/1000000000 -> 489.47428 | M71: =Ringkasan!M71/1000000000 -> 8291.475 | N71: =Ringkasan!N71/1000000000 -> 7618.0172 | ... BL71: =Ringkasan!BL71/1000000000 -> 1.1749268e-12 | BM71: =SUM(BM62:BM69) -> 7 | BN71: =SUM(BN62:BN69) -> 1 | BR71: =Ringkasan!#REF!/1000000000 -> #REF! | BS71: =G71-BR71 -> #REF! | BT71: =IF(BS71=0,"Benar","Salah") -> #REF! | BV71: =Ringkasan!#REF!/1000000000 -> #REF! | BW71: =AC71-BV71 -> #REF! | BX71: =IF(BW71=0,"Benar","Salah") -> #REF!
B72: KK | C72: KK | D72: Total Kabupaten/Kota Se-Sumut | G72: =Ringkasan!G72/1000000000 -> 50075.646 | H72: =Ringkasan!H72/1000000000 -> 9747.7558 | I72: =Ringkasan!I72/1000000000 -> 7112.7102 | J72: =Ringkasan!J72/1000000000 -> 1061.7737 | K72: =Ringkasan!K72/1000000000 -> 328.67956 | L72: =Ringkasan!L72/1000000000 -> 1244.5924 | M72: =Ringkasan!M72/1000000000 -> 39715.434 | N72: =Ringkasan!N72/1000000000 -> 37736.795 | ... BL72: =Ringkasan!BL72/1000000000 -> 2.6397705e-12 | BM72: =BM70+BM71 -> 26 | BN72: =BN70+BN71 -> 5 | BR72: =Ringkasan!#REF!/1000000000 -> #REF! | BS72: =G72-BR72 -> #REF! | BT72: =IF(BS72=0,"Benar","Salah") -> #REF! | BV72: =Ringkasan!#REF!/1000000000 -> #REF! | BW72: =AC72-BV72 -> #REF! | BX72: =IF(BW72=0,"Benar","Salah") -> #REF!
B73: N | C73: N | D73: Total Provinsi/Kab/Kota Se-Sumut | G73: =Ringkasan!G73/1000000000 -> 63318.462 | H73: =Ringkasan!H73/1000000000 -> 16997.257 | I73: =Ringkasan!I73/1000000000 -> 13478.889 | J73: =Ringkasan!J73/1000000000 -> 1235.1052 | K73: =Ringkasan!K73/1000000000 -> 671.694 | L73: =Ringkasan!L73/1000000000 -> 1611.5684 | M73: =Ringkasan!M73/1000000000 -> 45642.449 | N73: =Ringkasan!N73/1000000000 -> 43663.81 | ... BL73: =Ringkasan!BL73/1000000000 -> 2.6397705e-12 | BM73: =BM72+BM36 -> 27 | BN73: =BN72+BN36 -> 5 | BR73: =Ringkasan!#REF!/1000000000 -> #REF! | BS73: =G73-BR73 -> #REF! | BT73: =IF(BS73=0,"Benar","Salah") -> #REF! | BV73: =Ringkasan!#REF!/1000000000 -> #REF! | BW73: =AC73-BV73 -> #REF! | BX73: =IF(BW73=0,"Benar","Salah") -> #REF!
A74: Provinsi Sumatera Barat | B74: III | C74: 3 | D74: Prov. Sumatera Barat | E74: =[1]Pendapatan!D74 -> 07 Tahun 2024 | F74: =[1]Pendapatan!E74 -> 45657.938 | G74: =Ringkasan!G74/1000000000 -> 6274.1321 | H74: =Ringkasan!H74/1000000000 -> 2832.3885 | I74: =Ringkasan!I74/1000000000 -> 2114.4281 | J74: =Ringkasan!J74/1000000000 -> 418.15245 | K74: =Ringkasan!K74/1000000000 -> 144.99755 | L74: =Ringkasan!L74/1000000000 -> 154.81039 | M74: =Ringkasan!M74/1000000000 -> 3423.8684 | N74: =Ringkasan!N74/1000000000 -> 3423.8684 | ... BL74: =Ringkasan!BL74/1000000000 -> 0 | BM74: =IF(RIGHT(E74,4)="2024",1,0) -> 1 | BN74: =IF(RIGHT(E74,4)="2025",1,0) -> 0 | BP74: =IF(G74>0,1,0) -> 1 | BR74: =Ringkasan!#REF!/1000000000 -> #REF! | BS74: =G74-BR74 -> #REF! | BT74: =IF(BS74=0,"Benar","Salah") -> #REF! | BV74: =Ringkasan!#REF!/1000000000 -> #REF! | BW74: =AC74-BV74 -> #REF! | BX74: =IF(BW74=0,"Benar","Salah") -> #REF!
A75: Kab. Agam | B75: =B69+1 -> 57 | C75: 1 | D75: Kab. Agam | E75: =[1]Pendapatan!D75 -> Nomor 9 Tahun 2024 | F75: =[1]Pendapatan!E75 -> 45657.628 | G75: =Ringkasan!G75/1000000000 -> 1573.318 | H75: =Ringkasan!H75/1000000000 -> 207.81982 | I75: =Ringkasan!I75/1000000000 -> 91.558351 | J75: =Ringkasan!J75/1000000000 -> 94.86086 | K75: =Ringkasan!K75/1000000000 -> 14 | L75: =Ringkasan!L75/1000000000 -> 7.4006044 | M75: =Ringkasan!M75/1000000000 -> 1365.4982 | N75: =Ringkasan!N75/1000000000 -> 1303.0176 | ... BL75: =Ringkasan!BL75/1000000000 -> 6.1035156e-14 | BM75: =IF(RIGHT(E75,4)="2024",1,0) -> 1 | BN75: =IF(RIGHT(E75,4)="2025",1,0) -> 0 | BP75: =IF(G75>0,1,0) -> 1 | BR75: =Ringkasan!#REF!/1000000000 -> #REF! | BS75: =G75-BR75 -> #REF! | BT75: =IF(BS75=0,"Benar","Salah") -> #REF! | BV75: =Ringkasan!#REF!/1000000000 -> #REF! | BW75: =AC75-BV75 -> #REF! | BX75: =IF(BW75=0,"Benar","Salah") -> #REF!
A76: Kab. Dharmasraya | B76: =B75+1 -> 58 | C76: =C75+1 -> 2 | D76: Kab. Dharmasraya | E76: =[1]Pendapatan!D76 -> 07 Tahun 2024 | F76: =[1]Pendapatan!E76 -> 45656.776 | G76: =Ringkasan!G76/1000000000 -> 1030.3071 | H76: =Ringkasan!H76/1000000000 -> 144.20831 | I76: =Ringkasan!I76/1000000000 -> 48.694985 | J76: =Ringkasan!J76/1000000000 -> 83.322394 | K76: =Ringkasan!K76/1000000000 -> 5.347929 | L76: =Ringkasan!L76/1000000000 -> 6.843 | M76: =Ringkasan!M76/1000000000 -> 874.23465 | N76: =Ringkasan!N76/1000000000 -> 827.53849 | ... BL76: =Ringkasan!BL76/1000000000 -> 0 | BM76: =IF(RIGHT(E76,4)="2024",1,0) -> 1 | BN76: =IF(RIGHT(E76,4)="2025",1,0) -> 0 | BP76: =IF(G76>0,1,0) -> 1 | BR76: =Ringkasan!#REF!/1000000000 -> #REF! | BS76: =G76-BR76 -> #REF! | BT76: =IF(BS76=0,"Benar","Salah") -> #REF! | BV76: =Ringkasan!#REF!/1000000000 -> #REF! | BW76: =AC76-BV76 -> #REF! | BX76: =IF(BW76=0,"Benar","Salah") -> #REF!
A77: Kab. Kepulauan Mentawai | B77: =B76+1 -> 59 | C77: =C76+1 -> 3 | D77: Kab. Kep. Mentawai | E77: =[1]Pendapatan!D77 -> 05 Tahun 2024 | F77: =[1]Pendapatan!E77 -> 45653.676 | G77: =Ringkasan!G77/1000000000 -> 959.56848 | H77: =Ringkasan!H77/1000000000 -> 59.324354 | I77: =Ringkasan!I77/1000000000 -> 9.7508866 | J77: =Ringkasan!J77/1000000000 -> 22.307055 | K77: =Ringkasan!K77/1000000000 -> 16.476655 | L77: =Ringkasan!L77/1000000000 -> 10.789758 | M77: =Ringkasan!M77/1000000000 -> 893.22956 | N77: =Ringkasan!N77/1000000000 -> 883.71511 | ... BL77: =Ringkasan!BL77/1000000000 -> 0 | BM77: =IF(RIGHT(E77,4)="2024",1,0) -> 1 | BN77: =IF(RIGHT(E77,4)="2025",1,0) -> 0 | BP77: =IF(G77>0,1,0) -> 1 | BR77: =Ringkasan!#REF!/1000000000 -> #REF! | BS77: =G77-BR77 -> #REF! | BT77: =IF(BS77=0,"Benar","Salah") -> #REF! | BV77: =Ringkasan!#REF!/1000000000 -> #REF! | BW77: =AC77-BV77 -> #REF! | BX77: =IF(BW77=0,"Benar","Salah") -> #REF!
A78: Kab. Lima Puluh Kota | B78: =B77+1 -> 60 | C78: =C77+1 -> 4 | D78: Kab. Lima Puluh Kota | E78: =[1]Pendapatan!D78 -> 5 TAHUN 2024 | F78: =[1]Pendapatan!E78 -> 45657 | G78: =Ringkasan!G78/1000000000 -> 1357.905 | H78: =Ringkasan!H78/1000000000 -> 137.84625 | I78: =Ringkasan!I78/1000000000 -> 61.932116 | J78: =Ringkasan!J78/1000000000 -> 40.316845 | K78: =Ringkasan!K78/1000000000 -> 4.6590981 | L78: =Ringkasan!L78/1000000000 -> 30.938195 | M78: =Ringkasan!M78/1000000000 -> 1220.0588 | N78: =Ringkasan!N78/1000000000 -> 1176.1675 | ... BL78: =Ringkasan!BL78/1000000000 -> 0 | BM78: =IF(RIGHT(E78,4)="2024",1,0) -> 1 | BN78: =IF(RIGHT(E78,4)="2025",1,0) -> 0 | BP78: =IF(G78>0,1,0) -> 1 | BR78: =Ringkasan!#REF!/1000000000 -> #REF! | BS78: =G78-BR78 -> #REF! | BT78: =IF(BS78=0,"Benar","Salah") -> #REF! | BV78: =Ringkasan!#REF!/1000000000 -> #REF! | BW78: =AC78-BV78 -> #REF! | BX78: =IF(BW78=0,"Benar","Salah") -> #REF!
A79: Kab. Padang Pariaman | B79: =B78+1 -> 61 | C79: =C78+1 -> 5 | D79: Kab. Padang Pariaman | E79: =[1]Pendapatan!D79 -> 7 Tahun 2024 | F79: =[1]Pendapatan!E79 -> 45657 | G79: =Ringkasan!G79/1000000000 -> 1454.6869 | H79: =Ringkasan!H79/1000000000 -> 180.89526 | I79: =Ringkasan!I79/1000000000 -> 93.109271 | J79: =Ringkasan!J79/1000000000 -> 73.407672 | K79: =Ringkasan!K79/1000000000 -> 8.728317 | L79: =Ringkasan!L79/1000000000 -> 5.65 | M79: =Ringkasan!M79/1000000000 -> 1273.7916 | N79: =Ringkasan!N79/1000000000 -> 1227.5194 | ... BL79: =Ringkasan!BL79/1000000000 -> 0 | BM79: =IF(RIGHT(E79,4)="2024",1,0) -> 1 | BN79: =IF(RIGHT(E79,4)="2025",1,0) -> 0 | BP79: =IF(G79>0,1,0) -> 1 | BR79: =Ringkasan!#REF!/1000000000 -> #REF! | BS79: =G79-BR79 -> #REF! | BT79: =IF(BS79=0,"Benar","Salah") -> #REF! | BV79: =Ringkasan!#REF!/1000000000 -> #REF! | BW79: =AC79-BV79 -> #REF! | BX79: =IF(BW79=0,"Benar","Salah") -> #REF!
A80: Kab. Pasaman | B80: =B79+1 -> 62 | C80: =C79+1 -> 6 | D80: Kab. Pasaman | E80: =[1]Pendapatan!D80 -> 06 Tahun 2024 | F80: =[1]Pendapatan!E80 -> 45656 | G80: =Ringkasan!G80/1000000000 -> 1131.2329 | H80: =Ringkasan!H80/1000000000 -> 134.56168 | I80: =Ringkasan!I80/1000000000 -> 26.259406 | J80: =Ringkasan!J80/1000000000 -> 86.393412 | K80: =Ringkasan!K80/1000000000 -> 13.111755 | L80: =Ringkasan!L80/1000000000 -> 8.7971037 | M80: =Ringkasan!M80/1000000000 -> 996.67124 | N80: =Ringkasan!N80/1000000000 -> 951.13577 | ... BL80: =Ringkasan!BL80/1000000000 -> 0 | BM80: =IF(RIGHT(E80,4)="2024",1,0) -> 1 | BN80: =IF(RIGHT(E80,4)="2025",1,0) -> 0 | BP80: =IF(G80>0,1,0) -> 1 | BR80: =Ringkasan!#REF!/1000000000 -> #REF! | BS80: =G80-BR80 -> #REF! | BT80: =IF(BS80=0,"Benar","Salah") -> #REF! | BV80: =Ringkasan!#REF!/1000000000 -> #REF! | BW80: =AC80-BV80 -> #REF! | BX80: =IF(BW80=0,"Benar","Salah") -> #REF!
A81: Kab. Pasaman Barat | B81: =B80+1 -> 63 | C81: =C80+1 -> 7 | D81: Kab. Pasaman Barat | E81: =[1]Pendapatan!D81 -> 05 Tahun 2024 | F81: =[1]Pendapatan!E81 -> 45657.618 | G81: =Ringkasan!G81/1000000000 -> 1336.7671 | H81: =Ringkasan!H81/1000000000 -> 161.6442 | I81: =Ringkasan!I81/1000000000 -> 62.079355 | J81: =Ringkasan!J81/1000000000 -> 78.714313 | K81: =Ringkasan!K81/1000000000 -> 8.4828283 | L81: =Ringkasan!L81/1000000000 -> 12.3677 | M81: =Ringkasan!M81/1000000000 -> 1175.1229 | N81: =Ringkasan!N81/1000000000 -> 1124.743 | ... BL81: =Ringkasan!BL81/1000000000 -> 0 | BM81: =IF(RIGHT(E81,4)="2024",1,0) -> 1 | BN81: =IF(RIGHT(E81,4)="2025",1,0) -> 0 | BP81: =IF(G81>0,1,0) -> 1 | BR81: =Ringkasan!#REF!/1000000000 -> #REF! | BS81: =G81-BR81 -> #REF! | BT81: =IF(BS81=0,"Benar","Salah") -> #REF! | BV81: =Ringkasan!#REF!/1000000000 -> #REF! | BW81: =AC81-BV81 -> #REF! | BX81: =IF(BW81=0,"Benar","Salah") -> #REF!
A82: Kab. Pesisir Selatan | B82: =B81+1 -> 64 | C82: =C81+1 -> 8 | D82: Kab. Pesisir Selatan | E82: =[1]Pendapatan!D82 -> 05 Tahun 2024 | F82: =[1]Pendapatan!E82 -> 45657.785 | G82: =Ringkasan!G82/1000000000 -> 1843.5355 | H82: =Ringkasan!H82/1000000000 -> 202.3672 | I82: =Ringkasan!I82/1000000000 -> 59.991398 | J82: =Ringkasan!J82/1000000000 -> 109.50696 | K82: =Ringkasan!K82/1000000000 -> 29.608843 | L82: =Ringkasan!L82/1000000000 -> 3.26 | M82: =Ringkasan!M82/1000000000 -> 1641.1683 | N82: =Ringkasan!N82/1000000000 -> 1537.1683 | ... BL82: =Ringkasan!BL82/1000000000 -> 0 | BM82: =IF(RIGHT(E82,4)="2024",1,0) -> 1 | BN82: =IF(RIGHT(E82,4)="2025",1,0) -> 0 | BP82: =IF(G82>0,1,0) -> 1 | BR82: =Ringkasan!#REF!/1000000000 -> #REF! | BS82: =G82-BR82 -> #REF! | BT82: =IF(BS82=0,"Benar","Salah") -> #REF! | BV82: =Ringkasan!#REF!/1000000000 -> #REF! | BW82: =AC82-BV82 -> #REF! | BX82: =IF(BW82=0,"Benar","Salah") -> #REF!
A83: Kab. Sijunjung | B83: =B82+1 -> 65 | C83: =C82+1 -> 9 | D83: Kab. Sijunjung | E83: =[1]Pendapatan!D83 -> 10 tahun 2024 | F83: =[1]Pendapatan!E83 -> 45656.812 | G83: =Ringkasan!G83/1000000000 -> 1066.1017 | H83: =Ringkasan!H83/1000000000 -> 128.40713 | I83: =Ringkasan!I83/1000000000 -> 35.398367 | J83: =Ringkasan!J83/1000000000 -> 10.28238 | K83: =Ringkasan!K83/1000000000 -> 20.185 | L83: =Ringkasan!L83/1000000000 -> 62.541381 | M83: =Ringkasan!M83/1000000000 -> 937.69462 | N83: =Ringkasan!N83/1000000000 -> 895.34076 | ... BL83: =Ringkasan!BL83/1000000000 -> 2.4414063e-13 | BM83: =IF(RIGHT(E83,4)="2024",1,0) -> 1 | BN83: =IF(RIGHT(E83,4)="2025",1,0) -> 0 | BP83: =IF(G83>0,1,0) -> 1 | BR83: =Ringkasan!#REF!/1000000000 -> #REF! | BS83: =G83-BR83 -> #REF! | BT83: =IF(BS83=0,"Benar","Salah") -> #REF! | BV83: =Ringkasan!#REF!/1000000000 -> #REF! | BW83: =AC83-BV83 -> #REF! | BX83: =IF(BW83=0,"Benar","Salah") -> #REF!
A84: Kab. Solok | B84: =B83+1 -> 66 | C84: =C83+1 -> 10 | D84: Kab. Solok | E84: =[1]Pendapatan!D84 -> 08 Tahun 2024 | F84: =[1]Pendapatan!E84 -> 45656.683 | G84: =Ringkasan!G84/1000000000 -> 1346.109 | H84: =Ringkasan!H84/1000000000 -> 139.98775 | I84: =Ringkasan!I84/1000000000 -> 68.641913 | J84: =Ringkasan!J84/1000000000 -> 52.251026 | K84: =Ringkasan!K84/1000000000 -> 8.4098157 | L84: =Ringkasan!L84/1000000000 -> 10.685 | M84: =Ringkasan!M84/1000000000 -> 1206.1213 | N84: =Ringkasan!N84/1000000000 -> 1173.8429 | ... BL84: =Ringkasan!BL84/1000000000 -> 1.2207031e-12 | BM84: =IF(RIGHT(E84,4)="2024",1,0) -> 1 | BN84: =IF(RIGHT(E84,4)="2025",1,0) -> 0 | BP84: =IF(G84>0,1,0) -> 1 | BR84: =Ringkasan!#REF!/1000000000 -> #REF! | BS84: =G84-BR84 -> #REF! | BT84: =IF(BS84=0,"Benar","Salah") -> #REF! | BV84: =Ringkasan!#REF!/1000000000 -> #REF! | BW84: =AC84-BV84 -> #REF! | BX84: =IF(BW84=0,"Benar","Salah") -> #REF!
A85: Kab. Solok Selatan | B85: =B84+1 -> 67 | C85: =C84+1 -> 11 | D85: Kab. Solok Selatan | E85: =[1]Pendapatan!D85 -> 7 Tahun 2024 | F85: =[1]Pendapatan!E85 -> 45656.722 | G85: =Ringkasan!G85/1000000000 -> 885.32637 | H85: =Ringkasan!H85/1000000000 -> 105.42925 | I85: =Ringkasan!I85/1000000000 -> 21.565614 | J85: =Ringkasan!J85/1000000000 -> 1.8190067 | K85: =Ringkasan!K85/1000000000 -> 3.2 | L85: =Ringkasan!L85/1000000000 -> 78.844633 | M85: =Ringkasan!M85/1000000000 -> 779.89711 | N85: =Ringkasan!N85/1000000000 -> 744.96025 | ... BL85: =Ringkasan!BL85/1000000000 -> 0 | BM85: =IF(RIGHT(E85,4)="2024",1,0) -> 1 | BN85: =IF(RIGHT(E85,4)="2025",1,0) -> 0 | BP85: =IF(G85>0,1,0) -> 1 | BR85: =Ringkasan!#REF!/1000000000 -> #REF! | BS85: =G85-BR85 -> #REF! | BT85: =IF(BS85=0,"Benar","Salah") -> #REF! | BV85: =Ringkasan!#REF!/1000000000 -> #REF! | BW85: =AC85-BV85 -> #REF! | BX85: =IF(BW85=0,"Benar","Salah") -> #REF!
A86: Kab. Tanah Datar | B86: =B85+1 -> 68 | C86: =C85+1 -> 12 | D86: Kab. Tanah Datar | E86: =[1]Pendapatan!D86 -> 05 Tahun 2024 | F86: =[1]Pendapatan!E86 -> 45657.638 | G86: =Ringkasan!G86/1000000000 -> 1349.8518 | H86: =Ringkasan!H86/1000000000 -> 185.34518 | I86: =Ringkasan!I86/1000000000 -> 55.766686 | J86: =Ringkasan!J86/1000000000 -> 97.572079 | K86: =Ringkasan!K86/1000000000 -> 27.5 | L86: =Ringkasan!L86/1000000000 -> 4.506412 | M86: =Ringkasan!M86/1000000000 -> 1164.5066 | N86: =Ringkasan!N86/1000000000 -> 1123.3782 | ... BL86: =Ringkasan!BL86/1000000000 -> 0 | BM86: =IF(RIGHT(E86,4)="2024",1,0) -> 1 | BN86: =IF(RIGHT(E86,4)="2025",1,0) -> 0 | BP86: =IF(G86>0,1,0) -> 1 | BR86: =Ringkasan!#REF!/1000000000 -> #REF! | BS86: =G86-BR86 -> #REF! | BT86: =IF(BS86=0,"Benar","Salah") -> #REF! | BV86: =Ringkasan!#REF!/1000000000 -> #REF! | BW86: =AC86-BV86 -> #REF! | BX86: =IF(BW86=0,"Benar","Salah") -> #REF!
A87: Kota Bukittinggi | B87: =B86+1 -> 69 | C87: =C86+1 -> 13 | D87: Kota Bukit Tinggi | E87: =[1]Pendapatan!D87 -> 8 Tahun 2024 | F87: =[1]Pendapatan!E87 -> 45656 | G87: =Ringkasan!G87/1000000000 -> 730.75492 | H87: =Ringkasan!H87/1000000000 -> 154.73353 | I87: =Ringkasan!I87/1000000000 -> 68.846342 | J87: =Ringkasan!J87/1000000000 -> 75.587188 | K87: =Ringkasan!K87/1000000000 -> 9.3 | L87: =Ringkasan!L87/1000000000 -> 1 | M87: =Ringkasan!M87/1000000000 -> 576.02139 | N87: =Ringkasan!N87/1000000000 -> 559.93094 | ... BL87: =Ringkasan!BL87/1000000000 -> 0 | BM87: =IF(RIGHT(E87,4)="2024",1,0) -> 1 | BN87: =IF(RIGHT(E87,4)="2025",1,0) -> 0 | BP87: =IF(G87>0,1,0) -> 1 | BR87: =Ringkasan!#REF!/1000000000 -> #REF! | BS87: =G87-BR87 -> #REF! | BT87: =IF(BS87=0,"Benar","Salah") -> #REF! | BV87: =Ringkasan!#REF!/1000000000 -> #REF! | BW87: =AC87-BV87 -> #REF! | BX87: =IF(BW87=0,"Benar","Salah") -> #REF!
... A93: Kota Solok | B93: =B92+1 -> 75 | C93: =C92+1 -> 19 | D93: Kota Solok | E93: =[1]Pendapatan!D93 -> 06 Tahun 2024 | F93: =[1]Pendapatan!E93 -> 45657.69 | G93: =Ringkasan!G93/1000000000 -> 594.69555 | H93: =Ringkasan!H93/1000000000 -> 67.5 | I93: =Ringkasan!I93/1000000000 -> 24.078793 | J93: =Ringkasan!J93/1000000000 -> 11.630307 | K93: =Ringkasan!K93/1000000000 -> 22.949208 | L93: =Ringkasan!L93/1000000000 -> 8.8416924 | M93: =Ringkasan!M93/1000000000 -> 527.19555 | N93: =Ringkasan!N93/1000000000 -> 503.96369 | ... BL93: =Ringkasan!BL93/1000000000 -> 0 | BM93: =IF(RIGHT(E93,4)="2024",1,0) -> 1 | BN93: =IF(RIGHT(E93,4)="2025",1,0) -> 0 | BP93: =IF(G93>0,1,0) -> 1 | BR93: =Ringkasan!#REF!/1000000000 -> #REF! | BS93: =G93-BR93 -> #REF! | BT93: =IF(BS93=0,"Benar","Salah") -> #REF! | BV93: =Ringkasan!#REF!/1000000000 -> #REF! | BW93: =AC93-BV93 -> #REF! | BX93: =IF(BW93=0,"Benar","Salah") -> #REF!
B94: Kab | C94: Kab | D94: Total Kabupaten | G94: =Ringkasan!G94/1000000000 -> 15334.71 | H94: =Ringkasan!H94/1000000000 -> 1787.8364 | I94: =Ringkasan!I94/1000000000 -> 634.74835 | J94: =Ringkasan!J94/1000000000 -> 750.754 | K94: =Ringkasan!K94/1000000000 -> 159.71024 | L94: =Ringkasan!L94/1000000000 -> 242.62379 | M94: =Ringkasan!M94/1000000000 -> 13527.995 | N94: =Ringkasan!N94/1000000000 -> 12968.527 | ... BL94: =Ringkasan!BL94/1000000000 -> 1.5258789e-12 | BM94: =SUM(BM75:BM86) -> 12 | BN94: =SUM(BN75:BN86) -> 0 | BR94: =Ringkasan!#REF!/1000000000 -> #REF! | BS94: =G94-BR94 -> #REF! | BT94: =IF(BS94=0,"Benar","Salah") -> #REF! | BV94: =Ringkasan!#REF!/1000000000 -> #REF! | BW94: =AC94-BV94 -> #REF! | BX94: =IF(BW94=0,"Benar","Salah") -> #REF!
B95: Kota | C95: Kota | D95: Total Kota | G95: =Ringkasan!G95/1000000000 -> 6749.311 | H95: =Ringkasan!H95/1000000000 -> 1509.753 | I95: =Ringkasan!I95/1000000000 -> 875.06529 | J95: =Ringkasan!J95/1000000000 -> 423.78159 | K95: =Ringkasan!K95/1000000000 -> 104.31518 | L95: =Ringkasan!L95/1000000000 -> 106.59096 | M95: =Ringkasan!M95/1000000000 -> 5239.558 | N95: =Ringkasan!N95/1000000000 -> 5048.8333 | ... BL95: =Ringkasan!BL95/1000000000 -> 0 | BM95: =SUM(BM87:BM93) -> 7 | BN95: =SUM(BN87:BN93) -> 0 | BR95: =Ringkasan!#REF!/1000000000 -> #REF! | BS95: =G95-BR95 -> #REF! | BT95: =IF(BS95=0,"Benar","Salah") -> #REF! | BV95: =Ringkasan!#REF!/1000000000 -> #REF! | BW95: =AC95-BV95 -> #REF! | BX95: =IF(BW95=0,"Benar","Salah") -> #REF!
B96: KK | C96: KK | D96: Total Kabupaten/Kota Se-Sumbar | G96: =Ringkasan!G96/1000000000 -> 22084.021 | H96: =Ringkasan!H96/1000000000 -> 3297.5894 | I96: =Ringkasan!I96/1000000000 -> 1509.8136 | J96: =Ringkasan!J96/1000000000 -> 1174.5356 | K96: =Ringkasan!K96/1000000000 -> 264.02542 | L96: =Ringkasan!L96/1000000000 -> 349.21475 | M96: =Ringkasan!M96/1000000000 -> 18767.553 | N96: =Ringkasan!N96/1000000000 -> 18017.361 | ... BL96: =Ringkasan!BL96/1000000000 -> 1.5258789e-12 | BM96: =BM94+BM95 -> 19 | BN96: =BN94+BN95 -> 0 | BR96: =Ringkasan!#REF!/1000000000 -> #REF! | BS96: =G96-BR96 -> #REF! | BT96: =IF(BS96=0,"Benar","Salah") -> #REF! | BV96: =Ringkasan!#REF!/1000000000 -> #REF! | BW96: =AC96-BV96 -> #REF! | BX96: =IF(BW96=0,"Benar","Salah") -> #REF!
B97: N | C97: N | D97: Total Provinsi/Kab/Kota Se-Sumbar | G97: =Ringkasan!G97/1000000000 -> 28358.153 | H97: =Ringkasan!H97/1000000000 -> 6129.9779 | I97: =Ringkasan!I97/1000000000 -> 3624.2418 | J97: =Ringkasan!J97/1000000000 -> 1592.688 | K97: =Ringkasan!K97/1000000000 -> 409.02297 | L97: =Ringkasan!L97/1000000000 -> 504.02514 | M97: =Ringkasan!M97/1000000000 -> 22191.421 | N97: =Ringkasan!N97/1000000000 -> 21441.229 | ... BL97: =Ringkasan!BL97/1000000000 -> 1.5258789e-12 | BM97: =BM96+BM74 -> 20 | BN97: =BN96+BN74 -> 0 | BR97: =Ringkasan!#REF!/1000000000 -> #REF! | BS97: =G97-BR97 -> #REF! | BT97: =IF(BS97=0,"Benar","Salah") -> #REF! | BV97: =Ringkasan!#REF!/1000000000 -> #REF! | BW97: =AC97-BV97 -> #REF! | BX97: =IF(BW97=0,"Benar","Salah") -> #REF!
A98: Provinsi Riau | B98: IV | C98: 4 | D98: Prov. Riau | E98: =[1]Pendapatan!D98 -> 1 Tahun 2025 | F98: =[1]Pendapatan!E98 -> 45660 | G98: =Ringkasan!G98/1000000000 -> 9563.7091 | H98: =Ringkasan!H98/1000000000 -> 5183.9505 | I98: =Ringkasan!I98/1000000000 -> 3725.1296 | J98: =Ringkasan!J98/1000000000 -> 15.008108 | K98: =Ringkasan!K98/1000000000 -> 815.12701 | L98: =Ringkasan!L98/1000000000 -> 628.68571 | M98: =Ringkasan!M98/1000000000 -> 4370.6806 | N98: =Ringkasan!N98/1000000000 -> 4370.6806 | ... BL98: =Ringkasan!BL98/1000000000 -> 0 | BM98: =IF(RIGHT(E98,4)="2024",1,0) -> 0 | BN98: =IF(RIGHT(E98,4)="2025",1,0) -> 1 | BP98: =IF(G98>0,1,0) -> 1 | BR98: =Ringkasan!#REF!/1000000000 -> #REF! | BS98: =G98-BR98 -> #REF! | BT98: =IF(BS98=0,"Benar","Salah") -> #REF! | BV98: =Ringkasan!#REF!/1000000000 -> #REF! | BW98: =AC98-BV98 -> #REF! | BX98: =IF(BW98=0,"Benar","Salah") -> #REF!
A99: Kab. Bengkalis | B99: =B93+1 -> 76 | C99: 1 | D99: Kab. Bengkalis | E99: =[1]Pendapatan!D99 -> 08 Tahun 2024 | F99: =[1]Pendapatan!E99 -> 45558.626 | G99: =Ringkasan!G99/1000000000 -> 3217.2646 | H99: =Ringkasan!H99/1000000000 -> 782.87485 | I99: =Ringkasan!I99/1000000000 -> 246.5325 | J99: =Ringkasan!J99/1000000000 -> 173.36555 | K99: =Ringkasan!K99/1000000000 -> 327 | L99: =Ringkasan!L99/1000000000 -> 35.9768 | M99: =Ringkasan!M99/1000000000 -> 2434.3898 | N99: =Ringkasan!N99/1000000000 -> 2262.305 | ... BL99: =Ringkasan!BL99/1000000000 -> 0 | BM99: =IF(RIGHT(E99,4)="2024",1,0) -> 1 | BN99: =IF(RIGHT(E99,4)="2025",1,0) -> 0 | BP99: =IF(G99>0,1,0) -> 1 | BR99: =Ringkasan!#REF!/1000000000 -> #REF! | BS99: =G99-BR99 -> #REF! | BT99: =IF(BS99=0,"Benar","Salah") -> #REF! | BV99: =Ringkasan!#REF!/1000000000 -> #REF! | BW99: =AC99-BV99 -> #REF! | BX99: =IF(BW99=0,"Benar","Salah") -> #REF!
A100: Kab. Indragiri Hilir | B100: =B99+1 -> 77 | C100: =C99+1 -> 2 | D100: Kab. Indragiri Hilir | E100: =[1]Pendapatan!D100 -> 07 Tahun 2024 | F100: =[1]Pendapatan!E100 -> 45636 | G100: =Ringkasan!G100/1000000000 -> 2049.3562 | H100: =Ringkasan!H100/1000000000 -> 283.19972 | I100: =Ringkasan!I100/1000000000 -> 83.19 | J100: =Ringkasan!J100/1000000000 -> 156.74469 | K100: =Ringkasan!K100/1000000000 -> 16.660734 | L100: =Ringkasan!L100/1000000000 -> 26.604299 | M100: =Ringkasan!M100/1000000000 -> 1766.1565 | N100: =Ringkasan!N100/1000000000 -> 1676.1161 | ... BL100: =Ringkasan!BL100/1000000000 -> 5.4931641e-13 | BM100: =IF(RIGHT(E100,4)="2024",1,0) -> 1 | BN100: =IF(RIGHT(E100,4)="2025",1,0) -> 0 | BP100: =IF(G100>0,1,0) -> 1 | BR100: =Ringkasan!#REF!/1000000000 -> #REF! | BS100: =G100-BR100 -> #REF! | BT100: =IF(BS100=0,"Benar","Salah") -> #REF! | BV100: =Ringkasan!#REF!/1000000000 -> #REF! | BW100: =AC100-BV100 -> #REF! | BX100: =IF(BW100=0,"Benar","Salah") -> #REF!
A101: Kab. Indragiri Hulu | B101: =B100+1 -> 78 | C101: =C100+1 -> 3 | D101: Kab. Indragiri Hulu | E101: =[1]Pendapatan!D101 -> 6 Tahun 2024 | F101: =[1]Pendapatan!E101 -> 45657.417 | G101: =Ringkasan!G101/1000000000 -> 1509.1545 | H101: =Ringkasan!H101/1000000000 -> 186.975 | I101: =Ringkasan!I101/1000000000 -> 124.82131 | J101: =Ringkasan!J101/1000000000 -> 3.7022125 | K101: =Ringkasan!K101/1000000000 -> 1.3064301 | L101: =Ringkasan!L101/1000000000 -> 57.14505 | M101: =Ringkasan!M101/1000000000 -> 1297.4751 | N101: =Ringkasan!N101/1000000000 -> 1218.8054 | ... BL101: =Ringkasan!BL101/1000000000 -> 0 | BM101: =IF(RIGHT(E101,4)="2024",1,0) -> 1 | BN101: =IF(RIGHT(E101,4)="2025",1,0) -> 0 | BP101: =IF(G101>0,1,0) -> 1 | BR101: =Ringkasan!#REF!/1000000000 -> #REF! | BS101: =G101-BR101 -> #REF! | BT101: =IF(BS101=0,"Benar","Salah") -> #REF! | BV101: =Ringkasan!#REF!/1000000000 -> #REF! | BW101: =AC101-BV101 -> #REF! | BX101: =IF(BW101=0,"Benar","Salah") -> #REF!
A102: Kab. Kampar | B102: =B101+1 -> 79 | C102: =C101+1 -> 4 | D102: Kab. Kampar | E102: =[1]Pendapatan!D102 -> 3 Tahun 2024 | F102: =[1]Pendapatan!E102 -> 45657.939 | G102: =Ringkasan!G102/1000000000 -> 3110.2341 | H102: =Ringkasan!H102/1000000000 -> 507.52172 | I102: =Ringkasan!I102/1000000000 -> 315.6921 | J102: =Ringkasan!J102/1000000000 -> 114.0158 | K102: =Ringkasan!K102/1000000000 -> 74.613819 | L102: =Ringkasan!L102/1000000000 -> 3.2 | M102: =Ringkasan!M102/1000000000 -> 2602.7124 | N102: =Ringkasan!N102/1000000000 -> 2479.7504 | ... BL102: =Ringkasan!BL102/1000000000 -> 9.765625e-13 | BM102: =IF(RIGHT(E102,4)="2024",1,0) -> 1 | BN102: =IF(RIGHT(E102,4)="2025",1,0) -> 0 | BP102: =IF(G102>0,1,0) -> 1 | BR102: =Ringkasan!#REF!/1000000000 -> #REF! | BS102: =G102-BR102 -> #REF! | BT102: =IF(BS102=0,"Benar","Salah") -> #REF! | BV102: =Ringkasan!#REF!/1000000000 -> #REF! | BW102: =AC102-BV102 -> #REF! | BX102: =IF(BW102=0,"Benar","Salah") -> #REF!
A103: Kab. Kepulauan Meranti | B103: =B102+1 -> 80 | C103: =C102+1 -> 5 | D103: Kab. Kep. Meranti | E103: =[1]Pendapatan!D103 -> 12 Tahun 2024 | F103: =[1]Pendapatan!E103 -> 45657 | G103: =Ringkasan!G103/1000000000 -> 1387.4576 | H103: =Ringkasan!H103/1000000000 -> 289.36956 | I103: =Ringkasan!I103/1000000000 -> 53.959625 | J103: =Ringkasan!J103/1000000000 -> 78.042907 | K103: =Ringkasan!K103/1000000000 -> 108.948 | L103: =Ringkasan!L103/1000000000 -> 48.419033 | M103: =Ringkasan!M103/1000000000 -> 1098.0881 | N103: =Ringkasan!N103/1000000000 -> 1010.653 | ... BL103: =Ringkasan!BL103/1000000000 -> 0 | BM103: =IF(RIGHT(E103,4)="2024",1,0) -> 1 | BN103: =IF(RIGHT(E103,4)="2025",1,0) -> 0 | BP103: =IF(G103>0,1,0) -> 1 | BR103: =Ringkasan!#REF!/1000000000 -> #REF! | BS103: =G103-BR103 -> #REF! | BT103: =IF(BS103=0,"Benar","Salah") -> #REF! | BV103: =Ringkasan!#REF!/1000000000 -> #REF! | BW103: =AC103-BV103 -> #REF! | BX103: =IF(BW103=0,"Benar","Salah") -> #REF!
A104: Kab. Kuantan Singingi | B104: =B103+1 -> 81 | C104: =C103+1 -> 6 | D104: Kab. Kuantan Singingi | E104: =[1]Pendapatan!D104 -> 08 Tahun 2024 | F104: =[1]Pendapatan!E104 -> 45657.312 | G104: =Ringkasan!G104/1000000000 -> 1698.9451 | H104: =Ringkasan!H104/1000000000 -> 240.28077 | I104: =Ringkasan!I104/1000000000 -> 117.67198 | J104: =Ringkasan!J104/1000000000 -> 14.592787 | K104: =Ringkasan!K104/1000000000 -> 7.240309 | L104: =Ringkasan!L104/1000000000 -> 100.77569 | M104: =Ringkasan!M104/1000000000 -> 1458.6643 | N104: =Ringkasan!N104/1000000000 -> 1289.0137 | ... BL104: =Ringkasan!BL104/1000000000 -> 1.0375977e-12 | BM104: =IF(RIGHT(E104,4)="2024",1,0) -> 1 | BN104: =IF(RIGHT(E104,4)="2025",1,0) -> 0 | BP104: =IF(G104>0,1,0) -> 1 | BR104: =Ringkasan!#REF!/1000000000 -> #REF! | BS104: =G104-BR104 -> #REF! | BT104: =IF(BS104=0,"Benar","Salah") -> #REF! | BV104: =Ringkasan!#REF!/1000000000 -> #REF! | BW104: =AC104-BV104 -> #REF! | BX104: =IF(BW104=0,"Benar","Salah") -> #REF!
A105: Kab. Pelalawan | B105: =B104+1 -> 82 | C105: =C104+1 -> 7 | D105: Kab. Pelalawan | E105: =[1]Pendapatan!D105 -> 7 Tahun 2024 | F105: =[1]Pendapatan!E105 -> 45657 | G105: =Ringkasan!G105/1000000000 -> 1894.6845 | H105: =Ringkasan!H105/1000000000 -> 378.99868 | I105: =Ringkasan!I105/1000000000 -> 256.031 | J105: =Ringkasan!J105/1000000000 -> 25.545 | K105: =Ringkasan!K105/1000000000 -> 29 | L105: =Ringkasan!L105/1000000000 -> 68.422681 | M105: =Ringkasan!M105/1000000000 -> 1515.6858 | N105: =Ringkasan!N105/1000000000 -> 1398.6545 | ... BL105: =Ringkasan!BL105/1000000000 -> 0 | BM105: =IF(RIGHT(E105,4)="2024",1,0) -> 1 | BN105: =IF(RIGHT(E105,4)="2025",1,0) -> 0 | BP105: =IF(G105>0,1,0) -> 1 | BR105: =Ringkasan!#REF!/1000000000 -> #REF! | BS105: =G105-BR105 -> #REF! | BT105: =IF(BS105=0,"Benar","Salah") -> #REF! | BV105: =Ringkasan!#REF!/1000000000 -> #REF! | BW105: =AC105-BV105 -> #REF! | BX105: =IF(BW105=0,"Benar","Salah") -> #REF!
A106: Kab. Rokan Hilir | B106: =B105+1 -> 83 | C106: =C105+1 -> 8 | D106: Kab. Rokan Hilir | E106: =[1]Pendapatan!D106 | F106: =[1]Pendapatan!E106 | G106: =Ringkasan!G106/1000000000 -> 0 | H106: =Ringkasan!H106/1000000000 -> 0 | I106: =Ringkasan!I106/1000000000 -> 0 | J106: =Ringkasan!J106/1000000000 -> 0 | K106: =Ringkasan!K106/1000000000 -> 0 | L106: =Ringkasan!L106/1000000000 -> 0 | M106: =Ringkasan!M106/1000000000 -> 0 | N106: =Ringkasan!N106/1000000000 -> 0 | ... BL106: =Ringkasan!BL106/1000000000 -> 0 | BM106: =IF(RIGHT(E106,4)="2024",1,0) -> 0 | BN106: =IF(RIGHT(E106,4)="2025",1,0) -> 0 | BP106: =IF(G106>0,1,0) -> 0 | BR106: =Ringkasan!#REF!/1000000000 -> #REF! | BS106: =G106-BR106 -> #REF! | BT106: =IF(BS106=0,"Benar","Salah") -> #REF! | BV106: =Ringkasan!#REF!/1000000000 -> #REF! | BW106: =AC106-BV106 -> #REF! | BX106: =IF(BW106=0,"Benar","Salah") -> #REF!
A107: Kab. Rokan Hulu | B107: =B106+1 -> 84 | C107: =C106+1 -> 9 | D107: Kab. Rokan Hulu | E107: =[1]Pendapatan!D107 -> 4 Tahun 2024 | F107: =[1]Pendapatan!E107 -> 45565 | G107: =Ringkasan!G107/1000000000 -> 1550.1523 | H107: =Ringkasan!H107/1000000000 -> 183.35138 | I107: =Ringkasan!I107/1000000000 -> 85.49313 | J107: =Ringkasan!J107/1000000000 -> 11.394247 | K107: =Ringkasan!K107/1000000000 -> 9.753 | L107: =Ringkasan!L107/1000000000 -> 76.711 | M107: =Ringkasan!M107/1000000000 -> 1366.8009 | N107: =Ringkasan!N107/1000000000 -> 1181.1151 | ... BL107: =Ringkasan!BL107/1000000000 -> 0 | BM107: =IF(RIGHT(E107,4)="2024",1,0) -> 1 | BN107: =IF(RIGHT(E107,4)="2025",1,0) -> 0 | BP107: =IF(G107>0,1,0) -> 1 | BR107: =Ringkasan!#REF!/1000000000 -> #REF! | BS107: =G107-BR107 -> #REF! | BT107: =IF(BS107=0,"Benar","Salah") -> #REF! | BV107: =Ringkasan!#REF!/1000000000 -> #REF! | BW107: =AC107-BV107 -> #REF! | BX107: =IF(BW107=0,"Benar","Salah") -> #REF!
A108: Kab. Siak | B108: =B107+1 -> 85 | C108: =C107+1 -> 10 | D108: Kab. Siak | E108: =[1]Pendapatan!D108 -> 05 Tahun 2024 | F108: =[1]Pendapatan!E108 -> 45657.809 | G108: =Ringkasan!G108/1000000000 -> 2952.7204 | H108: =Ringkasan!H108/1000000000 -> 531.63458 | I108: =Ringkasan!I108/1000000000 -> 227.43 | J108: =Ringkasan!J108/1000000000 -> 101.10846 | K108: =Ringkasan!K108/1000000000 -> 188.66872 | L108: =Ringkasan!L108/1000000000 -> 14.4274 | M108: =Ringkasan!M108/1000000000 -> 2421.0858 | N108: =Ringkasan!N108/1000000000 -> 2283.5858 | ... BL108: =Ringkasan!BL108/1000000000 -> 60.607783 | BM108: =IF(RIGHT(E108,4)="2024",1,0) -> 1 | BN108: =IF(RIGHT(E108,4)="2025",1,0) -> 0 | BP108: =IF(G108>0,1,0) -> 1 | BR108: =Ringkasan!#REF!/1000000000 -> #REF! | BS108: =G108-BR108 -> #REF! | BT108: =IF(BS108=0,"Benar","Salah") -> #REF! | BV108: =Ringkasan!#REF!/1000000000 -> #REF! | BW108: =AC108-BV108 -> #REF! | BX108: =IF(BW108=0,"Benar","Salah") -> #REF!
A109: Kota Dumai | B109: =B108+1 -> 86 | C109: =C108+1 -> 11 | D109: Kota Dumai | E109: =[1]Pendapatan!D109 -> 9 Tahun 2024 | F109: =[1]Pendapatan!E109 -> 45524.715 | G109: =Ringkasan!G109/1000000000 -> 1107.4416 | H109: =Ringkasan!H109/1000000000 -> 887.47736 | I109: =Ringkasan!I109/1000000000 -> 603.87567 | J109: =Ringkasan!J109/1000000000 -> 62.269865 | K109: =Ringkasan!K109/1000000000 -> 9.3247801 | L109: =Ringkasan!L109/1000000000 -> 212.00705 | M109: =Ringkasan!M109/1000000000 -> 219.96428 | N109: =Ringkasan!N109/1000000000 -> 14.8 | ... BL109: =Ringkasan!BL109/1000000000 -> -971.56093 | BM109: =IF(RIGHT(E109,4)="2024",1,0) -> 1 | BN109: =IF(RIGHT(E109,4)="2025",1,0) -> 0 | BP109: =IF(G109>0,1,0) -> 1 | BR109: =Ringkasan!#REF!/1000000000 -> #REF! | BS109: =G109-BR109 -> #REF! | BT109: =IF(BS109=0,"Benar","Salah") -> #REF! | BV109: =Ringkasan!#REF!/1000000000 -> #REF! | BW109: =AC109-BV109 -> #REF! | BX109: =IF(BW109=0,"Benar","Salah") -> #REF!
A110: Kota Pekanbaru | B110: =B109+1 -> 87 | C110: =C109+1 -> 12 | D110: Kota Pekanbaru | E110: =[1]Pendapatan!D110 -> 08 Tahun 2024 | F110: =[1]Pendapatan!E110 -> 45656.616 | G110: =Ringkasan!G110/1000000000 -> 3211.4742 | H110: =Ringkasan!H110/1000000000 -> 1327.4792 | I110: =Ringkasan!I110/1000000000 -> 1185.8121 | J110: =Ringkasan!J110/1000000000 -> 49.522865 | K110: =Ringkasan!K110/1000000000 -> 6.220099 | L110: =Ringkasan!L110/1000000000 -> 85.924137 | M110: =Ringkasan!M110/1000000000 -> 1883.995 | N110: =Ringkasan!N110/1000000000 -> 1728.4625 | ... BL110: =Ringkasan!BL110/1000000000 -> 0 | BM110: =IF(RIGHT(E110,4)="2024",1,0) -> 1 | BN110: =IF(RIGHT(E110,4)="2025",1,0) -> 0 | BP110: =IF(G110>0,1,0) -> 1 | BR110: =Ringkasan!#REF!/1000000000 -> #REF! | BS110: =G110-BR110 -> #REF! | BT110: =IF(BS110=0,"Benar","Salah") -> #REF! | BV110: =Ringkasan!#REF!/1000000000 -> #REF! | BW110: =AC110-BV110 -> #REF! | BX110: =IF(BW110=0,"Benar","Salah") -> #REF!
B111: Kab | C111: Kab | D111: Total Kabupaten | G111: =Ringkasan!G111/1000000000 -> 19369.969 | H111: =Ringkasan!H111/1000000000 -> 3384.2063 | I111: =Ringkasan!I111/1000000000 -> 1510.8216 | J111: =Ringkasan!J111/1000000000 -> 678.51165 | K111: =Ringkasan!K111/1000000000 -> 763.19101 | L111: =Ringkasan!L111/1000000000 -> 431.68196 | M111: =Ringkasan!M111/1000000000 -> 15961.059 | N111: =Ringkasan!N111/1000000000 -> 14799.999 | ... BL111: =Ringkasan!BL111/1000000000 -> 60.607783 | BM111: =SUM(BM99:BM108) -> 9 | BN111: =SUM(BN99:BN108) -> 0 | BR111: =Ringkasan!#REF!/1000000000 -> #REF! | BS111: =G111-BR111 -> #REF! | BT111: =IF(BS111=0,"Benar","Salah") -> #REF! | BV111: =Ringkasan!#REF!/1000000000 -> #REF! | BW111: =AC111-BV111 -> #REF! | BX111: =IF(BW111=0,"Benar","Salah") -> #REF!
B112: Kota | C112: Kota | D112: Total Kota | G112: =Ringkasan!G112/1000000000 -> 4318.9158 | H112: =Ringkasan!H112/1000000000 -> 2214.9565 | I112: =Ringkasan!I112/1000000000 -> 1789.6877 | J112: =Ringkasan!J112/1000000000 -> 111.79273 | K112: =Ringkasan!K112/1000000000 -> 15.544879 | L112: =Ringkasan!L112/1000000000 -> 297.93118 | M112: =Ringkasan!M112/1000000000 -> 2103.9593 | N112: =Ringkasan!N112/1000000000 -> 1743.2625 | ... BL112: =Ringkasan!BL112/1000000000 -> -971.56093 | BM112: =SUM(BM109:BM110) -> 2 | BN112: =SUM(BN109:BN110) -> 0 | BR112: =Ringkasan!#REF!/1000000000 -> #REF! | BS112: =G112-BR112 -> #REF! | BT112: =IF(BS112=0,"Benar","Salah") -> #REF! | BV112: =Ringkasan!#REF!/1000000000 -> #REF! | BW112: =AC112-BV112 -> #REF! | BX112: =IF(BW112=0,"Benar","Salah") -> #REF!
B113: KK | C113: KK | D113: Total Kabupaten/Kota Se-Riau | G113: =Ringkasan!G113/1000000000 -> 23688.885 | H113: =Ringkasan!H113/1000000000 -> 5599.1628 | I113: =Ringkasan!I113/1000000000 -> 3300.5094 | J113: =Ringkasan!J113/1000000000 -> 790.30438 | K113: =Ringkasan!K113/1000000000 -> 778.73589 | L113: =Ringkasan!L113/1000000000 -> 729.61314 | M113: =Ringkasan!M113/1000000000 -> 18065.018 | N113: =Ringkasan!N113/1000000000 -> 16543.261 | ... BL113: =Ringkasan!BL113/1000000000 -> -910.95315 | BM113: =BM111+BM112 -> 11 | BN113: =BN111+BN112 -> 0 | BR113: =Ringkasan!#REF!/1000000000 -> #REF! | BS113: =G113-BR113 -> #REF! | BT113: =IF(BS113=0,"Benar","Salah") -> #REF! | BV113: =Ringkasan!#REF!/1000000000 -> #REF! | BW113: =AC113-BV113 -> #REF! | BX113: =IF(BW113=0,"Benar","Salah") -> #REF!
B114: N | C114: N | D114: Total Provinsi/Kab/Kota Se-Riau | G114: =Ringkasan!G114/1000000000 -> 33252.594 | H114: =Ringkasan!H114/1000000000 -> 10783.113 | I114: =Ringkasan!I114/1000000000 -> 7025.639 | J114: =Ringkasan!J114/1000000000 -> 805.31249 | K114: =Ringkasan!K114/1000000000 -> 1593.8629 | L114: =Ringkasan!L114/1000000000 -> 1358.2988 | M114: =Ringkasan!M114/1000000000 -> 22435.699 | N114: =Ringkasan!N114/1000000000 -> 20913.942 | ... BL114: =Ringkasan!BL114/1000000000 -> -910.95315 | BM114: =BM113+BM98 -> 11 | BN114: =BN113+BN98 -> 1 | BR114: =Ringkasan!#REF!/1000000000 -> #REF! | BS114: =G114-BR114 -> #REF! | BT114: =IF(BS114=0,"Benar","Salah") -> #REF! | BV114: =Ringkasan!#REF!/1000000000 -> #REF! | BW114: =AC114-BV114 -> #REF! | BX114: =IF(BW114=0,"Benar","Salah") -> #REF!
A115: Provinsi Kepulauan Riau | B115: V | C115: 5 | D115: Prov. Kepulauan Riau | E115: =[1]Pendapatan!D115 -> 10 Tahun 2024 | F115: =[1]Pendapatan!E115 -> 45657 | G115: =Ringkasan!G115/1000000000 -> 3918.4023 | H115: =Ringkasan!H115/1000000000 -> 1760.0119 | I115: =Ringkasan!I115/1000000000 -> 1583.7837 | J115: =Ringkasan!J115/1000000000 -> 132.12269 | K115: =Ringkasan!K115/1000000000 -> 2.65 | L115: =Ringkasan!L115/1000000000 -> 41.455486 | M115: =Ringkasan!M115/1000000000 -> 2157.0663 | N115: =Ringkasan!N115/1000000000 -> 2157.0663 | ... BL115: =Ringkasan!BL115/1000000000 -> 1.953125e-12 | BM115: =IF(RIGHT(E115,4)="2024",1,0) -> 1 | BN115: =IF(RIGHT(E115,4)="2025",1,0) -> 0 | BP115: =IF(G115>0,1,0) -> 1 | BR115: =Ringkasan!#REF!/1000000000 -> #REF! | BS115: =G115-BR115 -> #REF! | BT115: =IF(BS115=0,"Benar","Salah") -> #REF! | BV115: =Ringkasan!#REF!/1000000000 -> #REF! | BW115: =AC115-BV115 -> #REF! | BX115: =IF(BW115=0,"Benar","Salah") -> #REF!
A116: Kab. Bintan | B116: =B110+1 -> 88 | C116: 1 | D116: Kab. Bintan | E116: =[1]Pendapatan!D116 -> 7 Tahun 2024 | F116: =[1]Pendapatan!E116 -> 45657 | G116: =Ringkasan!G116/1000000000 -> 1311.8668 | H116: =Ringkasan!H116/1000000000 -> 361.63481 | I116: =Ringkasan!I116/1000000000 -> 299.61935 | J116: =Ringkasan!J116/1000000000 -> 47.248027 | K116: =Ringkasan!K116/1000000000 -> 9.2 | L116: =Ringkasan!L116/1000000000 -> 5.5674341 | M116: =Ringkasan!M116/1000000000 -> 946.1691 | N116: =Ringkasan!N116/1000000000 -> 907.78724 | ... BL116: =Ringkasan!BL116/1000000000 -> 2.4414063e-13 | BM116: =IF(RIGHT(E116,4)="2024",1,0) -> 1 | BN116: =IF(RIGHT(E116,4)="2025",1,0) -> 0 | BP116: =IF(G116>0,1,0) -> 1 | BR116: =Ringkasan!#REF!/1000000000 -> #REF! | BS116: =G116-BR116 -> #REF! | BT116: =IF(BS116=0,"Benar","Salah") -> #REF! | BV116: =Ringkasan!#REF!/1000000000 -> #REF! | BW116: =AC116-BV116 -> #REF! | BX116: =IF(BW116=0,"Benar","Salah") -> #REF!
A117: Kab. Karimun | B117: =B116+1 -> 89 | C117: =C116+1 -> 2 | D117: Kab. Karimun | E117: =[1]Pendapatan!D117 -> 05 Tahun 2024 | F117: =[1]Pendapatan!E117 -> 45657 | G117: =Ringkasan!G117/1000000000 -> 1325.0278 | H117: =Ringkasan!H117/1000000000 -> 409.98237 | I117: =Ringkasan!I117/1000000000 -> 305.14082 | J117: =Ringkasan!J117/1000000000 -> 99.851049 | K117: =Ringkasan!K117/1000000000 -> 3.09 | L117: =Ringkasan!L117/1000000000 -> 1.9005 | M117: =Ringkasan!M117/1000000000 -> 915.04548 | N117: =Ringkasan!N117/1000000000 -> 830.62946 | ... BL117: =Ringkasan!BL117/1000000000 -> 1.2207031e-12 | BM117: =IF(RIGHT(E117,4)="2024",1,0) -> 1 | BN117: =IF(RIGHT(E117,4)="2025",1,0) -> 0 | BP117: =IF(G117>0,1,0) -> 1 | BR117: =Ringkasan!#REF!/1000000000 -> #REF! | BS117: =G117-BR117 -> #REF! | BT117: =IF(BS117=0,"Benar","Salah") -> #REF! | BV117: =Ringkasan!#REF!/1000000000 -> #REF! | BW117: =AC117-BV117 -> #REF! | BX117: =IF(BW117=0,"Benar","Salah") -> #REF!
A118: Kab. Kepulauan Anambas | B118: =B117+1 -> 90 | C118: =C117+1 -> 3 | D118: Kab. Kep. Anambas | E118: =[1]Pendapatan!D118 -> 06 Tahun 2024 | F118: =[1]Pendapatan!E118 -> 45657.999 | G118: =Ringkasan!G118/1000000000 -> 882.48096 | H118: =Ringkasan!H118/1000000000 -> 53.491122 | I118: =Ringkasan!I118/1000000000 -> 25.122016 | J118: =Ringkasan!J118/1000000000 -> 6.82436 | K118: =Ringkasan!K118/1000000000 -> 1.5 | L118: =Ringkasan!L118/1000000000 -> 20.044747 | M118: =Ringkasan!M118/1000000000 -> 828.82094 | N118: =Ringkasan!N118/1000000000 -> 786.21238 | ... BL118: =Ringkasan!BL118/1000000000 -> 0 | BM118: =IF(RIGHT(E118,4)="2024",1,0) -> 1 | BN118: =IF(RIGHT(E118,4)="2025",1,0) -> 0 | BP118: =IF(G118>0,1,0) -> 1 | BR118: =Ringkasan!#REF!/1000000000 -> #REF! | BS118: =G118-BR118 -> #REF! | BT118: =IF(BS118=0,"Benar","Salah") -> #REF! | BV118: =Ringkasan!#REF!/1000000000 -> #REF! | BW118: =AC118-BV118 -> #REF! | BX118: =IF(BW118=0,"Benar","Salah") -> #REF!
A119: Kab. Lingga | B119: =B118+1 -> 91 | C119: =C118+1 -> 4 | D119: Kab. Lingga | E119: =[1]Pendapatan!D119 -> 7 Tahun 2024 | F119: =[1]Pendapatan!E119 -> 45657.375 | G119: =Ringkasan!G119/1000000000 -> 1003.2097 | H119: =Ringkasan!H119/1000000000 -> 184.96815 | I119: =Ringkasan!I119/1000000000 -> 163.0622 | J119: =Ringkasan!J119/1000000000 -> 15.730948 | K119: =Ringkasan!K119/1000000000 -> 1.45 | L119: =Ringkasan!L119/1000000000 -> 4.725 | M119: =Ringkasan!M119/1000000000 -> 811.80531 | N119: =Ringkasan!N119/1000000000 -> 776.03166 | ... BL119: =Ringkasan!BL119/1000000000 -> 0 | BM119: =IF(RIGHT(E119,4)="2024",1,0) -> 1 | BN119: =IF(RIGHT(E119,4)="2025",1,0) -> 0 | BP119: =IF(G119>0,1,0) -> 1 | BR119: =Ringkasan!#REF!/1000000000 -> #REF! | BS119: =G119-BR119 -> #REF! | BT119: =IF(BS119=0,"Benar","Salah") -> #REF! | BV119: =Ringkasan!#REF!/1000000000 -> #REF! | BW119: =AC119-BV119 -> #REF! | BX119: =IF(BW119=0,"Benar","Salah") -> #REF!
A120: Kab. Natuna | B120: =B119+1 -> 92 | C120: =C119+1 -> 5 | D120: Kab. Natuna | E120: =[1]Pendapatan!D120 -> 04 Tahun 2024 | F120: =[1]Pendapatan!E120 -> 45656.922 | G120: =Ringkasan!G120/1000000000 -> 1180 | H120: =Ringkasan!H120/1000000000 -> 128.85864 | I120: =Ringkasan!I120/1000000000 -> 90.76475 | J120: =Ringkasan!J120/1000000000 -> 1.77966 | K120: =Ringkasan!K120/1000000000 -> 8 | L120: =Ringkasan!L120/1000000000 -> 28.314226 | M120: =Ringkasan!M120/1000000000 -> 1043.4149 | N120: =Ringkasan!N120/1000000000 -> 990.12158 | ... BL120: =Ringkasan!BL120/1000000000 -> 0 | BM120: =IF(RIGHT(E120,4)="2024",1,0) -> 1 | BN120: =IF(RIGHT(E120,4)="2025",1,0) -> 0 | BP120: =IF(G120>0,1,0) -> 1 | BR120: =Ringkasan!#REF!/1000000000 -> #REF! | BS120: =G120-BR120 -> #REF! | BT120: =IF(BS120=0,"Benar","Salah") -> #REF! | BV120: =Ringkasan!#REF!/1000000000 -> #REF! | BW120: =AC120-BV120 -> #REF! | BX120: =IF(BW120=0,"Benar","Salah") -> #REF!
A121: Kota Batam | B121: =B120+1 -> 93 | C121: =C120+1 -> 6 | D121: Kota Batam | E121: =[1]Pendapatan!D121 -> 7 Tahun 2024 | F121: =[1]Pendapatan!E121 -> 45653.881 | G121: =Ringkasan!G121/1000000000 -> 3964.6663 | H121: =Ringkasan!H121/1000000000 -> 2129.3267 | I121: =Ringkasan!I121/1000000000 -> 1734.6887 | J121: =Ringkasan!J121/1000000000 -> 227.00858 | K121: =Ringkasan!K121/1000000000 -> 11 | L121: =Ringkasan!L121/1000000000 -> 156.62941 | M121: =Ringkasan!M121/1000000000 -> 1835.3395 | N121: =Ringkasan!N121/1000000000 -> 1608.1428 | ... BL121: =Ringkasan!BL121/1000000000 -> 0 | BM121: =IF(RIGHT(E121,4)="2024",1,0) -> 1 | BN121: =IF(RIGHT(E121,4)="2025",1,0) -> 0 | BP121: =IF(G121>0,1,0) -> 1 | BR121: =Ringkasan!#REF!/1000000000 -> #REF! | BS121: =G121-BR121 -> #REF! | BT121: =IF(BS121=0,"Benar","Salah") -> #REF! | BV121: =Ringkasan!#REF!/1000000000 -> #REF! | BW121: =AC121-BV121 -> #REF! | BX121: =IF(BW121=0,"Benar","Salah") -> #REF!
A122: Kota Tanjung Pinang | B122: =B121+1 -> 94 | C122: =C121+1 -> 7 | D122: Kota Tanjung Pinang | E122: =[1]Pendapatan!D122 -> 12 Tahun 2024 | F122: =[1]Pendapatan!E122 -> 45657.483 | G122: =Ringkasan!G122/1000000000 -> 1020.7574 | H122: =Ringkasan!H122/1000000000 -> 229.16348 | I122: =Ringkasan!I122/1000000000 -> 152.86519 | J122: =Ringkasan!J122/1000000000 -> 72.470743 | K122: =Ringkasan!K122/1000000000 -> 1.7128459 | L122: =Ringkasan!L122/1000000000 -> 2.1146943 | M122: =Ringkasan!M122/1000000000 -> 779.45996 | N122: =Ringkasan!N122/1000000000 -> 719.96758 | ... BL122: =Ringkasan!BL122/1000000000 -> 2.4414063e-13 | BM122: =IF(RIGHT(E122,4)="2024",1,0) -> 1 | BN122: =IF(RIGHT(E122,4)="2025",1,0) -> 0 | BP122: =IF(G122>0,1,0) -> 1 | BR122: =Ringkasan!#REF!/1000000000 -> #REF! | BS122: =G122-BR122 -> #REF! | BT122: =IF(BS122=0,"Benar","Salah") -> #REF! | BV122: =Ringkasan!#REF!/1000000000 -> #REF! | BW122: =AC122-BV122 -> #REF! | BX122: =IF(BW122=0,"Benar","Salah") -> #REF!
B123: Kab | C123: Kab | D123: Total Kabupaten | G123: =Ringkasan!G123/1000000000 -> 5702.5853 | H123: =Ringkasan!H123/1000000000 -> 1138.9351 | I123: =Ringkasan!I123/1000000000 -> 883.70914 | J123: =Ringkasan!J123/1000000000 -> 171.43404 | K123: =Ringkasan!K123/1000000000 -> 23.24 | L123: =Ringkasan!L123/1000000000 -> 60.551907 | M123: =Ringkasan!M123/1000000000 -> 4545.2558 | N123: =Ringkasan!N123/1000000000 -> 4290.7823 | ... BL123: =Ringkasan!BL123/1000000000 -> 1.4648437e-12 | BM123: =SUM(BM116:BM120) -> 5 | BN123: =SUM(BN116:BN120) -> 0 | BR123: =Ringkasan!#REF!/1000000000 -> #REF! | BS123: =G123-BR123 -> #REF! | BT123: =IF(BS123=0,"Benar","Salah") -> #REF! | BV123: =Ringkasan!#REF!/1000000000 -> #REF! | BW123: =AC123-BV123 -> #REF! | BX123: =IF(BW123=0,"Benar","Salah") -> #REF!
B124: Kota | C124: Kota | D124: Total Kota | G124: =Ringkasan!G124/1000000000 -> 4985.4237 | H124: =Ringkasan!H124/1000000000 -> 2358.4902 | I124: =Ringkasan!I124/1000000000 -> 1887.5539 | J124: =Ringkasan!J124/1000000000 -> 299.47933 | K124: =Ringkasan!K124/1000000000 -> 12.712846 | L124: =Ringkasan!L124/1000000000 -> 158.74411 | M124: =Ringkasan!M124/1000000000 -> 2614.7995 | N124: =Ringkasan!N124/1000000000 -> 2328.1103 | ... BL124: =Ringkasan!BL124/1000000000 -> 2.4414063e-13 | BM124: =SUM(BM121:BM122) -> 2 | BN124: =SUM(BN121:BN122) -> 0 | BR124: =Ringkasan!#REF!/1000000000 -> #REF! | BS124: =G124-BR124 -> #REF! | BT124: =IF(BS124=0,"Benar","Salah") -> #REF! | BV124: =Ringkasan!#REF!/1000000000 -> #REF! | BW124: =AC124-BV124 -> #REF! | BX124: =IF(BW124=0,"Benar","Salah") -> #REF!
B125: KK | C125: KK | D125: Total Kabupaten/Kota Se-Kepri | G125: =Ringkasan!G125/1000000000 -> 10688.009 | H125: =Ringkasan!H125/1000000000 -> 3497.4253 | I125: =Ringkasan!I125/1000000000 -> 2771.2631 | J125: =Ringkasan!J125/1000000000 -> 470.91337 | K125: =Ringkasan!K125/1000000000 -> 35.952846 | L125: =Ringkasan!L125/1000000000 -> 219.29601 | M125: =Ringkasan!M125/1000000000 -> 7160.0553 | N125: =Ringkasan!N125/1000000000 -> 6618.8927 | ... BL125: =Ringkasan!BL125/1000000000 -> 1.7089844e-12 | BM125: =BM123+BM124 -> 7 | BN125: =BN123+BN124 -> 0 | BR125: =Ringkasan!#REF!/1000000000 -> #REF! | BS125: =G125-BR125 -> #REF! | BT125: =IF(BS125=0,"Benar","Salah") -> #REF! | BV125: =Ringkasan!#REF!/1000000000 -> #REF! | BW125: =AC125-BV125 -> #REF! | BX125: =IF(BW125=0,"Benar","Salah") -> #REF!
B126: N | C126: N | D126: Total Provinsi/Kab/Kota Se-Kepri | G126: =Ringkasan!G126/1000000000 -> 14606.411 | H126: =Ringkasan!H126/1000000000 -> 5257.4372 | I126: =Ringkasan!I126/1000000000 -> 4355.0468 | J126: =Ringkasan!J126/1000000000 -> 603.03606 | K126: =Ringkasan!K126/1000000000 -> 38.602846 | L126: =Ringkasan!L126/1000000000 -> 260.7515 | M126: =Ringkasan!M126/1000000000 -> 9317.1215 | N126: =Ringkasan!N126/1000000000 -> 8775.9589 | ... BL126: =Ringkasan!BL126/1000000000 -> 3.6621094e-12 | BM126: =BM125+BM115 -> 8 | BN126: =BN125+BN115 -> 0 | BR126: =Ringkasan!#REF!/1000000000 -> #REF! | BS126: =G126-BR126 -> #REF! | BT126: =IF(BS126=0,"Benar","Salah") -> #REF! | BV126: =Ringkasan!#REF!/1000000000 -> #REF! | BW126: =AC126-BV126 -> #REF! | BX126: =IF(BW126=0,"Benar","Salah") -> #REF!
A127: Provinsi Jambi | B127: VI | C127: 6 | D127: Prov. Jambi | E127: =[1]Pendapatan!D127 -> 1 Tahun 2025 | F127: =[1]Pendapatan!E127 -> 45667.334 | G127: =Ringkasan!G127/1000000000 -> 4575.8706 | H127: =Ringkasan!H127/1000000000 -> 2074.5039 | I127: =Ringkasan!I127/1000000000 -> 1707.1815 | J127: =Ringkasan!J127/1000000000 -> 206.11763 | K127: =Ringkasan!K127/1000000000 -> 125.35986 | L127: =Ringkasan!L127/1000000000 -> 35.844917 | M127: =Ringkasan!M127/1000000000 -> 2485.0233 | N127: =Ringkasan!N127/1000000000 -> 2485.0233 | ... BL127: =Ringkasan!BL127/1000000000 -> 9.765625e-13 | BM127: =IF(RIGHT(E127,4)="2024",1,0) -> 0 | BN127: =IF(RIGHT(E127,4)="2025",1,0) -> 1 | BP127: =IF(G127>0,1,0) -> 1 | BR127: =Ringkasan!#REF!/1000000000 -> #REF! | BS127: =G127-BR127 -> #REF! | BT127: =IF(BS127=0,"Benar","Salah") -> #REF! | BV127: =Ringkasan!#REF!/1000000000 -> #REF! | BW127: =AC127-BV127 -> #REF! | BX127: =IF(BW127=0,"Benar","Salah") -> #REF!
A128: Kab. Batanghari | B128: =B122+1 -> 95 | C128: 1 | D128: Kab. Batanghari | E128: =[1]Pendapatan!D128 -> 01 Tahun 2025 | F128: =[1]Pendapatan!E128 -> 45660 | G128: =Ringkasan!G128/1000000000 -> 1500.5524 | H128: =Ringkasan!H128/1000000000 -> 180.03737 | I128: =Ringkasan!I128/1000000000 -> 102.01694 | J128: =Ringkasan!J128/1000000000 -> 43.61043 | K128: =Ringkasan!K128/1000000000 -> 13 | L128: =Ringkasan!L128/1000000000 -> 21.41 | M128: =Ringkasan!M128/1000000000 -> 1320.515 | N128: =Ringkasan!N128/1000000000 -> 1271.1737 | ... BL128: =Ringkasan!BL128/1000000000 -> 51.814327 | BM128: =IF(RIGHT(E128,4)="2024",1,0) -> 0 | BN128: =IF(RIGHT(E128,4)="2025",1,0) -> 1 | BP128: =IF(G128>0,1,0) -> 1 | BR128: =Ringkasan!#REF!/1000000000 -> #REF! | BS128: =G128-BR128 -> #REF! | BT128: =IF(BS128=0,"Benar","Salah") -> #REF! | BV128: =Ringkasan!#REF!/1000000000 -> #REF! | BW128: =AC128-BV128 -> #REF! | BX128: =IF(BW128=0,"Benar","Salah") -> #REF!
A129: Kab. Bungo | B129: =B128+1 -> 96 | C129: =C128+1 -> 2 | D129: Kab. Bungo | E129: =[1]Pendapatan!D129 -> 10 Tahun 2024 | F129: =[1]Pendapatan!E129 -> 45656 | G129: =Ringkasan!G129/1000000000 -> 1272.4576 | H129: =Ringkasan!H129/1000000000 -> 230.85706 | I129: =Ringkasan!I129/1000000000 -> 103.465 | J129: =Ringkasan!J129/1000000000 -> 111.13143 | K129: =Ringkasan!K129/1000000000 -> 10.939662 | L129: =Ringkasan!L129/1000000000 -> 5.3209725 | M129: =Ringkasan!M129/1000000000 -> 1035.9905 | N129: =Ringkasan!N129/1000000000 -> 963.3688 | ... BL129: =Ringkasan!BL129/1000000000 -> 2.4414063e-13 | BM129: =IF(RIGHT(E129,4)="2024",1,0) -> 1 | BN129: =IF(RIGHT(E129,4)="2025",1,0) -> 0 | BP129: =IF(G129>0,1,0) -> 1 | BR129: =Ringkasan!#REF!/1000000000 -> #REF! | BS129: =G129-BR129 -> #REF! | BT129: =IF(BS129=0,"Benar","Salah") -> #REF! | BV129: =Ringkasan!#REF!/1000000000 -> #REF! | BW129: =AC129-BV129 -> #REF! | BX129: =IF(BW129=0,"Benar","Salah") -> #REF!
A130: Kab. Kerinci | B130: =B129+1 -> 97 | C130: =C129+1 -> 3 | D130: Kab. Kerinci | E130: =[1]Pendapatan!D130 -> 11 Tahun 2024 | F130: =[1]Pendapatan!E130 -> 45656.658 | G130: =Ringkasan!G130/1000000000 -> 1252.4421 | H130: =Ringkasan!H130/1000000000 -> 58.408023 | I130: =Ringkasan!I130/1000000000 -> 35.585699 | J130: =Ringkasan!J130/1000000000 -> 4.5944 | K130: =Ringkasan!K130/1000000000 -> 10.027923 | L130: =Ringkasan!L130/1000000000 -> 8.2 | M130: =Ringkasan!M130/1000000000 -> 1183.6493 | N130: =Ringkasan!N130/1000000000 -> 1112.925 | ... BL130: =Ringkasan!BL130/1000000000 -> 0 | BM130: =IF(RIGHT(E130,4)="2024",1,0) -> 1 | BN130: =IF(RIGHT(E130,4)="2025",1,0) -> 0 | BP130: =IF(G130>0,1,0) -> 1 | BR130: =Ringkasan!#REF!/1000000000 -> #REF! | BS130: =G130-BR130 -> #REF! | BT130: =IF(BS130=0,"Benar","Salah") -> #REF! | BV130: =Ringkasan!#REF!/1000000000 -> #REF! | BW130: =AC130-BV130 -> #REF! | BX130: =IF(BW130=0,"Benar","Salah") -> #REF!
A131: Kab. Merangin | B131: =B130+1 -> 98 | C131: =C130+1 -> 4 | D131: Kab. Merangin | E131: =[1]Pendapatan!D131 -> 10 Tahun 2024 | F131: =[1]Pendapatan!E131 -> 45657.881 | G131: =Ringkasan!G131/1000000000 -> 1522.5921 | H131: =Ringkasan!H131/1000000000 -> 131.32766 | I131: =Ringkasan!I131/1000000000 -> 65.98 | J131: =Ringkasan!J131/1000000000 -> 54.905157 | K131: =Ringkasan!K131/1000000000 -> 7.77784 | L131: =Ringkasan!L131/1000000000 -> 2.66466 | M131: =Ringkasan!M131/1000000000 -> 1374.7888 | N131: =Ringkasan!N131/1000000000 -> 1295.5833 | ... BL131: =Ringkasan!BL131/1000000000 -> 0 | BM131: =IF(RIGHT(E131,4)="2024",1,0) -> 1 | BN131: =IF(RIGHT(E131,4)="2025",1,0) -> 0 | BP131: =IF(G131>0,1,0) -> 1 | BR131: =Ringkasan!#REF!/1000000000 -> #REF! | BS131: =G131-BR131 -> #REF! | BT131: =IF(BS131=0,"Benar","Salah") -> #REF! | BV131: =Ringkasan!#REF!/1000000000 -> #REF! | BW131: =AC131-BV131 -> #REF! | BX131: =IF(BW131=0,"Benar","Salah") -> #REF!
A132: Kab. Muaro Jambi | B132: =B131+1 -> 99 | C132: =C131+1 -> 5 | D132: Kab. Muaro Jambi | E132: =[1]Pendapatan!D132 -> 04 Tahun 2024 | F132: =[1]Pendapatan!E132 -> 45657 | G132: =Ringkasan!G132/1000000000 -> 1646.2329 | H132: =Ringkasan!H132/1000000000 -> 179.49026 | I132: =Ringkasan!I132/1000000000 -> 133.64215 | J132: =Ringkasan!J132/1000000000 -> 18.461353 | K132: =Ringkasan!K132/1000000000 -> 6.7658798 | L132: =Ringkasan!L132/1000000000 -> 20.620875 | M132: =Ringkasan!M132/1000000000 -> 1466.7426 | N132: =Ringkasan!N132/1000000000 -> 1393.952 | ... BL132: =Ringkasan!BL132/1000000000 -> 0 | BM132: =IF(RIGHT(E132,4)="2024",1,0) -> 1 | BN132: =IF(RIGHT(E132,4)="2025",1,0) -> 0 | BP132: =IF(G132>0,1,0) -> 1 | BR132: =Ringkasan!#REF!/1000000000 -> #REF! | BS132: =G132-BR132 -> #REF! | BT132: =IF(BS132=0,"Benar","Salah") -> #REF! | BV132: =Ringkasan!#REF!/1000000000 -> #REF! | BW132: =AC132-BV132 -> #REF! | BX132: =IF(BW132=0,"Benar","Salah") -> #REF!
A133: Kab. Sarolangun | B133: =B132+1 -> 100 | C133: =C132+1 -> 6 | D133: Kab. Sarolangun | E133: =[1]Pendapatan!D133 -> 1 Tahun 2025 | F133: =[1]Pendapatan!E133 -> 45667.5 | G133: =Ringkasan!G133/1000000000 -> 1361.395 | H133: =Ringkasan!H133/1000000000 -> 116.83145 | I133: =Ringkasan!I133/1000000000 -> 58.534201 | J133: =Ringkasan!J133/1000000000 -> 4.2702798 | K133: =Ringkasan!K133/1000000000 -> 8.8 | L133: =Ringkasan!L133/1000000000 -> 45.226971 | M133: =Ringkasan!M133/1000000000 -> 1244.5635 | N133: =Ringkasan!N133/1000000000 -> 1181.8377 | ... BL133: =Ringkasan!BL133/1000000000 -> 0 | BM133: =IF(RIGHT(E133,4)="2024",1,0) -> 0 | BN133: =IF(RIGHT(E133,4)="2025",1,0) -> 1 | BP133: =IF(G133>0,1,0) -> 1 | BR133: =Ringkasan!#REF!/1000000000 -> #REF! | BS133: =G133-BR133 -> #REF! | BT133: =IF(BS133=0,"Benar","Salah") -> #REF! | BV133: =Ringkasan!#REF!/1000000000 -> #REF! | BW133: =AC133-BV133 -> #REF! | BX133: =IF(BW133=0,"Benar","Salah") -> #REF!
A134: Kab. Tanjung Jabung Barat | B134: =B133+1 -> 101 | C134: =C133+1 -> 7 | D134: Kab. Tanjung Jabung Barat | E134: =[1]Pendapatan!D134 -> 10 TAHUN 2024 | F134: =[1]Pendapatan!E134 -> 45644 | G134: =Ringkasan!G134/1000000000 -> 1938.8349 | H134: =Ringkasan!H134/1000000000 -> 150.83148 | I134: =Ringkasan!I134/1000000000 -> 62.718078 | J134: =Ringkasan!J134/1000000000 -> 2.5995 | K134: =Ringkasan!K134/1000000000 -> 13.213 | L134: =Ringkasan!L134/1000000000 -> 72.300903 | M134: =Ringkasan!M134/1000000000 -> 1788.0034 | N134: =Ringkasan!N134/1000000000 -> 1714.7524 | ... BL134: =Ringkasan!BL134/1000000000 -> 0 | BM134: =IF(RIGHT(E134,4)="2024",1,0) -> 1 | BN134: =IF(RIGHT(E134,4)="2025",1,0) -> 0 | BP134: =IF(G134>0,1,0) -> 1 | BR134: =Ringkasan!#REF!/1000000000 -> #REF! | BS134: =G134-BR134 -> #REF! | BT134: =IF(BS134=0,"Benar","Salah") -> #REF! | BV134: =Ringkasan!#REF!/1000000000 -> #REF! | BW134: =AC134-BV134 -> #REF! | BX134: =IF(BW134=0,"Benar","Salah") -> #REF!
...

Sheet Ringkasan (Rasio)
D1: RINGKASAN APBD
D2: PROVINSI, KABUPATEN DAN KOTA SELURUH INDONESIA TAHUN ANGGARAN 2025 | AE2: =UPPER(AE4) -> BELANJA PEGAWAI | BD2: PENGELUARAN PEMBIAYAAN | BF2: =UPPER(BF4) -> PENYERTAAN MODAL DAERAH
B4: NO | D4: DAERAH | E4: NOMOR PERDA | F4: TANGGAL PERDA | G4: Pendapatan | H4: PENDAPATAN ASLI DAERAH (PAD) | I4: Pajak Daerah | J4: Retribusi Daerah | K4: Hasil Pengelolaan Kekayaan Daerah yang Dipisahkan | L4: Lain-lain PAD yang Sah | M4: PENDAPATAN TRANSFER | N4: Pendapatan Transfer Pemerintah Pusat | O4: Dana Otonomi Khusus dan Dana Tambahann Infrastruktur | P4: Dana Keistimewaan | Q4: Dana Desa | R4: Insentif Fiskal | S4: Dana Bagi Hasil (DBH) | T4: Dana Alokasi Umum (DAU) | U4: Dana Alokasi Khusus (DAK) | V4: Pendapatan Transfer Antar Daerah | W4: Pendapatan Bagi Hasil | X4: Bantuan Keuangan | Y4: LAIN-LAIN PENDAPATAN DAERAH YANG SAH | Z4: HIBAH | AA4: Dana Darurat | AB4: Lain-lain Pendapatan Sesuai dengan Ketentuan Peraturan Perundang-Undangan | AC4: BELANJA DAERAH | AD4: BELANJA OPERASI | AE4: Belanja Pegawai | AF4: Belanja Barang dan Jasa | AG4: Belanja Bunga | AH4: Belanja Subsidi | AI4: Belanja Hibah | AJ4: Belanja Bantuan Sosial | AK4: BELANJA MODAL | AL4: Belanja Modal Tanah | AM4: Belanja Modal Peralatan dan Mesin | AN4: Belanja Modal Gedung dan Bangunan | AO4: Belanja Modal Jalan, Jaringan, dan Irigasi | AP4: Belanja Modal Aset Tetap Lainnya | AQ4: Belanja Modal Aset Lainnya | AR4: BELANJA TIDAK TERDUGA | AS4: Belanja Tidak Terduga | AT4: BELANJA TRANSFER | AU4: Belanja Bagi Hasil | AV4: Belanja Bantuan Keuangan | AW4: PENERIMAAN PEMBIAYAAN | AX4: Sisa Lebih Perhitungan Anggaran Tahun Sebelumnya | AY4: Pencairan Dana Cadangan | AZ4: Hasil Penjualan Kekayaan Daerah yang Dipisahkan | BA4: Penerimaan Pinjaman Daerah | BB4: Penerimaan Kembali Pemberian Pinjaman Daerah | BC4: Penerimaan Pembiayaan Lainnya Sesuai dengan Ketentuan Peraturan Perundang-Undangan | BD4: PENGELUARAN PEMBIAYAAN | BE4: Pembentukan Dana Cadangan | BF4: Penyertaan Modal Daerah | BG4: Pembayaran Cicilan Pokok Utang yang Jatuh Tempo | BH4: Pemberian Pinjaman Daerah | BI4: Pengeluaran Pembiayaan Lainnya sesuai dengan Ketentuan Peraturan Perundang-Undangan | BJ4: SURPLUS/ (DEFISIT) | BK4: Pembiayaan Netto | BL4: SILPA | BM4: Tepat Waktu | BN4: Tidak Tepat Waktu | BO4: Belum Terinformasi | BR4: PENDAPATAN DAERAH | BS4: selisih | BT4: ket | BV4: BELANJA DAERAH | BW4: selisih | BX4: ket
G5: 4 | H5: 4.1 | I5: 4.1.01 | J5: 4.1.02 | K5: 4.1.03 | L5: 4.1.04 | M5: 4.2 | N5: 4.2.01 | O5: 4.2.01.03 | P5: 4.2.01.04 | Q5: 4.2.01.05 | R5: 4.2.01.06 | S5: 4.2.01.07 | T5: 4.2.01.08 | U5: 4.2.01.09 | V5: 4.2.02 | W5: 4.2.02.01 | X5: 4.2.02.02 | Y5: 4.3 | Z5: 4.3.01 | AA5: 4.3.02 | AB5: 4.3.03 | AC5: 5 | AD5: 5.1 | AE5: 5.1.01 | AF5: 5.1.02 | AG5: 5.1.03 | AH5: 5.1.04 | AI5: 5.1.05 | AJ5: 5.1.06 | AK5: 5.2 | AL5: 5.2.01 | AM5: 5.2.02 | AN5: 5.2.03 | AO5: 5.2.04 | AP5: 5.2.05 | AQ5: 5.2.06 | AR5: 5.3 | AS5: 5.3.01 | AT5: 5.4 | AU5: 5.4.01 | AV5: 5.4.02 | AW5: 6.1 | AX5: 6.1.01 | AY5: 6.1.02 | AZ5: 6.1.03 | BA5: 6.1.04 | BB5: 6.1.05 | BC5: 6.1.06 | BD5: 6.2 | BE5: 6.2.01 | BF5: 6.2.02 | BG5: 6.2.03 | BH5: 6.2.04 | BI5: 6.2.05 | BR5: 4 | BV5: 5
B6: 1 | D6: 2 | E6: 3 | F6: 4 | G6: 5 | H6: 6 | I6: 7 | J6: 8 | K6: 9 | L6: 10 | M6: 11 | N6: 12 | V6: 22 | W6: 23 | X6: 24 | Y6: 25 | Z6: 26 | AA6: 27 | AB6: 28 | AC6: 29 | AD6: 30 | AE6: 31 | AF6: 32 | AG6: 33 | AH6: 34 | AI6: 35 | AJ6: 36 | AK6: 37 | AL6: 38 | AM6: 39 | AN6: 40 | AO6: 41 | AP6: 42 | AQ6: 43 | AR6: 44 | AS6: 45 | AT6: 46 | AU6: 47 | AV6: 48 | AW6: 49 | AX6: 50 | AY6: 51 | AZ6: 52 | BA6: 53 | BB6: 54 | BC6: 55 | BD6: 56 | BE6: 57 | BF6: 58 | BG6: 59 | BH6: 60 | BI6: 61 | BJ6: 62 | BK6: 63 | BL6: 64 | BR6: 1 | BV6: 1
D7: 2025 | E7: 2025 | F7: 2025 | G7: 2025 | H7: 2025 | I7: 2025 | J7: 2025 | K7: 2025 | L7: 2025 | M7: 2025 | N7: 2025 | V7: 2025 | W7: 2025 | X7: 2025 | Y7: 2025 | Z7: 2025 | AA7: 2025 | AB7: 2025 | AC7: 2025 | AD7: 2025 | AE7: 2025 | AF7: 2025 | AG7: 2025 | AH7: 2025 | AI7: 2025 | AJ7: 2025 | AK7: 2025 | AL7: 2025 | AM7: 2025 | AN7: 2025 | AO7: 2025 | AP7: 2025 | AQ7: 2025 | AR7: 2025 | AS7: 2025 | AT7: 2025 | AU7: 2025 | AV7: 2025 | AW7: 2025 | AX7: 2025 | AY7: 2025 | AZ7: 2025 | BA7: 2025 | BB7: 2025 | BC7: 2025 | BD7: 2025 | BE7: 2025 | BF7: 2025 | BG7: 2025 | BH7: 2025 | BI7: 2025 | BJ7: 2025 | BK7: 2025 | BL7: 2025 | BM7: 2025 | BN7: 2025 | BO7: 2025 | BP7: =SUM(BP8:BP697) -> 0 | BR7: 2025 | BV7: 2024
